Workbook
Name visitor: 'ТУР7'!$F$11:$F$46
Name visitor: 'ТУР1'!$F$11:$F$46
Name visitorscore: 'ТУР3'!$I$11:$I$46
Name homescore: 'ТУР5'!$G$11:$G$46
Name homescore: 'ТУР6'!$G$11:$G$46
Name visitor: 'ТУР5'!$F$11:$F$46
Name visitorscore: 'ТУР1'!$I$11:$I$46
Name visitorscore: 'ТУР2'!$I$11:$I$46
Name home: 'ТУР7'!$E$11:$E$46
Name home: 'ТУР1'!$E$11:$E$46
Name home: 'ТУР5'!$E$11:$E$46
Name visitorscore: 'ТУР6'!$I$11:$I$46
Name homescore: 'ТУР1'!$G$11:$G$46
Name homescore: 'ТУР8'!$G$11:$G$46
Name visitorscore: 'ТУР4'!$I$11:$I$46
Name homescore: 'ТУР4'!$G$11:$G$46
Name home: 'ТУР2'!$E$11:$E$46
Name visitorscore: 'ТУР8'!$I$11:$I$46
Name home: 'ТУР3'!$E$11:$E$46
Name visitor: 'ТУР2'!$F$11:$F$46
Name home: 'ТУР4'!$E$11:$E$46
Name visitor: 'ТУР6'!$F$11:$F$46
Name homescore: 'ТУР7'!$G$11:$G$46
Name visitor: 'ТУР8'!$F$11:$F$46
Name visitor: 'ТУР4'!$F$11:$F$46
Name home: 'ТУР6'!$E$11:$E$46
Name homescore: 'ТУР3'!$G$11:$G$46
Name homescore: 'ТУР2'!$G$11:$G$46
Name visitorscore: 'ТУР7'!$I$11:$I$46
Name visitorscore: 'ТУР5'!$I$11:$I$46
Name visitor: 'ТУР3'!$F$11:$F$46
Name home: 'ТУР8'!$E$11:$E$46

Sheet ТУР1
C1: Penalty shot cup | E1: ТУР1 | F1: 45719
U2: =C1 -> Penalty shot cup | V2: =E1 -> ТУР1 | AA2: =$F$1 -> 45719 | AG2: GP | AH2: W | AI2: D | AJ2: L | AK2: GF | AL2: GA | AM2: GD | AN2: PTS | AO2: rank
C3: Участник | D3: Команда | E3: Никнейм | U3: Никнейм | V3: М | W3: В | X3: Н | Y3: П | Z3: ЗГ | AA3: ПГ | AB3: РГ | AC3: Очки | AF3: =E4 -> masterp1ece | AG3: {=SUM(($E$11:$E$46=AF3)*(ISNUMBER($G$11:$G$46)),($F$11:$F$46=AF3)*(ISNUMBER($I$11:$I$46)))} -> 24 | AH3: {=SUM((home=AF3)*(homescore>visitorscore),(visitor=AF3)*(visitorscore>homescore))} -> 11 | AI3: {=SUM((home=AF3)*(homescore=visitorscore)*ISNUMBER(visitorscore),(visitor=AF3)*(visitorscore=homescore)*ISNUMBER(homescore))} -> 5 | AJ3: {=SUM((home=AF3)*(homescore<visitorscore),(visitor=AF3)*(visitorscore<homescore))} -> 8 | AK3: {=SUMIF(home,AF3,homescore)+SUMIF(visitor,AF3,visitorscore)} -> 87 | AL3: {=SUMIF(home,AF3,visitorscore)+SUMIF(visitor,AF3,homescore)} -> 76 | AM3: =AK3-AL3 -> 11 | AN3: {=AH3*Options!$B$2+AI3*Options!$B$3+AJ3*Options!$B$4+VLOOKUP(AF3,$E$4:$F$9,2,0)} -> 38 | AO3: =AK3+AM3*10000+AN3*100000000 -> 3800110087
C4: Эдуард А. | D4: Италия | E4: masterp1ece | U4: {=INDEX($AF$3:$AF$5,MATCH(LARGE($AO$3:$AO$5-ROW($AO$3:$AO$5)/COUNT($AO$3:$AO$5),ROW(U4)-ROW(U$4)+1),$AO$3:$AO$5-ROW($AO$3:$AO$5)/COUNT($AO$3:$AO$5),0))} -> masterp1ece | V4: {=VLOOKUP($U4,$AF$3:$AN$5,2,0)} -> 24 | W4: {=VLOOKUP($U4,$AF$3:$AN$5,3,0)} -> 11 | X4: {=VLOOKUP($U4,$AF$3:$AN$5,4,0)} -> 5 | Y4: {=VLOOKUP($U4,$AF$3:$AN$5,5,0)} -> 8 | Z4: {=VLOOKUP($U4,$AF$3:$AN$5,6,0)} -> 87 | AA4: {=VLOOKUP($U4,$AF$3:$AN$5,7,0)} -> 76 | AB4: {=VLOOKUP($U4,$AF$3:$AN$5,8,0)} -> 11 | AC4: {=VLOOKUP($U4,$AF$3:$AN$5,9,0)} -> 38 | AF4: =E5 -> CMEX | AG4: {=SUM(($E$11:$E$46=AF4)*(ISNUMBER($G$11:$G$46)),($F$11:$F$46=AF4)*(ISNUMBER($I$11:$I$46)))} -> 24 | AH4: {=SUM((home=AF4)*(homescore>visitorscore),(visitor=AF4)*(visitorscore>homescore))} -> 6 | AI4: {=SUM((home=AF4)*(homescore=visitorscore)*ISNUMBER(visitorscore),(visitor=AF4)*(visitorscore=homescore)*ISNUMBER(homescore))} -> 7 | AJ4: {=SUM((home=AF4)*(homescore<visitorscore),(visitor=AF4)*(visitorscore<homescore))} -> 11 | AK4: {=SUMIF(home,AF4,homescore)+SUMIF(visitor,AF4,visitorscore)} -> 85 | AL4: {=SUMIF(home,AF4,visitorscore)+SUMIF(visitor,AF4,homescore)} -> 93 | AM4: =AK4-AL4 -> -8 | AN4: {=AH4*Options!$B$2+AI4*Options!$B$3+AJ4*Options!$B$4+VLOOKUP(AF4,$E$4:$F$9,2,0)} -> 25 | AO4: =AK4+AM4*10000+AN4*100000000 -> 2499920085
C5: Рим С. | D5: Германия | E5: CMEX | U5: {=INDEX($AF$3:$AF$5,MATCH(LARGE($AO$3:$AO$5-ROW($AO$3:$AO$5)/COUNT($AO$3:$AO$5),ROW(U5)-ROW(U$4)+1),$AO$3:$AO$5-ROW($AO$3:$AO$5)/COUNT($AO$3:$AO$5),0))} -> flame | V5: {=VLOOKUP($U5,$AF$3:$AN$5,2,0)} -> 24 | W5: {=VLOOKUP($U5,$AF$3:$AN$5,3,0)} -> 9 | X5: {=VLOOKUP($U5,$AF$3:$AN$5,4,0)} -> 8 | Y5: {=VLOOKUP($U5,$AF$3:$AN$5,5,0)} -> 7 | Z5: {=VLOOKUP($U5,$AF$3:$AN$5,6,0)} -> 84 | AA5: {=VLOOKUP($U5,$AF$3:$AN$5,7,0)} -> 87 | AB5: {=VLOOKUP($U5,$AF$3:$AN$5,8,0)} -> -3 | AC5: {=VLOOKUP($U5,$AF$3:$AN$5,9,0)} -> 35 | AF5: =E6 -> flame | AG5: {=SUM(($E$11:$E$46=AF5)*(ISNUMBER($G$11:$G$46)),($F$11:$F$46=AF5)*(ISNUMBER($I$11:$I$46)))} -> 24 | AH5: {=SUM((home=AF5)*(homescore>visitorscore),(visitor=AF5)*(visitorscore>homescore))} -> 9 | AI5: {=SUM((home=AF5)*(homescore=visitorscore)*ISNUMBER(visitorscore),(visitor=AF5)*(visitorscore=homescore)*ISNUMBER(homescore))} -> 8 | AJ5: {=SUM((home=AF5)*(homescore<visitorscore),(visitor=AF5)*(visitorscore<homescore))} -> 7 | AK5: {=SUMIF(home,AF5,homescore)+SUMIF(visitor,AF5,visitorscore)} -> 84 | AL5: {=SUMIF(home,AF5,visitorscore)+SUMIF(visitor,AF5,homescore)} -> 87 | AM5: =AK5-AL5 -> -3 | AN5: {=AH5*Options!$B$2+AI5*Options!$B$3+AJ5*Options!$B$4+VLOOKUP(AF5,$E$4:$F$9,2,0)} -> 35 | AO5: =AK5+AM5*10000+AN5*100000000 -> 3499970084
C6: Андрей С. | D6: Аргентина | E6: flame | U6: {=INDEX($AF$3:$AF$5,MATCH(LARGE($AO$3:$AO$5-ROW($AO$3:$AO$5)/COUNT($AO$3:$AO$5),ROW(U6)-ROW(U$4)+1),$AO$3:$AO$5-ROW($AO$3:$AO$5)/COUNT($AO$3:$AO$5),0))} -> CMEX | V6: {=VLOOKUP($U6,$AF$3:$AN$5,2,0)} -> 24 | W6: {=VLOOKUP($U6,$AF$3:$AN$5,3,0)} -> 6 | X6: {=VLOOKUP($U6,$AF$3:$AN$5,4,0)} -> 7 | Y6: {=VLOOKUP($U6,$AF$3:$AN$5,5,0)} -> 11 | Z6: {=VLOOKUP($U6,$AF$3:$AN$5,6,0)} -> 85 | AA6: {=VLOOKUP($U6,$AF$3:$AN$5,7,0)} -> 93 | AB6: {=VLOOKUP($U6,$AF$3:$AN$5,8,0)} -> -8 | AC6: {=VLOOKUP($U6,$AF$3:$AN$5,9,0)} -> 25
B8: пуск | C8: Команда | D8: Команда | E8: Дом | F8: Гость | G8: Результат | K8: Cчет | N8: PS | S8: PS | T8: № матча | U8: Матч | V8: Счет
B11: 0.33333333 | C11: =TRIM($D$4) -> Италия | D11: =TRIM($D$5) -> Германия | E11: =$E$4 -> masterp1ece | F11: =$E$5 -> CMEX | G11: =SUM(K11) -> 5 | I11: =SUM(L11) -> 5 | K11: 5 | L11: 5 | M11: 1 | N11: 1 | S11: 1 | T11: 97 | U11: =TEXT(B11,"h:mm")&" "&($C$1)&" ("&C11&") "&E11&" "&" - ("&D11&") "&F11&"" -> 8:00 Penalty shot cup (Италия) masterp1ece - (Германия) CMEX | V11: =TEXT(G11,"0")&":"&TEXT(I11,"0") -> 5:5
B12: 0.33680556 | C12: =TRIM($D$4) -> Италия | D12: =TRIM($D$5) -> Германия | E12: =$E$4 -> masterp1ece | F12: =$E$5 -> CMEX | G12: =SUM(K12) -> 5 | I12: =SUM(L12) -> 3 | K12: 5 | L12: 3 | N12: 2 | S12: 2 | T12: 98 | U12: =TEXT(B12,"h:mm")&" "&($C$1)&" ("&C12&") "&E12&" "&" - ("&D12&") "&F12&"" -> 8:05 Penalty shot cup (Италия) masterp1ece - (Германия) CMEX | V12: =TEXT(G12,"0")&":"&TEXT(I12,"0") -> 5:3
B13: 0.34027778 | C13: =TRIM($D$4) -> Италия | D13: =TRIM($D$5) -> Германия | E13: =$E$4 -> masterp1ece | F13: =$E$5 -> CMEX | G13: =SUM(K13) -> 4 | I13: =SUM(L13) -> 2 | K13: 4 | L13: 2 | N13: 3 | S13: 3 | T13: 99 | U13: =TEXT(B13,"h:mm")&" "&($C$1)&" ("&C13&") "&E13&" "&" - ("&D13&") "&F13&"" -> 8:10 Penalty shot cup (Италия) masterp1ece - (Германия) CMEX | V13: =TEXT(G13,"0")&":"&TEXT(I13,"0") -> 4:2
B14: 0.34375 | C14: =TRIM($D$6) -> Аргентина | D14: =TRIM($D$5) -> Германия | E14: =$E$6 -> flame | F14: =$E$5 -> CMEX | G14: =SUM(K14) -> 3 | I14: =SUM(L14) -> 4 | K14: 3 | L14: 4 | N14: 1 | S14: 1 | T14: 100 | U14: =TEXT(B14,"h:mm")&" "&($C$1)&" ("&C14&") "&E14&" "&" - ("&D14&") "&F14&"" -> 8:15 Penalty shot cup (Аргентина) flame - (Германия) CMEX | V14: =TEXT(G14,"0")&":"&TEXT(I14,"0") -> 3:4
B15: 0.34722222 | C15: =TRIM($D$6) -> Аргентина | D15: =TRIM($D$5) -> Германия | E15: =$E$6 -> flame | F15: =$E$5 -> CMEX | G15: =SUM(K15) -> 4 | I15: =SUM(L15) -> 4 | K15: 4 | L15: 4 | N15: 2 | S15: 2 | T15: 101 | U15: =TEXT(B15,"h:mm")&" "&($C$1)&" ("&C15&") "&E15&" "&" - ("&D15&") "&F15&"" -> 8:20 Penalty shot cup (Аргентина) flame - (Германия) CMEX | V15: =TEXT(G15,"0")&":"&TEXT(I15,"0") -> 4:4
B16: 0.35069444 | C16: =TRIM($D$6) -> Аргентина | D16: =TRIM($D$5) -> Германия | E16: =$E$6 -> flame | F16: =$E$5 -> CMEX | G16: =SUM(K16) -> 5 | I16: =SUM(L16) -> 5 | K16: 5 | L16: 5 | N16: 3 | S16: 3 | T16: 102 | U16: =TEXT(B16,"h:mm")&" "&($C$1)&" ("&C16&") "&E16&" "&" - ("&D16&") "&F16&"" -> 8:25 Penalty shot cup (Аргентина) flame - (Германия) CMEX | V16: =TEXT(G16,"0")&":"&TEXT(I16,"0") -> 5:5
B17: 0.35416667 | C17: =TRIM($D$6) -> Аргентина | D17: =TRIM($D$4) -> Италия | E17: =$E$6 -> flame | F17: =$E$4 -> masterp1ece | G17: =SUM(K17) -> 5 | I17: =SUM(L17) -> 4 | K17: 5 | L17: 4 | N17: 1 | S17: 1 | T17: 103 | U17: =TEXT(B17,"h:mm")&" "&($C$1)&" ("&C17&") "&E17&" "&" - ("&D17&") "&F17&"" -> 8:30 Penalty shot cup (Аргентина) flame - (Италия) masterp1ece | V17: =TEXT(G17,"0")&":"&TEXT(I17,"0") -> 5:4
B18: 0.35763889 | C18: =TRIM($D$6) -> Аргентина | D18: =TRIM($D$4) -> Италия | E18: =$E$6 -> flame | F18: =$E$4 -> masterp1ece | G18: =SUM(K18) -> 0 | I18: =SUM(L18,O18) -> 0 | K18: - | L18: - | N18: 2 | S18: 2 | T18: 104 | U18: =TEXT(B18,"h:mm")&" "&($C$1)&" ("&C18&") "&E18&" "&" - ("&D18&") "&F18&"" -> 8:35 Penalty shot cup (Аргентина) flame - (Италия) masterp1ece | V18: =TEXT(G18,"0")&":"&TEXT(I18,"0") -> 0:0
B19: 0.36111111 | C19: =TRIM($D$6) -> Аргентина | D19: =TRIM($D$4) -> Италия | E19: =$E$6 -> flame | F19: =$E$4 -> masterp1ece | G19: =SUM(K19) -> 4 | I19: =SUM(L19,O19) -> 3 | K19: 4 | L19: 3 | N19: 3 | S19: 3 | T19: 105 | U19: =TEXT(B19,"h:mm")&" "&($C$1)&" ("&C19&") "&E19&" "&" - ("&D19&") "&F19&"" -> 8:40 Penalty shot cup (Аргентина) flame - (Италия) masterp1ece | V19: =TEXT(G19,"0")&":"&TEXT(I19,"0") -> 4:3
B20: 0.36458333 | C20: =TRIM($D$5) -> Германия | D20: =TRIM($D$4) -> Италия | E20: =$E$5 -> CMEX | F20: =$E$4 -> masterp1ece | G20: =SUM(K20) -> 4 | I20: =SUM(L20,O20) -> 5 | K20: 4 | L20: 5 | N20: 1 | S20: 1 | T20: 106 | U20: =TEXT(B20,"h:mm")&" "&($C$1)&" ("&C20&") "&E20&" "&" - ("&D20&") "&F20&"" -> 8:45 Penalty shot cup (Германия) CMEX - (Италия) masterp1ece | V20: =TEXT(G20,"0")&":"&TEXT(I20,"0") -> 4:5
B21: 0.36805556 | C21: =TRIM($D$5) -> Германия | D21: =TRIM($D$4) -> Италия | E21: =$E$5 -> CMEX | F21: =$E$4 -> masterp1ece | G21: =SUM(K21) -> 2 | I21: =SUM(L21,O21) -> 4 | K21: 2 | L21: 4 | N21: 2 | S21: 2 | T21: 107 | U21: =TEXT(B21,"h:mm")&" "&($C$1)&" ("&C21&") "&E21&" "&" - ("&D21&") "&F21&"" -> 8:50 Penalty shot cup (Германия) CMEX - (Италия) masterp1ece | V21: =TEXT(G21,"0")&":"&TEXT(I21,"0") -> 2:4
B22: 0.37152778 | C22: =TRIM($D$5) -> Германия | D22: =TRIM($D$4) -> Италия | E22: =$E$5 -> CMEX | F22: =$E$4 -> masterp1ece | G22: =SUM(K22) -> 5 | I22: =SUM(L22,O22) -> 3 | J22: - | K22: 5 | L22: 3 | N22: 3 | S22: 3 | T22: 108 | U22: =TEXT(B22,"h:mm")&" "&($C$1)&" ("&C22&") "&E22&" "&" - ("&D22&") "&F22&"" -> 8:55 Penalty shot cup (Германия) CMEX - (Италия) masterp1ece | V22: =TEXT(G22,"0")&":"&TEXT(I22,"0") -> 5:3
B23: 0.375 | C23: =TRIM($D$5) -> Германия | D23: =TRIM($D$6) -> Аргентина | E23: =$E$5 -> CMEX | F23: =$E$6 -> flame | G23: =SUM(K23) -> 4 | I23: =SUM(L23) -> 5 | K23: 4 | L23: 5 | N23: 1 | S23: 1 | T23: 109 | U23: =TEXT(B23,"h:mm")&" "&($C$1)&" ("&C23&") "&E23&" "&" - ("&D23&") "&F23&"" -> 9:00 Penalty shot cup (Германия) CMEX - (Аргентина) flame | V23: =TEXT(G23,"0")&":"&TEXT(I23,"0") -> 4:5
B24: 0.37847222 | C24: =TRIM($D$5) -> Германия | D24: =TRIM($D$6) -> Аргентина | E24: =$E$5 -> CMEX | F24: =$E$6 -> flame | G24: =SUM(K24) -> 4 | I24: =SUM(L24) -> 5 | K24: 4 | L24: 5 | N24: 2 | S24: 2 | T24: 110 | U24: =TEXT(B24,"h:mm")&" "&($C$1)&" ("&C24&") "&E24&" "&" - ("&D24&") "&F24&"" -> 9:05 Penalty shot cup (Германия) CMEX - (Аргентина) flame | V24: =TEXT(G24,"0")&":"&TEXT(I24,"0") -> 4:5
B25: 0.38194444 | C25: =TRIM($D$5) -> Германия | D25: =TRIM($D$6) -> Аргентина | E25: =$E$5 -> CMEX | F25: =$E$6 -> flame | G25: =SUM(K25) -> 4 | I25: =SUM(L25) -> 4 | K25: 4 | L25: 4 | N25: 3 | S25: 3 | T25: 111 | U25: =TEXT(B25,"h:mm")&" "&($C$1)&" ("&C25&") "&E25&" "&" - ("&D25&") "&F25&"" -> 9:10 Penalty shot cup (Германия) CMEX - (Аргентина) flame | V25: =TEXT(G25,"0")&":"&TEXT(I25,"0") -> 4:4
B26: 0.38541667 | C26: =TRIM($D$4) -> Италия | D26: =TRIM($D$6) -> Аргентина | E26: =$E$4 -> masterp1ece | F26: =$E$6 -> flame | G26: =SUM(K26) -> 5 | I26: =SUM(L26) -> 3 | K26: 5 | L26: 3 | N26: 1 | S26: 1 | T26: 112 | U26: =TEXT(B26,"h:mm")&" "&($C$1)&" ("&C26&") "&E26&" "&" - ("&D26&") "&F26&"" -> 9:15 Penalty shot cup (Италия) masterp1ece - (Аргентина) flame | V26: =TEXT(G26,"0")&":"&TEXT(I26,"0") -> 5:3
B27: 0.38888889 | C27: =TRIM($D$4) -> Италия | D27: =TRIM($D$6) -> Аргентина | E27: =$E$4 -> masterp1ece | F27: =$E$6 -> flame | G27: =SUM(K27) -> 4 | I27: =SUM(L27) -> 2 | K27: 4 | L27: 2 | N27: 2 | S27: 2 | T27: 113 | U27: =TEXT(B27,"h:mm")&" "&($C$1)&" ("&C27&") "&E27&" "&" - ("&D27&") "&F27&"" -> 9:20 Penalty shot cup (Италия) masterp1ece - (Аргентина) flame | V27: =TEXT(G27,"0")&":"&TEXT(I27,"0") -> 4:2
B28: 0.39236111 | C28: =TRIM($D$4) -> Италия | D28: =TRIM($D$6) -> Аргентина | E28: =$E$4 -> masterp1ece | F28: =$E$6 -> flame | G28: =SUM(K28) -> 5 | I28: =SUM(L28) -> 3 | K28: 5 | L28: 3 | N28: 3 | S28: 3 | T28: 114 | U28: =TEXT(B28,"h:mm")&" "&($C$1)&" ("&C28&") "&E28&" "&" - ("&D28&") "&F28&"" -> 9:25 Penalty shot cup (Италия) masterp1ece - (Аргентина) flame | V28: =TEXT(G28,"0")&":"&TEXT(I28,"0") -> 5:3
B29: 0.39583333 | C29: =TRIM($D$4) -> Италия | D29: =TRIM($D$5) -> Германия | E29: =$E$4 -> masterp1ece | F29: =$E$5 -> CMEX | G29: =SUM(K29) -> 3 | I29: =SUM(L29) -> 1 | K29: 3 | L29: 1 | N29: 1 | S29: 1 | T29: 115 | U29: =TEXT(B29,"h:mm")&" "&($C$1)&" ("&C29&") "&E29&" "&" - ("&D29&") "&F29&"" -> 9:30 Penalty shot cup (Италия) masterp1ece - (Германия) CMEX | V29: =TEXT(G29,"0")&":"&TEXT(I29,"0") -> 3:1
B30: 0.39930556 | C30: =TRIM($D$4) -> Италия | D30: =TRIM($D$5) -> Германия | E30: =$E$4 -> masterp1ece | F30: =$E$5 -> CMEX | G30: =SUM(K30) -> 4 | I30: =SUM(L30,O30) -> 1 | K30: 4 | L30: 1 | N30: 2 | S30: 2 | T30: 116 | U30: =TEXT(B30,"h:mm")&" "&($C$1)&" ("&C30&") "&E30&" "&" - ("&D30&") "&F30&"" -> 9:35 Penalty shot cup (Италия) masterp1ece - (Германия) CMEX | V30: =TEXT(G30,"0")&":"&TEXT(I30,"0") -> 4:1
B31: 0.40277778 | C31: =TRIM($D$4) -> Италия | D31: =TRIM($D$5) -> Германия | E31: =$E$4 -> masterp1ece | F31: =$E$5 -> CMEX | G31: =SUM(K31) -> 2 | I31: =SUM(L31,O31) -> 3 | K31: 2 | L31: 3 | N31: 3 | S31: 3 | T31: 117 | U31: =TEXT(B31,"h:mm")&" "&($C$1)&" ("&C31&") "&E31&" "&" - ("&D31&") "&F31&"" -> 9:40 Penalty shot cup (Италия) masterp1ece - (Германия) CMEX | V31: =TEXT(G31,"0")&":"&TEXT(I31,"0") -> 2:3
B32: 0.40625 | C32: =TRIM($D$6) -> Аргентина | D32: =TRIM($D$5) -> Германия | E32: =$E$6 -> flame | F32: =$E$5 -> CMEX | G32: =SUM(K32) -> 3 | I32: =SUM(L32,O32) -> 4 | K32: 3 | L32: 4 | N32: 1 | S32: 1 | T32: 118 | U32: =TEXT(B32,"h:mm")&" "&($C$1)&" ("&C32&") "&E32&" "&" - ("&D32&") "&F32&"" -> 9:45 Penalty shot cup (Аргентина) flame - (Германия) CMEX | V32: =TEXT(G32,"0")&":"&TEXT(I32,"0") -> 3:4
B33: 0.40972222 | C33: =TRIM($D$6) -> Аргентина | D33: =TRIM($D$5) -> Германия | E33: =$E$6 -> flame | F33: =$E$5 -> CMEX | G33: =SUM(K33) -> 0 | I33: =SUM(L33,O33) -> 0 | J33: 5 | K33: - | L33: - | N33: 2 | S33: 2 | T33: 119 | U33: =TEXT(B33,"h:mm")&" "&($C$1)&" ("&C33&") "&E33&" "&" - ("&D33&") "&F33&"" -> 9:50 Penalty shot cup (Аргентина) flame - (Германия) CMEX | V33: =TEXT(G33,"0")&":"&TEXT(I33,"0") -> 0:0
B34: 0.41319444 | C34: =TRIM($D$6) -> Аргентина | D34: =TRIM($D$5) -> Германия | E34: =$E$6 -> flame | F34: =$E$5 -> CMEX | G34: =SUM(K34) -> 4 | I34: =SUM(L34,O34) -> 3 | J34: 2 | K34: 4 | L34: 3 | N34: 3 | S34: 3 | T34: 120 | U34: =TEXT(B34,"h:mm")&" "&($C$1)&" ("&C34&") "&E34&" "&" - ("&D34&") "&F34&"" -> 9:55 Penalty shot cup (Аргентина) flame - (Германия) CMEX | V34: =TEXT(G34,"0")&":"&TEXT(I34,"0") -> 4:3
B35: 0.41666667 | C35: =TRIM($D$6) -> Аргентина | D35: =TRIM($D$4) -> Италия | E35: =$E$6 -> flame | F35: =$E$4 -> masterp1ece | G35: =SUM(K35) -> 3 | I35: =SUM(L35) -> 3 | J35: 3 | K35: 3 | L35: 3 | N35: 1 | S35: 1 | T35: 121 | U35: =TEXT(B35,"h:mm")&" "&($C$1)&" ("&C35&") "&E35&" "&" - ("&D35&") "&F35&"" -> 10:00 Penalty shot cup (Аргентина) flame - (Италия) masterp1ece | V35: =TEXT(G35,"0")&":"&TEXT(I35,"0") -> 3:3
B36: 0.42013889 | C36: =TRIM($D$6) -> Аргентина | D36: =TRIM($D$4) -> Италия | E36: =$E$6 -> flame | F36: =$E$4 -> masterp1ece | G36: =SUM(K36) -> 4 | I36: =SUM(L36) -> 3 | K36: 4 | L36: 3 | N36: 2 | S36: 2 | T36: 122 | U36: =TEXT(B36,"h:mm")&" "&($C$1)&" ("&C36&") "&E36&" "&" - ("&D36&") "&F36&"" -> 10:05 Penalty shot cup (Аргентина) flame - (Италия) masterp1ece | V36: =TEXT(G36,"0")&":"&TEXT(I36,"0") -> 4:3
B37: 0.42361111 | C37: =TRIM($D$6) -> Аргентина | D37: =TRIM($D$4) -> Италия | E37: =$E$6 -> flame | F37: =$E$4 -> masterp1ece | G37: =SUM(K37) -> 4 | I37: =SUM(L37) -> 2 | K37: 4 | L37: 2 | N37: 3 | S37: 3 | T37: 123 | U37: =TEXT(B37,"h:mm")&" "&($C$1)&" ("&C37&") "&E37&" "&" - ("&D37&") "&F37&"" -> 10:10 Penalty shot cup (Аргентина) flame - (Италия) masterp1ece | V37: =TEXT(G37,"0")&":"&TEXT(I37,"0") -> 4:2
B38: 0.42708333 | C38: =TRIM($D$5) -> Германия | D38: =TRIM($D$4) -> Италия | E38: =$E$5 -> CMEX | F38: =$E$4 -> masterp1ece | G38: =SUM(K38) -> 5 | I38: =SUM(L38) -> 3 | K38: 5 | L38: 3 | S38: 1 | T38: 124 | U38: =TEXT(B38,"h:mm")&" "&($C$1)&" ("&C38&") "&E38&" "&" - ("&D38&") "&F38&"" -> 10:15 Penalty shot cup (Германия) CMEX - (Италия) masterp1ece | V38: =TEXT(G38,"0")&":"&TEXT(I38,"0") -> 5:3
B39: 0.43055556 | C39: =TRIM($D$5) -> Германия | D39: =TRIM($D$4) -> Италия | E39: =$E$5 -> CMEX | F39: =$E$4 -> masterp1ece | G39: =SUM(K39) -> 4 | I39: =SUM(L39) -> 4 | K39: 4 | L39: 4 | N39: 2 | S39: 2 | T39: 125 | U39: =TEXT(B39,"h:mm")&" "&($C$1)&" ("&C39&") "&E39&" "&" - ("&D39&") "&F39&"" -> 10:20 Penalty shot cup (Германия) CMEX - (Италия) masterp1ece | V39: =TEXT(G39,"0")&":"&TEXT(I39,"0") -> 4:4
B40: 0.43402778 | C40: =TRIM($D$5) -> Германия | D40: =TRIM($D$4) -> Италия | E40: =$E$5 -> CMEX | F40: =$E$4 -> masterp1ece | G40: =SUM(K40) -> 5 | I40: =SUM(L40) -> 3 | K40: 5 | L40: 3 | N40: 3 | S40: 3 | T40: 126 | U40: =TEXT(B40,"h:mm")&" "&($C$1)&" ("&C40&") "&E40&" "&" - ("&D40&") "&F40&"" -> 10:25 Penalty shot cup (Германия) CMEX - (Италия) masterp1ece | V40: =TEXT(G40,"0")&":"&TEXT(I40,"0") -> 5:3
B41: 0.4375 | C41: =TRIM($D$5) -> Германия | D41: =TRIM($D$6) -> Аргентина | E41: =$E$5 -> CMEX | F41: =$E$6 -> flame | G41: =SUM(K41) -> 4 | I41: =SUM(L41) -> 5 | K41: 4 | L41: 5 | N41: 3 | S41: 1 | T41: 127 | U41: =TEXT(B41,"h:mm")&" "&($C$1)&" ("&C41&") "&E41&" "&" - ("&D41&") "&F41&"" -> 10:30 Penalty shot cup (Германия) CMEX - (Аргентина) flame | V41: =TEXT(G41,"0")&":"&TEXT(I41,"0") -> 4:5
B42: 0.44097222 | C42: =TRIM($D$5) -> Германия | D42: =TRIM($D$6) -> Аргентина | E42: =$E$5 -> CMEX | F42: =$E$6 -> flame | G42: =SUM(K42) -> 5 | I42: =SUM(L42) -> 5 | K42: 5 | L42: 5 | N42: 3 | S42: 2 | T42: 128 | U42: =TEXT(B42,"h:mm")&" "&($C$1)&" ("&C42&") "&E42&" "&" - ("&D42&") "&F42&"" -> 10:35 Penalty shot cup (Германия) CMEX - (Аргентина) flame | V42: =TEXT(G42,"0")&":"&TEXT(I42,"0") -> 5:5
B43: 0.44444444 | C43: =TRIM($D$5) -> Германия | D43: =TRIM($D$6) -> Аргентина | E43: =$E$5 -> CMEX | F43: =$E$6 -> flame | G43: =SUM(K43) -> 4 | I43: =SUM(L43) -> 5 | K43: 4 | L43: 5 | N43: 3 | S43: 3 | T43: 129 | U43: =TEXT(B43,"h:mm")&" "&($C$1)&" ("&C43&") "&E43&" "&" - ("&D43&") "&F43&"" -> 10:40 Penalty shot cup (Германия) CMEX - (Аргентина) flame | V43: =TEXT(G43,"0")&":"&TEXT(I43,"0") -> 4:5
B44: 0.44791667 | C44: =TRIM($D$4) -> Италия | D44: =TRIM($D$6) -> Аргентина | E44: =$E$4 -> masterp1ece | F44: =$E$6 -> flame | G44: =SUM(K44) -> 5 | I44: =SUM(L44) -> 3 | K44: 5 | L44: 3 | N44: 3 | S44: 1 | T44: 130 | U44: =TEXT(B44,"h:mm")&" "&($C$1)&" ("&C44&") "&E44&" "&" - ("&D44&") "&F44&"" -> 10:45 Penalty shot cup (Италия) masterp1ece - (Аргентина) flame | V44: =TEXT(G44,"0")&":"&TEXT(I44,"0") -> 5:3
B45: 0.45138889 | C45: =TRIM($D$4) -> Италия | D45: =TRIM($D$6) -> Аргентина | E45: =$E$4 -> masterp1ece | F45: =$E$6 -> flame | G45: =SUM(K45) -> 4 | I45: =SUM(L45) -> 1 | K45: 4 | L45: 1 | N45: 3 | S45: 2 | T45: 131 | U45: =TEXT(B45,"h:mm")&" "&($C$1)&" ("&C45&") "&E45&" "&" - ("&D45&") "&F45&"" -> 10:50 Penalty shot cup (Италия) masterp1ece - (Аргентина) flame | V45: =TEXT(G45,"0")&":"&TEXT(I45,"0") -> 4:1
B46: 0.45486111 | C46: =TRIM($D$4) -> Италия | D46: =TRIM($D$6) -> Аргентина | E46: =$E$4 -> masterp1ece | F46: =$E$6 -> flame | G46: =SUM(K46) -> 4 | I46: =SUM(L46) -> 4 | K46: 4 | L46: 4 | N46: 3 | S46: 3 | T46: 132 | U46: =TEXT(B46,"h:mm")&" "&($C$1)&" ("&C46&") "&E46&" "&" - ("&D46&") "&F46&"" -> 10:55 Penalty shot cup (Италия) masterp1ece - (Аргентина) flame | V46: =TEXT(G46,"0")&":"&TEXT(I46,"0") -> 4:4
C48: Гл.Судья - | F48: Ст.Судья -

Sheet ТУР2
C1: ='ТУР1'!$C$1 -> Penalty shot cup | E1: ТУР2 | F1: ='ТУР1'!$F$1 -> 45719
U2: =C1 -> Penalty shot cup | V2: =E1 -> ТУР2 | AA2: =$F$1 -> 45719 | AG2: GP | AH2: W | AI2: D | AJ2: L | AK2: GF | AL2: GA | AM2: GD | AN2: PTS | AO2: rank
C3: Участник | D3: Команда | E3: Никнейм | U3: Никнейм | V3: М | W3: В | X3: Н | Y3: П | Z3: ЗГ | AA3: ПГ | AB3: РГ | AC3: Очки | AF3: =E4 -> masterp1ece | AG3: {=SUM(($E$11:$E$46=AF3)*(ISNUMBER($G$11:$G$46)),($F$11:$F$46=AF3)*(ISNUMBER($I$11:$I$46)))} -> 24 | AH3: {=SUM(('ТУР2'!home=AF3)*('ТУР2'!homescore>'ТУР2'!visitorscore),('ТУР2'!visitor=AF3)*('ТУР2'!visitorscore>'ТУР2'!homescore))} -> 9 | AI3: {=SUM(('ТУР2'!home=AF3)*('ТУР2'!homescore='ТУР2'!visitorscore)*ISNUMBER('ТУР2'!visitorscore),('ТУР2'!visitor=AF3)*('ТУР2'!visitorscore='ТУР2'!homescore)*ISNUMBER('ТУР2'!homescore))} -> 8 | AJ3: {=SUM(('ТУР2'!home=AF3)*('ТУР2'!homescore<'ТУР2'!visitorscore),('ТУР2'!visitor=AF3)*('ТУР2'!visitorscore<'ТУР2'!homescore))} -> 7 | AK3: {=SUMIF('ТУР2'!home,AF3,'ТУР2'!homescore)+SUMIF('ТУР2'!visitor,AF3,'ТУР2'!visitorscore)} -> 81 | AL3: {=SUMIF('ТУР2'!home,AF3,'ТУР2'!visitorscore)+SUMIF('ТУР2'!visitor,AF3,'ТУР2'!homescore)} -> 76 | AM3: =AK3-AL3 -> 5 | AN3: {=AH3*Options!$B$2+AI3*Options!$B$3+AJ3*Options!$B$4+VLOOKUP(AF3,$E$4:$F$9,2,0)} -> 35 | AO3: =AK3+AM3*10000+AN3*100000000 -> 3500050081
C4: ='ТУР1'!$C$4 -> Эдуард А. | D4: Нидерланды | E4: ='ТУР1'!$E$4 -> masterp1ece | U4: {=INDEX($AF$3:$AF$5,MATCH(LARGE($AO$3:$AO$5-ROW($AO$3:$AO$5)/COUNT($AO$3:$AO$5),ROW(U4)-ROW(U$4)+1),$AO$3:$AO$5-ROW($AO$3:$AO$5)/COUNT($AO$3:$AO$5),0))} -> masterp1ece | V4: {=VLOOKUP($U4,$AF$3:$AN$5,2,0)} -> 24 | W4: {=VLOOKUP($U4,$AF$3:$AN$5,3,0)} -> 9 | X4: {=VLOOKUP($U4,$AF$3:$AN$5,4,0)} -> 8 | Y4: {=VLOOKUP($U4,$AF$3:$AN$5,5,0)} -> 7 | Z4: {=VLOOKUP($U4,$AF$3:$AN$5,6,0)} -> 81 | AA4: {=VLOOKUP($U4,$AF$3:$AN$5,7,0)} -> 76 | AB4: {=VLOOKUP($U4,$AF$3:$AN$5,8,0)} -> 5 | AC4: {=VLOOKUP($U4,$AF$3:$AN$5,9,0)} -> 35 | AF4: =E5 -> CMEX | AG4: {=SUM(($E$11:$E$46=AF4)*(ISNUMBER($G$11:$G$46)),($F$11:$F$46=AF4)*(ISNUMBER($I$11:$I$46)))} -> 24 | AH4: {=SUM(('ТУР2'!home=AF4)*('ТУР2'!homescore>'ТУР2'!visitorscore),('ТУР2'!visitor=AF4)*('ТУР2'!visitorscore>'ТУР2'!homescore))} -> 7 | AI4: {=SUM(('ТУР2'!home=AF4)*('ТУР2'!homescore='ТУР2'!visitorscore)*ISNUMBER('ТУР2'!visitorscore),('ТУР2'!visitor=AF4)*('ТУР2'!visitorscore='ТУР2'!homescore)*ISNUMBER('ТУР2'!homescore))} -> 11 | AJ4: {=SUM(('ТУР2'!home=AF4)*('ТУР2'!homescore<'ТУР2'!visitorscore),('ТУР2'!visitor=AF4)*('ТУР2'!visitorscore<'ТУР2'!homescore))} -> 6 | AK4: {=SUMIF('ТУР2'!home,AF4,'ТУР2'!homescore)+SUMIF('ТУР2'!visitor,AF4,'ТУР2'!visitorscore)} -> 78 | AL4: {=SUMIF('ТУР2'!home,AF4,'ТУР2'!visitorscore)+SUMIF('ТУР2'!visitor,AF4,'ТУР2'!homescore)} -> 78 | AM4: =AK4-AL4 -> 0 | AN4: {=AH4*Options!$B$2+AI4*Options!$B$3+AJ4*Options!$B$4+VLOOKUP(AF4,$E$4:$F$9,2,0)} -> 32 | AO4: =AK4+AM4*10000+AN4*100000000 -> 3200000078
C5: ='ТУР1'!$C$5 -> Рим С. | D5: Англия | E5: ='ТУР1'!$E$5 -> CMEX | U5: {=INDEX($AF$3:$AF$5,MATCH(LARGE($AO$3:$AO$5-ROW($AO$3:$AO$5)/COUNT($AO$3:$AO$5),ROW(U5)-ROW(U$4)+1),$AO$3:$AO$5-ROW($AO$3:$AO$5)/COUNT($AO$3:$AO$5),0))} -> CMEX | V5: {=VLOOKUP($U5,$AF$3:$AN$5,2,0)} -> 24 | W5: {=VLOOKUP($U5,$AF$3:$AN$5,3,0)} -> 7 | X5: {=VLOOKUP($U5,$AF$3:$AN$5,4,0)} -> 11 | Y5: {=VLOOKUP($U5,$AF$3:$AN$5,5,0)} -> 6 | Z5: {=VLOOKUP($U5,$AF$3:$AN$5,6,0)} -> 78 | AA5: {=VLOOKUP($U5,$AF$3:$AN$5,7,0)} -> 78 | AB5: {=VLOOKUP($U5,$AF$3:$AN$5,8,0)} -> 0 | AC5: {=VLOOKUP($U5,$AF$3:$AN$5,9,0)} -> 32 | AF5: =E6 -> flame | AG5: {=SUM(($E$11:$E$46=AF5)*(ISNUMBER($G$11:$G$46)),($F$11:$F$46=AF5)*(ISNUMBER($I$11:$I$46)))} -> 24 | AH5: {=SUM(('ТУР2'!home=AF5)*('ТУР2'!homescore>'ТУР2'!visitorscore),('ТУР2'!visitor=AF5)*('ТУР2'!visitorscore>'ТУР2'!homescore))} -> 4 | AI5: {=SUM(('ТУР2'!home=AF5)*('ТУР2'!homescore='ТУР2'!visitorscore)*ISNUMBER('ТУР2'!visitorscore),('ТУР2'!visitor=AF5)*('ТУР2'!visitorscore='ТУР2'!homescore)*ISNUMBER('ТУР2'!homescore))} -> 13 | AJ5: {=SUM(('ТУР2'!home=AF5)*('ТУР2'!homescore<'ТУР2'!visitorscore),('ТУР2'!visitor=AF5)*('ТУР2'!visitorscore<'ТУР2'!homescore))} -> 7 | AK5: {=SUMIF('ТУР2'!home,AF5,'ТУР2'!homescore)+SUMIF('ТУР2'!visitor,AF5,'ТУР2'!visitorscore)} -> 69 | AL5: {=SUMIF('ТУР2'!home,AF5,'ТУР2'!visitorscore)+SUMIF('ТУР2'!visitor,AF5,'ТУР2'!homescore)} -> 74 | AM5: =AK5-AL5 -> -5 | AN5: {=AH5*Options!$B$2+AI5*Options!$B$3+AJ5*Options!$B$4+VLOOKUP(AF5,$E$4:$F$9,2,0)} -> 25 | AO5: =AK5+AM5*10000+AN5*100000000 -> 2499950069
C6: ='ТУР1'!$C$6 -> Андрей С. | D6: Португалия | E6: ='ТУР1'!$E$6 -> flame | U6: {=INDEX($AF$3:$AF$5,MATCH(LARGE($AO$3:$AO$5-ROW($AO$3:$AO$5)/COUNT($AO$3:$AO$5),ROW(U6)-ROW(U$4)+1),$AO$3:$AO$5-ROW($AO$3:$AO$5)/COUNT($AO$3:$AO$5),0))} -> flame | V6: {=VLOOKUP($U6,$AF$3:$AN$5,2,0)} -> 24 | W6: {=VLOOKUP($U6,$AF$3:$AN$5,3,0)} -> 4 | X6: {=VLOOKUP($U6,$AF$3:$AN$5,4,0)} -> 13 | Y6: {=VLOOKUP($U6,$AF$3:$AN$5,5,0)} -> 7 | Z6: {=VLOOKUP($U6,$AF$3:$AN$5,6,0)} -> 69 | AA6: {=VLOOKUP($U6,$AF$3:$AN$5,7,0)} -> 74 | AB6: {=VLOOKUP($U6,$AF$3:$AN$5,8,0)} -> -5 | AC6: {=VLOOKUP($U6,$AF$3:$AN$5,9,0)} -> 25
B8: пуск | C8: Команда | D8: Команда | E8: Дом | F8: Гость | G8: Результат | K8: Cчет | N8: PS | S8: PS | T8: № матча | U8: Матч | V8: Счет
B11: 0.45833333 | C11: =TRIM($D$4) -> Нидерланды | D11: =TRIM($D$5) -> Англия | E11: =$E$4 -> masterp1ece | F11: =$E$5 -> CMEX | G11: =SUM(K11) -> 5 | I11: =SUM(L11) -> 3 | K11: 5 | L11: 3 | M11: 5 | N11: 1 | S11: 1 | T11: 133 | U11: =TEXT(B11,"h:mm")&" "&($C$1)&" ("&C11&") "&E11&" "&" - ("&D11&") "&F11&"" -> 11:00 Penalty shot cup (Нидерланды) masterp1ece - (Англия) CMEX | V11: =TEXT(G11,"0")&":"&TEXT(I11,"0") -> 5:3
B12: 0.46180556 | C12: =TRIM($D$4) -> Нидерланды | D12: =TRIM($D$5) -> Англия | E12: =$E$4 -> masterp1ece | F12: =$E$5 -> CMEX | G12: =SUM(K12) -> 3 | I12: =SUM(L12) -> 4 | K12: 3 | L12: 4 | N12: 2 | S12: 2 | T12: 134 | U12: =TEXT(B12,"h:mm")&" "&($C$1)&" ("&C12&") "&E12&" "&" - ("&D12&") "&F12&"" -> 11:05 Penalty shot cup (Нидерланды) masterp1ece - (Англия) CMEX | V12: =TEXT(G12,"0")&":"&TEXT(I12,"0") -> 3:4
B13: 0.46527778 | C13: =TRIM($D$4) -> Нидерланды | D13: =TRIM($D$5) -> Англия | E13: =$E$4 -> masterp1ece | F13: =$E$5 -> CMEX | G13: =SUM(K13) -> 3 | I13: =SUM(L13) -> 4 | K13: 3 | L13: 4 | M13: 4 | N13: 3 | S13: 3 | T13: 135 | U13: =TEXT(B13,"h:mm")&" "&($C$1)&" ("&C13&") "&E13&" "&" - ("&D13&") "&F13&"" -> 11:10 Penalty shot cup (Нидерланды) masterp1ece - (Англия) CMEX | V13: =TEXT(G13,"0")&":"&TEXT(I13,"0") -> 3:4
B14: 0.46875 | C14: =TRIM($D$6) -> Португалия | D14: =TRIM($D$5) -> Англия | E14: =$E$6 -> flame | F14: =$E$5 -> CMEX | G14: =SUM(K14) -> 5 | I14: =SUM(L14) -> 5 | K14: 5 | L14: 5 | N14: 1 | S14: 1 | T14: 136 | U14: =TEXT(B14,"h:mm")&" "&($C$1)&" ("&C14&") "&E14&" "&" - ("&D14&") "&F14&"" -> 11:15 Penalty shot cup (Португалия) flame - (Англия) CMEX | V14: =TEXT(G14,"0")&":"&TEXT(I14,"0") -> 5:5
B15: 0.47222222 | C15: =TRIM($D$6) -> Португалия | D15: =TRIM($D$5) -> Англия | E15: =$E$6 -> flame | F15: =$E$5 -> CMEX | G15: =SUM(K15) -> 0 | I15: =SUM(L15) -> 0 | K15: - | L15: - | N15: 2 | S15: 2 | T15: 137 | U15: =TEXT(B15,"h:mm")&" "&($C$1)&" ("&C15&") "&E15&" "&" - ("&D15&") "&F15&"" -> 11:20 Penalty shot cup (Португалия) flame - (Англия) CMEX | V15: =TEXT(G15,"0")&":"&TEXT(I15,"0") -> 0:0
B16: 0.47569444 | C16: =TRIM($D$6) -> Португалия | D16: =TRIM($D$5) -> Англия | E16: =$E$6 -> flame | F16: =$E$5 -> CMEX | G16: =SUM(K16) -> 3 | I16: =SUM(L16) -> 4 | K16: 3 | L16: 4 | N16: 3 | S16: 3 | T16: 138 | U16: =TEXT(B16,"h:mm")&" "&($C$1)&" ("&C16&") "&E16&" "&" - ("&D16&") "&F16&"" -> 11:25 Penalty shot cup (Португалия) flame - (Англия) CMEX | V16: =TEXT(G16,"0")&":"&TEXT(I16,"0") -> 3:4
B17: 0.47916667 | C17: =TRIM($D$6) -> Португалия | D17: =TRIM($D$4) -> Нидерланды | E17: =$E$6 -> flame | F17: =$E$4 -> masterp1ece | G17: =SUM(K17) -> 3 | I17: =SUM(L17) -> 4 | K17: 3 | L17: 4 | N17: 1 | S17: 1 | T17: 139 | U17: =TEXT(B17,"h:mm")&" "&($C$1)&" ("&C17&") "&E17&" "&" - ("&D17&") "&F17&"" -> 11:30 Penalty shot cup (Португалия) flame - (Нидерланды) masterp1ece | V17: =TEXT(G17,"0")&":"&TEXT(I17,"0") -> 3:4
B18: 0.48263889 | C18: =TRIM($D$6) -> Португалия | D18: =TRIM($D$4) -> Нидерланды | E18: =$E$6 -> flame | F18: =$E$4 -> masterp1ece | G18: =SUM(K18) -> 0 | I18: =SUM(L18,O18) -> 0 | K18: - | L18: - | N18: 2 | S18: 2 | T18: 140 | U18: =TEXT(B18,"h:mm")&" "&($C$1)&" ("&C18&") "&E18&" "&" - ("&D18&") "&F18&"" -> 11:35 Penalty shot cup (Португалия) flame - (Нидерланды) masterp1ece | V18: =TEXT(G18,"0")&":"&TEXT(I18,"0") -> 0:0
B19: 0.48611111 | C19: =TRIM($D$6) -> Португалия | D19: =TRIM($D$4) -> Нидерланды | E19: =$E$6 -> flame | F19: =$E$4 -> masterp1ece | G19: =SUM(K19) -> 4 | I19: =SUM(L19,O19) -> 5 | K19: 4 | L19: 5 | M19: 2 | N19: 3 | S19: 3 | T19: 141 | U19: =TEXT(B19,"h:mm")&" "&($C$1)&" ("&C19&") "&E19&" "&" - ("&D19&") "&F19&"" -> 11:40 Penalty shot cup (Португалия) flame - (Нидерланды) masterp1ece | V19: =TEXT(G19,"0")&":"&TEXT(I19,"0") -> 4:5
B20: 0.48958333 | C20: =TRIM($D$5) -> Англия | D20: =TRIM($D$4) -> Нидерланды | E20: =$E$5 -> CMEX | F20: =$E$4 -> masterp1ece | G20: =SUM(K20) -> 2 | I20: =SUM(L20,O20) -> 4 | K20: 2 | L20: 4 | N20: 1 | S20: 1 | T20: 142 | U20: =TEXT(B20,"h:mm")&" "&($C$1)&" ("&C20&") "&E20&" "&" - ("&D20&") "&F20&"" -> 11:45 Penalty shot cup (Англия) CMEX - (Нидерланды) masterp1ece | V20: =TEXT(G20,"0")&":"&TEXT(I20,"0") -> 2:4
B21: 0.49305556 | C21: =TRIM($D$5) -> Англия | D21: =TRIM($D$4) -> Нидерланды | E21: =$E$5 -> CMEX | F21: =$E$4 -> masterp1ece | G21: =SUM(K21) -> 4 | I21: =SUM(L21,O21) -> 4 | K21: 4 | L21: 4 | N21: 2 | S21: 2 | T21: 143 | U21: =TEXT(B21,"h:mm")&" "&($C$1)&" ("&C21&") "&E21&" "&" - ("&D21&") "&F21&"" -> 11:50 Penalty shot cup (Англия) CMEX - (Нидерланды) masterp1ece | V21: =TEXT(G21,"0")&":"&TEXT(I21,"0") -> 4:4
B22: 0.49652778 | C22: =TRIM($D$5) -> Англия | D22: =TRIM($D$4) -> Нидерланды | E22: =$E$5 -> CMEX | F22: =$E$4 -> masterp1ece | G22: =SUM(K22) -> 3 | I22: =SUM(L22,O22) -> 1 | K22: 3 | L22: 1 | N22: 3 | S22: 3 | T22: 144 | U22: =TEXT(B22,"h:mm")&" "&($C$1)&" ("&C22&") "&E22&" "&" - ("&D22&") "&F22&"" -> 11:55 Penalty shot cup (Англия) CMEX - (Нидерланды) masterp1ece | V22: =TEXT(G22,"0")&":"&TEXT(I22,"0") -> 3:1
B23: 0.5 | C23: =TRIM($D$5) -> Англия | D23: =TRIM($D$6) -> Португалия | E23: =$E$5 -> CMEX | F23: =$E$6 -> flame | G23: =SUM(K23) -> 3 | I23: =SUM(L23) -> 3 | K23: 3 | L23: 3 | N23: 1 | S23: 1 | T23: 145 | U23: =TEXT(B23,"h:mm")&" "&($C$1)&" ("&C23&") "&E23&" "&" - ("&D23&") "&F23&"" -> 12:00 Penalty shot cup (Англия) CMEX - (Португалия) flame | V23: =TEXT(G23,"0")&":"&TEXT(I23,"0") -> 3:3
B24: 0.50347222 | C24: =TRIM($D$5) -> Англия | D24: =TRIM($D$6) -> Португалия | E24: =$E$5 -> CMEX | F24: =$E$6 -> flame | G24: =SUM(K24) -> 4 | I24: =SUM(L24) -> 5 | K24: 4 | L24: 5 | N24: 2 | S24: 2 | T24: 146 | U24: =TEXT(B24,"h:mm")&" "&($C$1)&" ("&C24&") "&E24&" "&" - ("&D24&") "&F24&"" -> 12:05 Penalty shot cup (Англия) CMEX - (Португалия) flame | V24: =TEXT(G24,"0")&":"&TEXT(I24,"0") -> 4:5
B25: 0.50694444 | C25: =TRIM($D$5) -> Англия | D25: =TRIM($D$6) -> Португалия | E25: =$E$5 -> CMEX | F25: =$E$6 -> flame | G25: =SUM(K25) -> 4 | I25: =SUM(L25) -> 4 | K25: 4 | L25: 4 | N25: 3 | S25: 3 | T25: 147 | U25: =TEXT(B25,"h:mm")&" "&($C$1)&" ("&C25&") "&E25&" "&" - ("&D25&") "&F25&"" -> 12:10 Penalty shot cup (Англия) CMEX - (Португалия) flame | V25: =TEXT(G25,"0")&":"&TEXT(I25,"0") -> 4:4
B26: 0.51041667 | C26: =TRIM($D$4) -> Нидерланды | D26: =TRIM($D$6) -> Португалия | E26: =$E$4 -> masterp1ece | F26: =$E$6 -> flame | G26: =SUM(K26) -> 0 | I26: =SUM(L26) -> 0 | K26: - | L26: - | N26: 1 | S26: 1 | T26: 148 | U26: =TEXT(B26,"h:mm")&" "&($C$1)&" ("&C26&") "&E26&" "&" - ("&D26&") "&F26&"" -> 12:15 Penalty shot cup (Нидерланды) masterp1ece - (Португалия) flame | V26: =TEXT(G26,"0")&":"&TEXT(I26,"0") -> 0:0
B27: 0.51388889 | C27: =TRIM($D$4) -> Нидерланды | D27: =TRIM($D$6) -> Португалия | E27: =$E$4 -> masterp1ece | F27: =$E$6 -> flame | G27: =SUM(K27) -> 3 | I27: =SUM(L27) -> 3 | K27: 3 | L27: 3 | N27: 2 | S27: 2 | T27: 149 | U27: =TEXT(B27,"h:mm")&" "&($C$1)&" ("&C27&") "&E27&" "&" - ("&D27&") "&F27&"" -> 12:20 Penalty shot cup (Нидерланды) masterp1ece - (Португалия) flame | V27: =TEXT(G27,"0")&":"&TEXT(I27,"0") -> 3:3
B28: 0.51736111 | C28: =TRIM($D$4) -> Нидерланды | D28: =TRIM($D$6) -> Португалия | E28: =$E$4 -> masterp1ece | F28: =$E$6 -> flame | G28: =SUM(K28) -> 3 | I28: =SUM(L28) -> 4 | K28: 3 | L28: 4 | N28: 3 | S28: 3 | T28: 150 | U28: =TEXT(B28,"h:mm")&" "&($C$1)&" ("&C28&") "&E28&" "&" - ("&D28&") "&F28&"" -> 12:25 Penalty shot cup (Нидерланды) masterp1ece - (Португалия) flame | V28: =TEXT(G28,"0")&":"&TEXT(I28,"0") -> 3:4
B29: 0.52083333 | C29: =TRIM($D$4) -> Нидерланды | D29: =TRIM($D$5) -> Англия | E29: =$E$4 -> masterp1ece | F29: =$E$5 -> CMEX | G29: =SUM(K29) -> 5 | I29: =SUM(L29) -> 5 | K29: 5 | L29: 5 | N29: 1 | S29: 1 | T29: 151 | U29: =TEXT(B29,"h:mm")&" "&($C$1)&" ("&C29&") "&E29&" "&" - ("&D29&") "&F29&"" -> 12:30 Penalty shot cup (Нидерланды) masterp1ece - (Англия) CMEX | V29: =TEXT(G29,"0")&":"&TEXT(I29,"0") -> 5:5
B30: 0.52430556 | C30: =TRIM($D$4) -> Нидерланды | D30: =TRIM($D$5) -> Англия | E30: =$E$4 -> masterp1ece | F30: =$E$5 -> CMEX | G30: =SUM(K30) -> 2 | I30: =SUM(L30,O30) -> 4 | K30: 2 | L30: 4 | N30: 2 | S30: 2 | T30: 152 | U30: =TEXT(B30,"h:mm")&" "&($C$1)&" ("&C30&") "&E30&" "&" - ("&D30&") "&F30&"" -> 12:35 Penalty shot cup (Нидерланды) masterp1ece - (Англия) CMEX | V30: =TEXT(G30,"0")&":"&TEXT(I30,"0") -> 2:4
B31: 0.52777778 | C31: =TRIM($D$4) -> Нидерланды | D31: =TRIM($D$5) -> Англия | E31: =$E$4 -> masterp1ece | F31: =$E$5 -> CMEX | G31: =SUM(K31) -> 4 | I31: =SUM(L31,O31) -> 2 | K31: 4 | L31: 2 | N31: 3 | S31: 3 | T31: 153 | U31: =TEXT(B31,"h:mm")&" "&($C$1)&" ("&C31&") "&E31&" "&" - ("&D31&") "&F31&"" -> 12:40 Penalty shot cup (Нидерланды) masterp1ece - (Англия) CMEX | V31: =TEXT(G31,"0")&":"&TEXT(I31,"0") -> 4:2
B32: 0.53125 | C32: =TRIM($D$6) -> Португалия | D32: =TRIM($D$5) -> Англия | E32: =$E$6 -> flame | F32: =$E$5 -> CMEX | G32: =SUM(K32) -> 3 | I32: =SUM(L32,O32) -> 4 | K32: 3 | L32: 4 | N32: 1 | S32: 1 | T32: 154 | U32: =TEXT(B32,"h:mm")&" "&($C$1)&" ("&C32&") "&E32&" "&" - ("&D32&") "&F32&"" -> 12:45 Penalty shot cup (Португалия) flame - (Англия) CMEX | V32: =TEXT(G32,"0")&":"&TEXT(I32,"0") -> 3:4
B33: 0.53472222 | C33: =TRIM($D$6) -> Португалия | D33: =TRIM($D$5) -> Англия | E33: =$E$6 -> flame | F33: =$E$5 -> CMEX | G33: =SUM(K33) -> 5 | I33: =SUM(L33,O33) -> 5 | J33: 5 | K33: 5 | L33: 5 | N33: 2 | S33: 2 | T33: 155 | U33: =TEXT(B33,"h:mm")&" "&($C$1)&" ("&C33&") "&E33&" "&" - ("&D33&") "&F33&"" -> 12:50 Penalty shot cup (Португалия) flame - (Англия) CMEX | V33: =TEXT(G33,"0")&":"&TEXT(I33,"0") -> 5:5
B34: 0.53819444 | C34: =TRIM($D$6) -> Португалия | D34: =TRIM($D$5) -> Англия | E34: =$E$6 -> flame | F34: =$E$5 -> CMEX | G34: =SUM(K34) -> 0 | I34: =SUM(L34,O34) -> 0 | K34: - | L34: - | N34: 3 | S34: 3 | T34: 156 | U34: =TEXT(B34,"h:mm")&" "&($C$1)&" ("&C34&") "&E34&" "&" - ("&D34&") "&F34&"" -> 12:55 Penalty shot cup (Португалия) flame - (Англия) CMEX | V34: =TEXT(G34,"0")&":"&TEXT(I34,"0") -> 0:0
B35: 0.54166667 | C35: =TRIM($D$6) -> Португалия | D35: =TRIM($D$4) -> Нидерланды | E35: =$E$6 -> flame | F35: =$E$4 -> masterp1ece | G35: =SUM(K35) -> 3 | I35: =SUM(L35) -> 2 | K35: 3 | L35: 2 | N35: 1 | S35: 1 | T35: 157 | U35: =TEXT(B35,"h:mm")&" "&($C$1)&" ("&C35&") "&E35&" "&" - ("&D35&") "&F35&"" -> 13:00 Penalty shot cup (Португалия) flame - (Нидерланды) masterp1ece | V35: =TEXT(G35,"0")&":"&TEXT(I35,"0") -> 3:2
B36: 0.54513889 | C36: =TRIM($D$6) -> Португалия | D36: =TRIM($D$4) -> Нидерланды | E36: =$E$6 -> flame | F36: =$E$4 -> masterp1ece | G36: =SUM(K36) -> 4 | I36: =SUM(L36) -> 4 | K36: 4 | L36: 4 | N36: 2 | S36: 2 | T36: 158 | U36: =TEXT(B36,"h:mm")&" "&($C$1)&" ("&C36&") "&E36&" "&" - ("&D36&") "&F36&"" -> 13:05 Penalty shot cup (Португалия) flame - (Нидерланды) masterp1ece | V36: =TEXT(G36,"0")&":"&TEXT(I36,"0") -> 4:4
B37: 0.54861111 | C37: =TRIM($D$6) -> Португалия | D37: =TRIM($D$4) -> Нидерланды | E37: =$E$6 -> flame | F37: =$E$4 -> masterp1ece | G37: =SUM(K37) -> 3 | I37: =SUM(L37) -> 3 | K37: 3 | L37: 3 | N37: 3 | S37: 3 | T37: 159 | U37: =TEXT(B37,"h:mm")&" "&($C$1)&" ("&C37&") "&E37&" "&" - ("&D37&") "&F37&"" -> 13:10 Penalty shot cup (Португалия) flame - (Нидерланды) masterp1ece | V37: =TEXT(G37,"0")&":"&TEXT(I37,"0") -> 3:3
B38: 0.55208333 | C38: =TRIM($D$5) -> Англия | D38: =TRIM($D$4) -> Нидерланды | E38: =$E$5 -> CMEX | F38: =$E$4 -> masterp1ece | G38: =SUM(K38) -> 2 | I38: =SUM(L38) -> 4 | K38: 2 | L38: 4 | N38: 1 | S38: 1 | T38: 160 | U38: =TEXT(B38,"h:mm")&" "&($C$1)&" ("&C38&") "&E38&" "&" - ("&D38&") "&F38&"" -> 13:15 Penalty shot cup (Англия) CMEX - (Нидерланды) masterp1ece | V38: =TEXT(G38,"0")&":"&TEXT(I38,"0") -> 2:4
B39: 0.55555556 | C39: =TRIM($D$5) -> Англия | D39: =TRIM($D$4) -> Нидерланды | E39: =$E$5 -> CMEX | F39: =$E$4 -> masterp1ece | G39: =SUM(K39) -> 4 | I39: =SUM(L39) -> 5 | K39: 4 | L39: 5 | N39: 2 | S39: 2 | T39: 161 | U39: =TEXT(B39,"h:mm")&" "&($C$1)&" ("&C39&") "&E39&" "&" - ("&D39&") "&F39&"" -> 13:20 Penalty shot cup (Англия) CMEX - (Нидерланды) masterp1ece | V39: =TEXT(G39,"0")&":"&TEXT(I39,"0") -> 4:5
B40: 0.55902778 | C40: =TRIM($D$5) -> Англия | D40: =TRIM($D$4) -> Нидерланды | E40: =$E$5 -> CMEX | F40: =$E$4 -> masterp1ece | G40: =SUM(K40) -> 4 | I40: =SUM(L40) -> 4 | K40: 4 | L40: 4 | N40: 3 | S40: 3 | T40: 162 | U40: =TEXT(B40,"h:mm")&" "&($C$1)&" ("&C40&") "&E40&" "&" - ("&D40&") "&F40&"" -> 13:25 Penalty shot cup (Англия) CMEX - (Нидерланды) masterp1ece | V40: =TEXT(G40,"0")&":"&TEXT(I40,"0") -> 4:4
B41: 0.5625 | C41: =TRIM($D$5) -> Англия | D41: =TRIM($D$6) -> Португалия | E41: =$E$5 -> CMEX | F41: =$E$6 -> flame | G41: =SUM(K41) -> 0 | I41: =SUM(L41) -> 0 | K41: - | L41: - | M41: 4 | N41: 3 | S41: 1 | T41: 163 | U41: =TEXT(B41,"h:mm")&" "&($C$1)&" ("&C41&") "&E41&" "&" - ("&D41&") "&F41&"" -> 13:30 Penalty shot cup (Англия) CMEX - (Португалия) flame | V41: =TEXT(G41,"0")&":"&TEXT(I41,"0") -> 0:0
B42: 0.56597222 | C42: =TRIM($D$5) -> Англия | D42: =TRIM($D$6) -> Португалия | E42: =$E$5 -> CMEX | F42: =$E$6 -> flame | G42: =SUM(K42) -> 3 | I42: =SUM(L42) -> 3 | K42: 3 | L42: 3 | N42: 3 | S42: 2 | T42: 164 | U42: =TEXT(B42,"h:mm")&" "&($C$1)&" ("&C42&") "&E42&" "&" - ("&D42&") "&F42&"" -> 13:35 Penalty shot cup (Англия) CMEX - (Португалия) flame | V42: =TEXT(G42,"0")&":"&TEXT(I42,"0") -> 3:3
B43: 0.56944444 | C43: =TRIM($D$5) -> Англия | D43: =TRIM($D$6) -> Португалия | E43: =$E$5 -> CMEX | F43: =$E$6 -> flame | G43: =SUM(K43) -> 5 | I43: =SUM(L43) -> 3 | K43: 5 | L43: 3 | M43: 3 | N43: 3 | S43: 3 | T43: 165 | U43: =TEXT(B43,"h:mm")&" "&($C$1)&" ("&C43&") "&E43&" "&" - ("&D43&") "&F43&"" -> 13:40 Penalty shot cup (Англия) CMEX - (Португалия) flame | V43: =TEXT(G43,"0")&":"&TEXT(I43,"0") -> 5:3
B44: 0.57291667 | C44: =TRIM($D$4) -> Нидерланды | D44: =TRIM($D$6) -> Португалия | E44: =$E$4 -> masterp1ece | F44: =$E$6 -> flame | G44: =SUM(K44) -> 4 | I44: =SUM(L44) -> 5 | K44: 4 | L44: 5 | N44: 3 | S44: 1 | T44: 166 | U44: =TEXT(B44,"h:mm")&" "&($C$1)&" ("&C44&") "&E44&" "&" - ("&D44&") "&F44&"" -> 13:45 Penalty shot cup (Нидерланды) masterp1ece - (Португалия) flame | V44: =TEXT(G44,"0")&":"&TEXT(I44,"0") -> 4:5
B45: 0.57638889 | C45: =TRIM($D$4) -> Нидерланды | D45: =TRIM($D$6) -> Португалия | E45: =$E$4 -> masterp1ece | F45: =$E$6 -> flame | G45: =SUM(K45) -> 4 | I45: =SUM(L45) -> 3 | K45: 4 | L45: 3 | N45: 3 | S45: 2 | T45: 167 | U45: =TEXT(B45,"h:mm")&" "&($C$1)&" ("&C45&") "&E45&" "&" - ("&D45&") "&F45&"" -> 13:50 Penalty shot cup (Нидерланды) masterp1ece - (Португалия) flame | V45: =TEXT(G45,"0")&":"&TEXT(I45,"0") -> 4:3
B46: 0.57986111 | C46: =TRIM($D$4) -> Нидерланды | D46: =TRIM($D$6) -> Португалия | E46: =$E$4 -> masterp1ece | F46: =$E$6 -> flame | G46: =SUM(K46) -> 5 | I46: =SUM(L46) -> 3 | K46: 5 | L46: 3 | N46: 3 | S46: 3 | T46: 168 | U46: =TEXT(B46,"h:mm")&" "&($C$1)&" ("&C46&") "&E46&" "&" - ("&D46&") "&F46&"" -> 13:55 Penalty shot cup (Нидерланды) masterp1ece - (Португалия) flame | V46: =TEXT(G46,"0")&":"&TEXT(I46,"0") -> 5:3
C48: Гл.Судья - | F48: Ст.Судья -

Sheet ТУР3
C1: ='ТУР1'!$C$1 -> Penalty shot cup | E1: ТУР3 | F1: ='ТУР1'!$F$1 -> 45719
U2: =C1 -> Penalty shot cup | V2: =E1 -> ТУР3 | AA2: =$F$1 -> 45719 | AG2: GP | AH2: W | AI2: D | AJ2: L | AK2: GF | AL2: GA | AM2: GD | AN2: PTS | AO2: rank
C3: Участник | D3: Команда | E3: Никнейм | U3: Никнейм | V3: М | W3: В | X3: Н | Y3: П | Z3: ЗГ | AA3: ПГ | AB3: РГ | AC3: Очки | AF3: =E4 -> debosch | AG3: {=SUM(($E$11:$E$46=AF3)*(ISNUMBER($G$11:$G$46)),($F$11:$F$46=AF3)*(ISNUMBER($I$11:$I$46)))} -> 24 | AH3: {=SUM(('ТУР3'!home=AF3)*('ТУР3'!homescore>'ТУР3'!visitorscore),('ТУР3'!visitor=AF3)*('ТУР3'!visitorscore>'ТУР3'!homescore))} -> 7 | AI3: {=SUM(('ТУР3'!home=AF3)*('ТУР3'!homescore='ТУР3'!visitorscore)*ISNUMBER('ТУР3'!visitorscore),('ТУР3'!visitor=AF3)*('ТУР3'!visitorscore='ТУР3'!homescore)*ISNUMBER('ТУР3'!homescore))} -> 12 | AJ3: {=SUM(('ТУР3'!home=AF3)*('ТУР3'!homescore<'ТУР3'!visitorscore),('ТУР3'!visitor=AF3)*('ТУР3'!visitorscore<'ТУР3'!homescore))} -> 5 | AK3: {=SUMIF('ТУР3'!home,AF3,'ТУР3'!homescore)+SUMIF('ТУР3'!visitor,AF3,'ТУР3'!visitorscore)} -> 79 | AL3: {=SUMIF('ТУР3'!home,AF3,'ТУР3'!visitorscore)+SUMIF('ТУР3'!visitor,AF3,'ТУР3'!homescore)} -> 74 | AM3: =AK3-AL3 -> 5 | AN3: {=AH3*Options!$B$2+AI3*Options!$B$3+AJ3*Options!$B$4+VLOOKUP(AF3,$E$4:$F$9,2,0)} -> 33 | AO3: =AK3+AM3*10000+AN3*100000000 -> 3300050079
C4: Тимофей Б. | D4: Испания | E4: debosch | U4: {=INDEX($AF$3:$AF$5,MATCH(LARGE($AO$3:$AO$5-ROW($AO$3:$AO$5)/COUNT($AO$3:$AO$5),ROW(U4)-ROW(U$4)+1),$AO$3:$AO$5-ROW($AO$3:$AO$5)/COUNT($AO$3:$AO$5),0))} -> azalazy | V4: {=VLOOKUP($U4,$AF$3:$AN$5,2,0)} -> 24 | W4: {=VLOOKUP($U4,$AF$3:$AN$5,3,0)} -> 9 | X4: {=VLOOKUP($U4,$AF$3:$AN$5,4,0)} -> 12 | Y4: {=VLOOKUP($U4,$AF$3:$AN$5,5,0)} -> 3 | Z4: {=VLOOKUP($U4,$AF$3:$AN$5,6,0)} -> 82 | AA4: {=VLOOKUP($U4,$AF$3:$AN$5,7,0)} -> 72 | AB4: {=VLOOKUP($U4,$AF$3:$AN$5,8,0)} -> 10 | AC4: {=VLOOKUP($U4,$AF$3:$AN$5,9,0)} -> 39 | AF4: =E5 -> azalazy | AG4: {=SUM(($E$11:$E$46=AF4)*(ISNUMBER($G$11:$G$46)),($F$11:$F$46=AF4)*(ISNUMBER($I$11:$I$46)))} -> 24 | AH4: {=SUM(('ТУР3'!home=AF4)*('ТУР3'!homescore>'ТУР3'!visitorscore),('ТУР3'!visitor=AF4)*('ТУР3'!visitorscore>'ТУР3'!homescore))} -> 9 | AI4: {=SUM(('ТУР3'!home=AF4)*('ТУР3'!homescore='ТУР3'!visitorscore)*ISNUMBER('ТУР3'!visitorscore),('ТУР3'!visitor=AF4)*('ТУР3'!visitorscore='ТУР3'!homescore)*ISNUMBER('ТУР3'!homescore))} -> 12 | AJ4: {=SUM(('ТУР3'!home=AF4)*('ТУР3'!homescore<'ТУР3'!visitorscore),('ТУР3'!visitor=AF4)*('ТУР3'!visitorscore<'ТУР3'!homescore))} -> 3 | AK4: {=SUMIF('ТУР3'!home,AF4,'ТУР3'!homescore)+SUMIF('ТУР3'!visitor,AF4,'ТУР3'!visitorscore)} -> 82 | AL4: {=SUMIF('ТУР3'!home,AF4,'ТУР3'!visitorscore)+SUMIF('ТУР3'!visitor,AF4,'ТУР3'!homescore)} -> 72 | AM4: =AK4-AL4 -> 10 | AN4: {=AH4*Options!$B$2+AI4*Options!$B$3+AJ4*Options!$B$4+VLOOKUP(AF4,$E$4:$F$9,2,0)} -> 39 | AO4: =AK4+AM4*10000+AN4*100000000 -> 3900100082
C5: Азамат Г. | D5: Нидерланды | E5: azalazy | U5: {=INDEX($AF$3:$AF$5,MATCH(LARGE($AO$3:$AO$5-ROW($AO$3:$AO$5)/COUNT($AO$3:$AO$5),ROW(U5)-ROW(U$4)+1),$AO$3:$AO$5-ROW($AO$3:$AO$5)/COUNT($AO$3:$AO$5),0))} -> debosch | V5: {=VLOOKUP($U5,$AF$3:$AN$5,2,0)} -> 24 | W5: {=VLOOKUP($U5,$AF$3:$AN$5,3,0)} -> 7 | X5: {=VLOOKUP($U5,$AF$3:$AN$5,4,0)} -> 12 | Y5: {=VLOOKUP($U5,$AF$3:$AN$5,5,0)} -> 5 | Z5: {=VLOOKUP($U5,$AF$3:$AN$5,6,0)} -> 79 | AA5: {=VLOOKUP($U5,$AF$3:$AN$5,7,0)} -> 74 | AB5: {=VLOOKUP($U5,$AF$3:$AN$5,8,0)} -> 5 | AC5: {=VLOOKUP($U5,$AF$3:$AN$5,9,0)} -> 33 | AF5: =E6 -> ⁠nxkitorio | AG5: {=SUM(($E$11:$E$46=AF5)*(ISNUMBER($G$11:$G$46)),($F$11:$F$46=AF5)*(ISNUMBER($I$11:$I$46)))} -> 24 | AH5: {=SUM(('ТУР3'!home=AF5)*('ТУР3'!homescore>'ТУР3'!visitorscore),('ТУР3'!visitor=AF5)*('ТУР3'!visitorscore>'ТУР3'!homescore))} -> 3 | AI5: {=SUM(('ТУР3'!home=AF5)*('ТУР3'!homescore='ТУР3'!visitorscore)*ISNUMBER('ТУР3'!visitorscore),('ТУР3'!visitor=AF5)*('ТУР3'!visitorscore='ТУР3'!homescore)*ISNUMBER('ТУР3'!homescore))} -> 10 | AJ5: {=SUM(('ТУР3'!home=AF5)*('ТУР3'!homescore<'ТУР3'!visitorscore),('ТУР3'!visitor=AF5)*('ТУР3'!visitorscore<'ТУР3'!homescore))} -> 11 | AK5: {=SUMIF('ТУР3'!home,AF5,'ТУР3'!homescore)+SUMIF('ТУР3'!visitor,AF5,'ТУР3'!visitorscore)} -> 69 | AL5: {=SUMIF('ТУР3'!home,AF5,'ТУР3'!visitorscore)+SUMIF('ТУР3'!visitor,AF5,'ТУР3'!homescore)} -> 84 | AM5: =AK5-AL5 -> -15 | AN5: {=AH5*Options!$B$2+AI5*Options!$B$3+AJ5*Options!$B$4+VLOOKUP(AF5,$E$4:$F$9,2,0)} -> 19 | AO5: =AK5+AM5*10000+AN5*100000000 -> 1899850069
C6: Никита Д. | D6: Германия | E6: ⁠nxkitorio | U6: {=INDEX($AF$3:$AF$5,MATCH(LARGE($AO$3:$AO$5-ROW($AO$3:$AO$5)/COUNT($AO$3:$AO$5),ROW(U6)-ROW(U$4)+1),$AO$3:$AO$5-ROW($AO$3:$AO$5)/COUNT($AO$3:$AO$5),0))} -> ⁠nxkitorio | V6: {=VLOOKUP($U6,$AF$3:$AN$5,2,0)} -> 24 | W6: {=VLOOKUP($U6,$AF$3:$AN$5,3,0)} -> 3 | X6: {=VLOOKUP($U6,$AF$3:$AN$5,4,0)} -> 10 | Y6: {=VLOOKUP($U6,$AF$3:$AN$5,5,0)} -> 11 | Z6: {=VLOOKUP($U6,$AF$3:$AN$5,6,0)} -> 69 | AA6: {=VLOOKUP($U6,$AF$3:$AN$5,7,0)} -> 84 | AB6: {=VLOOKUP($U6,$AF$3:$AN$5,8,0)} -> -15 | AC6: {=VLOOKUP($U6,$AF$3:$AN$5,9,0)} -> 19
B8: пуск | C8: Команда | D8: Команда | E8: Дом | F8: Гость | G8: Результат | K8: Cчет | N8: PS | S8: PS | T8: № матча | U8: Матч | V8: Счет
B11: 0.58333333 | C11: =TRIM($D$4) -> Испания | D11: =TRIM($D$5) -> Нидерланды | E11: =$E$4 -> debosch | F11: =$E$5 -> azalazy | G11: =SUM(K11) -> 4 | I11: =SUM(L11) -> 5 | K11: 4 | L11: 5 | S11: 1 | T11: 169 | U11: =TEXT(B11,"h:mm")&" "&($C$1)&" ("&C11&") "&E11&" "&" - ("&D11&") "&F11&"" -> 14:00 Penalty shot cup (Испания) debosch - (Нидерланды) azalazy | V11: =TEXT(G11,"0")&":"&TEXT(I11,"0") -> 4:5
B12: 0.58680556 | C12: =TRIM($D$4) -> Испания | D12: =TRIM($D$5) -> Нидерланды | E12: =$E$4 -> debosch | F12: =$E$5 -> azalazy | G12: =SUM(K12) -> 4 | I12: =SUM(L12) -> 5 | K12: 4 | L12: 5 | M12: 4 | S12: 2 | T12: 170 | U12: =TEXT(B12,"h:mm")&" "&($C$1)&" ("&C12&") "&E12&" "&" - ("&D12&") "&F12&"" -> 14:05 Penalty shot cup (Испания) debosch - (Нидерланды) azalazy | V12: =TEXT(G12,"0")&":"&TEXT(I12,"0") -> 4:5
B13: 0.59027778 | C13: =TRIM($D$4) -> Испания | D13: =TRIM($D$5) -> Нидерланды | E13: =$E$4 -> debosch | F13: =$E$5 -> azalazy | G13: =SUM(K13) -> 0 | I13: =SUM(L13) -> 0 | K13: - | L13: - | S13: 3 | T13: 171 | U13: =TEXT(B13,"h:mm")&" "&($C$1)&" ("&C13&") "&E13&" "&" - ("&D13&") "&F13&"" -> 14:10 Penalty shot cup (Испания) debosch - (Нидерланды) azalazy | V13: =TEXT(G13,"0")&":"&TEXT(I13,"0") -> 0:0
B14: 0.59375 | C14: =TRIM($D$6) -> Германия | D14: =TRIM($D$5) -> Нидерланды | E14: =$E$6 -> ⁠nxkitorio | F14: =$E$5 -> azalazy | G14: =SUM(K14) -> 0 | I14: =SUM(L14) -> 3 | K14: 0 | L14: 3 | S14: 1 | T14: 172 | U14: =TEXT(B14,"h:mm")&" "&($C$1)&" ("&C14&") "&E14&" "&" - ("&D14&") "&F14&"" -> 14:15 Penalty shot cup (Германия) ⁠nxkitorio - (Нидерланды) azalazy | V14: =TEXT(G14,"0")&":"&TEXT(I14,"0") -> 0:3
B15: 0.59722222 | C15: =TRIM($D$6) -> Германия | D15: =TRIM($D$5) -> Нидерланды | E15: =$E$6 -> ⁠nxkitorio | F15: =$E$5 -> azalazy | G15: =SUM(K15) -> 2 | I15: =SUM(L15) -> 4 | K15: 2 | L15: 4 | S15: 2 | T15: 173 | U15: =TEXT(B15,"h:mm")&" "&($C$1)&" ("&C15&") "&E15&" "&" - ("&D15&") "&F15&"" -> 14:20 Penalty shot cup (Германия) ⁠nxkitorio - (Нидерланды) azalazy | V15: =TEXT(G15,"0")&":"&TEXT(I15,"0") -> 2:4
B16: 0.60069444 | C16: =TRIM($D$6) -> Германия | D16: =TRIM($D$5) -> Нидерланды | E16: =$E$6 -> ⁠nxkitorio | F16: =$E$5 -> azalazy | G16: =SUM(K16) -> 2 | I16: =SUM(L16) -> 3 | K16: 2 | L16: 3 | S16: 3 | T16: 174 | U16: =TEXT(B16,"h:mm")&" "&($C$1)&" ("&C16&") "&E16&" "&" - ("&D16&") "&F16&"" -> 14:25 Penalty shot cup (Германия) ⁠nxkitorio - (Нидерланды) azalazy | V16: =TEXT(G16,"0")&":"&TEXT(I16,"0") -> 2:3
B17: 0.60416667 | C17: =TRIM($D$6) -> Германия | D17: =TRIM($D$4) -> Испания | E17: =$E$6 -> ⁠nxkitorio | F17: =$E$4 -> debosch | G17: =SUM(K17) -> 2 | I17: =SUM(L17) -> 4 | K17: 2 | L17: 4 | S17: 1 | T17: 175 | U17: =TEXT(B17,"h:mm")&" "&($C$1)&" ("&C17&") "&E17&" "&" - ("&D17&") "&F17&"" -> 14:30 Penalty shot cup (Германия) ⁠nxkitorio - (Испания) debosch | V17: =TEXT(G17,"0")&":"&TEXT(I17,"0") -> 2:4
B18: 0.60763889 | C18: =TRIM($D$6) -> Германия | D18: =TRIM($D$4) -> Испания | E18: =$E$6 -> ⁠nxkitorio | F18: =$E$4 -> debosch | G18: =SUM(K18) -> 4 | I18: =SUM(L18,O18) -> 4 | K18: 4 | L18: 4 | S18: 2 | T18: 176 | U18: =TEXT(B18,"h:mm")&" "&($C$1)&" ("&C18&") "&E18&" "&" - ("&D18&") "&F18&"" -> 14:35 Penalty shot cup (Германия) ⁠nxkitorio - (Испания) debosch | V18: =TEXT(G18,"0")&":"&TEXT(I18,"0") -> 4:4
B19: 0.61111111 | C19: =TRIM($D$6) -> Германия | D19: =TRIM($D$4) -> Испания | E19: =$E$6 -> ⁠nxkitorio | F19: =$E$4 -> debosch | G19: =SUM(K19) -> 4 | I19: =SUM(L19,O19) -> 4 | K19: 4 | L19: 4 | S19: 3 | T19: 177 | U19: =TEXT(B19,"h:mm")&" "&($C$1)&" ("&C19&") "&E19&" "&" - ("&D19&") "&F19&"" -> 14:40 Penalty shot cup (Германия) ⁠nxkitorio - (Испания) debosch | V19: =TEXT(G19,"0")&":"&TEXT(I19,"0") -> 4:4
B20: 0.61458333 | C20: =TRIM($D$5) -> Нидерланды | D20: =TRIM($D$4) -> Испания | E20: =$E$5 -> azalazy | F20: =$E$4 -> debosch | G20: =SUM(K20) -> 4 | I20: =SUM(L20,O20) -> 4 | K20: 4 | L20: 4 | S20: 1 | T20: 178 | U20: =TEXT(B20,"h:mm")&" "&($C$1)&" ("&C20&") "&E20&" "&" - ("&D20&") "&F20&"" -> 14:45 Penalty shot cup (Нидерланды) azalazy - (Испания) debosch | V20: =TEXT(G20,"0")&":"&TEXT(I20,"0") -> 4:4
B21: 0.61805556 | C21: =TRIM($D$5) -> Нидерланды | D21: =TRIM($D$4) -> Испания | E21: =$E$5 -> azalazy | F21: =$E$4 -> debosch | G21: =SUM(K21) -> 3 | I21: =SUM(L21,O21) -> 3 | K21: 3 | L21: 3 | S21: 2 | T21: 179 | U21: =TEXT(B21,"h:mm")&" "&($C$1)&" ("&C21&") "&E21&" "&" - ("&D21&") "&F21&"" -> 14:50 Penalty shot cup (Нидерланды) azalazy - (Испания) debosch | V21: =TEXT(G21,"0")&":"&TEXT(I21,"0") -> 3:3
B22: 0.62152778 | C22: =TRIM($D$5) -> Нидерланды | D22: =TRIM($D$4) -> Испания | E22: =$E$5 -> azalazy | F22: =$E$4 -> debosch | G22: =SUM(K22) -> 4 | I22: =SUM(L22,O22) -> 4 | K22: 4 | L22: 4 | M22: 4 | S22: 3 | T22: 180 | U22: =TEXT(B22,"h:mm")&" "&($C$1)&" ("&C22&") "&E22&" "&" - ("&D22&") "&F22&"" -> 14:55 Penalty shot cup (Нидерланды) azalazy - (Испания) debosch | V22: =TEXT(G22,"0")&":"&TEXT(I22,"0") -> 4:4
B23: 0.625 | C23: =TRIM($D$5) -> Нидерланды | D23: =TRIM($D$6) -> Германия | E23: =$E$5 -> azalazy | F23: =$E$6 -> ⁠nxkitorio | G23: =SUM(K23) -> 3 | I23: =SUM(L23) -> 4 | K23: 3 | L23: 4 | S23: 1 | T23: 181 | U23: =TEXT(B23,"h:mm")&" "&($C$1)&" ("&C23&") "&E23&" "&" - ("&D23&") "&F23&"" -> 15:00 Penalty shot cup (Нидерланды) azalazy - (Германия) ⁠nxkitorio | V23: =TEXT(G23,"0")&":"&TEXT(I23,"0") -> 3:4
B24: 0.62847222 | C24: =TRIM($D$5) -> Нидерланды | D24: =TRIM($D$6) -> Германия | E24: =$E$5 -> azalazy | F24: =$E$6 -> ⁠nxkitorio | G24: =SUM(K24) -> 3 | I24: =SUM(L24) -> 3 | K24: 3 | L24: 3 | S24: 2 | T24: 182 | U24: =TEXT(B24,"h:mm")&" "&($C$1)&" ("&C24&") "&E24&" "&" - ("&D24&") "&F24&"" -> 15:05 Penalty shot cup (Нидерланды) azalazy - (Германия) ⁠nxkitorio | V24: =TEXT(G24,"0")&":"&TEXT(I24,"0") -> 3:3
B25: 0.63194444 | C25: =TRIM($D$5) -> Нидерланды | D25: =TRIM($D$6) -> Германия | E25: =$E$5 -> azalazy | F25: =$E$6 -> ⁠nxkitorio | G25: =SUM(K25) -> 4 | I25: =SUM(L25) -> 2 | K25: 4 | L25: 2 | S25: 3 | T25: 183 | U25: =TEXT(B25,"h:mm")&" "&($C$1)&" ("&C25&") "&E25&" "&" - ("&D25&") "&F25&"" -> 15:10 Penalty shot cup (Нидерланды) azalazy - (Германия) ⁠nxkitorio | V25: =TEXT(G25,"0")&":"&TEXT(I25,"0") -> 4:2
B26: 0.63541667 | C26: =TRIM($D$4) -> Испания | D26: =TRIM($D$6) -> Германия | E26: =$E$4 -> debosch | F26: =$E$6 -> ⁠nxkitorio | G26: =SUM(K26) -> 4 | I26: =SUM(L26) -> 1 | K26: 4 | L26: 1 | N26: 1 | S26: 1 | T26: 184 | U26: =TEXT(B26,"h:mm")&" "&($C$1)&" ("&C26&") "&E26&" "&" - ("&D26&") "&F26&"" -> 15:15 Penalty shot cup (Испания) debosch - (Германия) ⁠nxkitorio | V26: =TEXT(G26,"0")&":"&TEXT(I26,"0") -> 4:1
B27: 0.63888889 | C27: =TRIM($D$4) -> Испания | D27: =TRIM($D$6) -> Германия | E27: =$E$4 -> debosch | F27: =$E$6 -> ⁠nxkitorio | G27: =SUM(K27) -> 4 | I27: =SUM(L27) -> 2 | K27: 4 | L27: 2 | N27: 2 | S27: 2 | T27: 185 | U27: =TEXT(B27,"h:mm")&" "&($C$1)&" ("&C27&") "&E27&" "&" - ("&D27&") "&F27&"" -> 15:20 Penalty shot cup (Испания) debosch - (Германия) ⁠nxkitorio | V27: =TEXT(G27,"0")&":"&TEXT(I27,"0") -> 4:2
B28: 0.64236111 | C28: =TRIM($D$4) -> Испания | D28: =TRIM($D$6) -> Германия | E28: =$E$4 -> debosch | F28: =$E$6 -> ⁠nxkitorio | G28: =SUM(K28) -> 2 | I28: =SUM(L28) -> 4 | K28: 2 | L28: 4 | N28: 3 | S28: 3 | T28: 186 | U28: =TEXT(B28,"h:mm")&" "&($C$1)&" ("&C28&") "&E28&" "&" - ("&D28&") "&F28&"" -> 15:25 Penalty shot cup (Испания) debosch - (Германия) ⁠nxkitorio | V28: =TEXT(G28,"0")&":"&TEXT(I28,"0") -> 2:4
B29: 0.64583333 | C29: =TRIM($D$4) -> Испания | D29: =TRIM($D$5) -> Нидерланды | E29: =$E$4 -> debosch | F29: =$E$5 -> azalazy | G29: =SUM(K29) -> 4 | I29: =SUM(L29) -> 4 | K29: 4 | L29: 4 | N29: 1 | S29: 1 | T29: 187 | U29: =TEXT(B29,"h:mm")&" "&($C$1)&" ("&C29&") "&E29&" "&" - ("&D29&") "&F29&"" -> 15:30 Penalty shot cup (Испания) debosch - (Нидерланды) azalazy | V29: =TEXT(G29,"0")&":"&TEXT(I29,"0") -> 4:4
B30: 0.64930556 | C30: =TRIM($D$4) -> Испания | D30: =TRIM($D$5) -> Нидерланды | E30: =$E$4 -> debosch | F30: =$E$5 -> azalazy | G30: =SUM(K30) -> 2 | I30: =SUM(L30,O30) -> 4 | K30: 2 | L30: 4 | N30: 2 | S30: 2 | T30: 188 | U30: =TEXT(B30,"h:mm")&" "&($C$1)&" ("&C30&") "&E30&" "&" - ("&D30&") "&F30&"" -> 15:35 Penalty shot cup (Испания) debosch - (Нидерланды) azalazy | V30: =TEXT(G30,"0")&":"&TEXT(I30,"0") -> 2:4
B31: 0.65277778 | C31: =TRIM($D$4) -> Испания | D31: =TRIM($D$5) -> Нидерланды | E31: =$E$4 -> debosch | F31: =$E$5 -> azalazy | G31: =SUM(K31) -> 4 | I31: =SUM(L31,O31) -> 2 | K31: 4 | L31: 2 | N31: 3 | S31: 3 | T31: 189 | U31: =TEXT(B31,"h:mm")&" "&($C$1)&" ("&C31&") "&E31&" "&" - ("&D31&") "&F31&"" -> 15:40 Penalty shot cup (Испания) debosch - (Нидерланды) azalazy | V31: =TEXT(G31,"0")&":"&TEXT(I31,"0") -> 4:2
B32: 0.65625 | C32: =TRIM($D$6) -> Германия | D32: =TRIM($D$5) -> Нидерланды | E32: =$E$6 -> ⁠nxkitorio | F32: =$E$5 -> azalazy | G32: =SUM(K32) -> 3 | I32: =SUM(L32,O32) -> 3 | K32: 3 | L32: 3 | N32: 1 | S32: 1 | T32: 190 | U32: =TEXT(B32,"h:mm")&" "&($C$1)&" ("&C32&") "&E32&" "&" - ("&D32&") "&F32&"" -> 15:45 Penalty shot cup (Германия) ⁠nxkitorio - (Нидерланды) azalazy | V32: =TEXT(G32,"0")&":"&TEXT(I32,"0") -> 3:3
B33: 0.65972222 | C33: =TRIM($D$6) -> Германия | D33: =TRIM($D$5) -> Нидерланды | E33: =$E$6 -> ⁠nxkitorio | F33: =$E$5 -> azalazy | G33: =SUM(K33) -> 3 | I33: =SUM(L33,O33) -> 4 | J33: 5 | K33: 3 | L33: 4 | M33: 3 | N33: 2 | S33: 2 | T33: 191 | U33: =TEXT(B33,"h:mm")&" "&($C$1)&" ("&C33&") "&E33&" "&" - ("&D33&") "&F33&"" -> 15:50 Penalty shot cup (Германия) ⁠nxkitorio - (Нидерланды) azalazy | V33: =TEXT(G33,"0")&":"&TEXT(I33,"0") -> 3:4
B34: 0.66319444 | C34: =TRIM($D$6) -> Германия | D34: =TRIM($D$5) -> Нидерланды | E34: =$E$6 -> ⁠nxkitorio | F34: =$E$5 -> azalazy | G34: =SUM(K34) -> 4 | I34: =SUM(L34,O34) -> 4 | K34: 4 | L34: 4 | N34: 3 | S34: 3 | T34: 192 | U34: =TEXT(B34,"h:mm")&" "&($C$1)&" ("&C34&") "&E34&" "&" - ("&D34&") "&F34&"" -> 15:55 Penalty shot cup (Германия) ⁠nxkitorio - (Нидерланды) azalazy | V34: =TEXT(G34,"0")&":"&TEXT(I34,"0") -> 4:4
B35: 0.66666667 | C35: =TRIM($D$6) -> Германия | D35: =TRIM($D$4) -> Испания | E35: =$E$6 -> ⁠nxkitorio | F35: =$E$4 -> debosch | G35: =SUM(K35) -> 2 | I35: =SUM(L35) -> 3 | K35: 2 | L35: 3 | N35: 1 | S35: 1 | T35: 193 | U35: =TEXT(B35,"h:mm")&" "&($C$1)&" ("&C35&") "&E35&" "&" - ("&D35&") "&F35&"" -> 16:00 Penalty shot cup (Германия) ⁠nxkitorio - (Испания) debosch | V35: =TEXT(G35,"0")&":"&TEXT(I35,"0") -> 2:3
B36: 0.67013889 | C36: =TRIM($D$6) -> Германия | D36: =TRIM($D$4) -> Испания | E36: =$E$6 -> ⁠nxkitorio | F36: =$E$4 -> debosch | G36: =SUM(K36) -> 5 | I36: =SUM(L36) -> 5 | K36: 5 | L36: 5 | N36: 2 | S36: 2 | T36: 194 | U36: =TEXT(B36,"h:mm")&" "&($C$1)&" ("&C36&") "&E36&" "&" - ("&D36&") "&F36&"" -> 16:05 Penalty shot cup (Германия) ⁠nxkitorio - (Испания) debosch | V36: =TEXT(G36,"0")&":"&TEXT(I36,"0") -> 5:5
B37: 0.67361111 | C37: =TRIM($D$6) -> Германия | D37: =TRIM($D$4) -> Испания | E37: =$E$6 -> ⁠nxkitorio | F37: =$E$4 -> debosch | G37: =SUM(K37) -> 4 | I37: =SUM(L37) -> 5 | K37: 4 | L37: 5 | N37: 3 | S37: 3 | T37: 195 | U37: =TEXT(B37,"h:mm")&" "&($C$1)&" ("&C37&") "&E37&" "&" - ("&D37&") "&F37&"" -> 16:10 Penalty shot cup (Германия) ⁠nxkitorio - (Испания) debosch | V37: =TEXT(G37,"0")&":"&TEXT(I37,"0") -> 4:5
B38: 0.67708333 | C38: =TRIM($D$5) -> Нидерланды | D38: =TRIM($D$4) -> Испания | E38: =$E$5 -> azalazy | F38: =$E$4 -> debosch | G38: =SUM(K38) -> 4 | I38: =SUM(L38) -> 4 | K38: 4 | L38: 4 | N38: 1 | S38: 1 | T38: 196 | U38: =TEXT(B38,"h:mm")&" "&($C$1)&" ("&C38&") "&E38&" "&" - ("&D38&") "&F38&"" -> 16:15 Penalty shot cup (Нидерланды) azalazy - (Испания) debosch | V38: =TEXT(G38,"0")&":"&TEXT(I38,"0") -> 4:4
B39: 0.68055556 | C39: =TRIM($D$5) -> Нидерланды | D39: =TRIM($D$4) -> Испания | E39: =$E$5 -> azalazy | F39: =$E$4 -> debosch | G39: =SUM(K39) -> 0 | I39: =SUM(L39) -> 0 | K39: - | L39: - | N39: 2 | S39: 2 | T39: 197 | U39: =TEXT(B39,"h:mm")&" "&($C$1)&" ("&C39&") "&E39&" "&" - ("&D39&") "&F39&"" -> 16:20 Penalty shot cup (Нидерланды) azalazy - (Испания) debosch | V39: =TEXT(G39,"0")&":"&TEXT(I39,"0") -> 0:0
B40: 0.68402778 | C40: =TRIM($D$5) -> Нидерланды | D40: =TRIM($D$4) -> Испания | E40: =$E$5 -> azalazy | F40: =$E$4 -> debosch | G40: =SUM(K40) -> 5 | I40: =SUM(L40) -> 4 | K40: 5 | L40: 4 | N40: 3 | S40: 3 | T40: 198 | U40: =TEXT(B40,"h:mm")&" "&($C$1)&" ("&C40&") "&E40&" "&" - ("&D40&") "&F40&"" -> 16:25 Penalty shot cup (Нидерланды) azalazy - (Испания) debosch | V40: =TEXT(G40,"0")&":"&TEXT(I40,"0") -> 5:4
B41: 0.6875 | C41: =TRIM($D$5) -> Нидерланды | D41: =TRIM($D$6) -> Германия | E41: =$E$5 -> azalazy | F41: =$E$6 -> ⁠nxkitorio | G41: =SUM(K41) -> 4 | I41: =SUM(L41) -> 4 | K41: 4 | L41: 4 | N41: 3 | S41: 1 | T41: 199 | U41: =TEXT(B41,"h:mm")&" "&($C$1)&" ("&C41&") "&E41&" "&" - ("&D41&") "&F41&"" -> 16:30 Penalty shot cup (Нидерланды) azalazy - (Германия) ⁠nxkitorio | V41: =TEXT(G41,"0")&":"&TEXT(I41,"0") -> 4:4
B42: 0.69097222 | C42: =TRIM($D$5) -> Нидерланды | D42: =TRIM($D$6) -> Германия | E42: =$E$5 -> azalazy | F42: =$E$6 -> ⁠nxkitorio | G42: =SUM(K42) -> 3 | I42: =SUM(L42) -> 4 | K42: 3 | L42: 4 | N42: 3 | S42: 2 | T42: 200 | U42: =TEXT(B42,"h:mm")&" "&($C$1)&" ("&C42&") "&E42&" "&" - ("&D42&") "&F42&"" -> 16:35 Penalty shot cup (Нидерланды) azalazy - (Германия) ⁠nxkitorio | V42: =TEXT(G42,"0")&":"&TEXT(I42,"0") -> 3:4
B43: 0.69444444 | C43: =TRIM($D$5) -> Нидерланды | D43: =TRIM($D$6) -> Германия | E43: =$E$5 -> azalazy | F43: =$E$6 -> ⁠nxkitorio | G43: 4 | I43: =SUM(L43) -> 4 | K43: 4 | L43: 4 | N43: 3 | S43: 3 | T43: 201 | U43: =TEXT(B43,"h:mm")&" "&($C$1)&" ("&C43&") "&E43&" "&" - ("&D43&") "&F43&"" -> 16:40 Penalty shot cup (Нидерланды) azalazy - (Германия) ⁠nxkitorio | V43: =TEXT(G43,"0")&":"&TEXT(I43,"0") -> 4:4
B44: 0.69791667 | C44: =TRIM($D$4) -> Испания | D44: =TRIM($D$6) -> Германия | E44: =$E$4 -> debosch | F44: =$E$6 -> ⁠nxkitorio | G44: =SUM(K44) -> 3 | I44: =SUM(L44) -> 3 | K44: 3 | L44: 3 | N44: 3 | S44: 1 | T44: 202 | U44: =TEXT(B44,"h:mm")&" "&($C$1)&" ("&C44&") "&E44&" "&" - ("&D44&") "&F44&"" -> 16:45 Penalty shot cup (Испания) debosch - (Германия) ⁠nxkitorio | V44: =TEXT(G44,"0")&":"&TEXT(I44,"0") -> 3:3
B45: 0.70138889 | C45: =TRIM($D$4) -> Испания | D45: =TRIM($D$6) -> Германия | E45: =$E$4 -> debosch | F45: =$E$6 -> ⁠nxkitorio | G45: =SUM(K45) -> 0 | I45: =SUM(L45) -> 0 | K45: - | L45: - | N45: 3 | S45: 2 | T45: 203 | U45: =TEXT(B45,"h:mm")&" "&($C$1)&" ("&C45&") "&E45&" "&" - ("&D45&") "&F45&"" -> 16:50 Penalty shot cup (Испания) debosch - (Германия) ⁠nxkitorio | V45: =TEXT(G45,"0")&":"&TEXT(I45,"0") -> 0:0
B46: 0.70486111 | C46: =TRIM($D$4) -> Испания | D46: =TRIM($D$6) -> Германия | E46: =$E$4 -> debosch | F46: =$E$6 -> ⁠nxkitorio | G46: =SUM(K46) -> 4 | I46: =SUM(L46) -> 3 | K46: 4 | L46: 3 | N46: 3 | S46: 3 | T46: 204 | U46: =TEXT(B46,"h:mm")&" "&($C$1)&" ("&C46&") "&E46&" "&" - ("&D46&") "&F46&"" -> 16:55 Penalty shot cup (Испания) debosch - (Германия) ⁠nxkitorio | V46: =TEXT(G46,"0")&":"&TEXT(I46,"0") -> 4:3
C48: Гл.Судья - | F48: Ст.Судья -

Sheet ТУР4
C1: ='ТУР1'!$C$1 -> Penalty shot cup | E1: ТУР4 | F1: ='ТУР1'!$F$1 -> 45719
U2: =C1 -> Penalty shot cup | V2: =E1 -> ТУР4 | AA2: =$F$1 -> 45719 | AG2: GP | AH2: W | AI2: D | AJ2: L | AK2: GF | AL2: GA | AM2: GD | AN2: PTS | AO2: rank
C3: Участник | D3: Команда | E3: Никнейм | U3: Никнейм | V3: М | W3: В | X3: Н | Y3: П | Z3: ЗГ | AA3: ПГ | AB3: РГ | AC3: Очки | AF3: =E4 -> debosch | AG3: {=SUM(($E$11:$E$46=AF3)*(ISNUMBER($G$11:$G$46)),($F$11:$F$46=AF3)*(ISNUMBER($I$11:$I$46)))} -> 24 | AH3: {=SUM(('ТУР4'!home=AF3)*('ТУР4'!homescore>'ТУР4'!visitorscore),('ТУР4'!visitor=AF3)*('ТУР4'!visitorscore>'ТУР4'!homescore))} -> 12 | AI3: {=SUM(('ТУР4'!home=AF3)*('ТУР4'!homescore='ТУР4'!visitorscore)*ISNUMBER('ТУР4'!visitorscore),('ТУР4'!visitor=AF3)*('ТУР4'!visitorscore='ТУР4'!homescore)*ISNUMBER('ТУР4'!homescore))} -> 8 | AJ3: {=SUM(('ТУР4'!home=AF3)*('ТУР4'!homescore<'ТУР4'!visitorscore),('ТУР4'!visitor=AF3)*('ТУР4'!visitorscore<'ТУР4'!homescore))} -> 4 | AK3: {=SUMIF('ТУР4'!home,AF3,'ТУР4'!homescore)+SUMIF('ТУР4'!visitor,AF3,'ТУР4'!visitorscore)} -> 89 | AL3: {=SUMIF('ТУР4'!home,AF3,'ТУР4'!visitorscore)+SUMIF('ТУР4'!visitor,AF3,'ТУР4'!homescore)} -> 76 | AM3: =AK3-AL3 -> 13 | AN3: {=AH3*Options!$B$2+AI3*Options!$B$3+AJ3*Options!$B$4+VLOOKUP(AF3,$E$4:$F$9,2,0)} -> 44 | AO3: =AK3+AM3*10000+AN3*100000000 -> 4400130089
C4: ='ТУР3'!$C$4 -> Тимофей Б. | D4: Италия | E4: ='ТУР3'!$E$4 -> debosch | U4: {=INDEX($AF$3:$AF$5,MATCH(LARGE($AO$3:$AO$5-ROW($AO$3:$AO$5)/COUNT($AO$3:$AO$5),ROW(U4)-ROW(U$4)+1),$AO$3:$AO$5-ROW($AO$3:$AO$5)/COUNT($AO$3:$AO$5),0))} -> debosch | V4: {=VLOOKUP($U4,$AF$3:$AN$5,2,0)} -> 24 | W4: {=VLOOKUP($U4,$AF$3:$AN$5,3,0)} -> 12 | X4: {=VLOOKUP($U4,$AF$3:$AN$5,4,0)} -> 8 | Y4: {=VLOOKUP($U4,$AF$3:$AN$5,5,0)} -> 4 | Z4: {=VLOOKUP($U4,$AF$3:$AN$5,6,0)} -> 89 | AA4: {=VLOOKUP($U4,$AF$3:$AN$5,7,0)} -> 76 | AB4: {=VLOOKUP($U4,$AF$3:$AN$5,8,0)} -> 13 | AC4: {=VLOOKUP($U4,$AF$3:$AN$5,9,0)} -> 44 | AF4: =E5 -> azalazy | AG4: {=SUM(($E$11:$E$46=AF4)*(ISNUMBER($G$11:$G$46)),($F$11:$F$46=AF4)*(ISNUMBER($I$11:$I$46)))} -> 24 | AH4: {=SUM(('ТУР4'!home=AF4)*('ТУР4'!homescore>'ТУР4'!visitorscore),('ТУР4'!visitor=AF4)*('ТУР4'!visitorscore>'ТУР4'!homescore))} -> 4 | AI4: {=SUM(('ТУР4'!home=AF4)*('ТУР4'!homescore='ТУР4'!visitorscore)*ISNUMBER('ТУР4'!visitorscore),('ТУР4'!visitor=AF4)*('ТУР4'!visitorscore='ТУР4'!homescore)*ISNUMBER('ТУР4'!homescore))} -> 8 | AJ4: {=SUM(('ТУР4'!home=AF4)*('ТУР4'!homescore<'ТУР4'!visitorscore),('ТУР4'!visitor=AF4)*('ТУР4'!visitorscore<'ТУР4'!homescore))} -> 12 | AK4: {=SUMIF('ТУР4'!home,AF4,'ТУР4'!homescore)+SUMIF('ТУР4'!visitor,AF4,'ТУР4'!visitorscore)} -> 70 | AL4: {=SUMIF('ТУР4'!home,AF4,'ТУР4'!visitorscore)+SUMIF('ТУР4'!visitor,AF4,'ТУР4'!homescore)} -> 82 | AM4: =AK4-AL4 -> -12 | AN4: {=AH4*Options!$B$2+AI4*Options!$B$3+AJ4*Options!$B$4+VLOOKUP(AF4,$E$4:$F$9,2,0)} -> 20 | AO4: =AK4+AM4*10000+AN4*100000000 -> 1999880070
C5: ='ТУР3'!$C$5 -> Азамат Г. | D5: Португалия | E5: ='ТУР3'!$E$5 -> azalazy | U5: {=INDEX($AF$3:$AF$5,MATCH(LARGE($AO$3:$AO$5-ROW($AO$3:$AO$5)/COUNT($AO$3:$AO$5),ROW(U5)-ROW(U$4)+1),$AO$3:$AO$5-ROW($AO$3:$AO$5)/COUNT($AO$3:$AO$5),0))} -> ⁠nxkitorio | V5: {=VLOOKUP($U5,$AF$3:$AN$5,2,0)} -> 24 | W5: {=VLOOKUP($U5,$AF$3:$AN$5,3,0)} -> 9 | X5: {=VLOOKUP($U5,$AF$3:$AN$5,4,0)} -> 6 | Y5: {=VLOOKUP($U5,$AF$3:$AN$5,5,0)} -> 9 | Z5: {=VLOOKUP($U5,$AF$3:$AN$5,6,0)} -> 76 | AA5: {=VLOOKUP($U5,$AF$3:$AN$5,7,0)} -> 77 | AB5: {=VLOOKUP($U5,$AF$3:$AN$5,8,0)} -> -1 | AC5: {=VLOOKUP($U5,$AF$3:$AN$5,9,0)} -> 33 | AF5: =E6 -> ⁠nxkitorio | AG5: {=SUM(($E$11:$E$46=AF5)*(ISNUMBER($G$11:$G$46)),($F$11:$F$46=AF5)*(ISNUMBER($I$11:$I$46)))} -> 24 | AH5: {=SUM(('ТУР4'!home=AF5)*('ТУР4'!homescore>'ТУР4'!visitorscore),('ТУР4'!visitor=AF5)*('ТУР4'!visitorscore>'ТУР4'!homescore))} -> 9 | AI5: {=SUM(('ТУР4'!home=AF5)*('ТУР4'!homescore='ТУР4'!visitorscore)*ISNUMBER('ТУР4'!visitorscore),('ТУР4'!visitor=AF5)*('ТУР4'!visitorscore='ТУР4'!homescore)*ISNUMBER('ТУР4'!homescore))} -> 6 | AJ5: {=SUM(('ТУР4'!home=AF5)*('ТУР4'!homescore<'ТУР4'!visitorscore),('ТУР4'!visitor=AF5)*('ТУР4'!visitorscore<'ТУР4'!homescore))} -> 9 | AK5: {=SUMIF('ТУР4'!home,AF5,'ТУР4'!homescore)+SUMIF('ТУР4'!visitor,AF5,'ТУР4'!visitorscore)} -> 76 | AL5: {=SUMIF('ТУР4'!home,AF5,'ТУР4'!visitorscore)+SUMIF('ТУР4'!visitor,AF5,'ТУР4'!homescore)} -> 77 | AM5: =AK5-AL5 -> -1 | AN5: {=AH5*Options!$B$2+AI5*Options!$B$3+AJ5*Options!$B$4+VLOOKUP(AF5,$E$4:$F$9,2,0)} -> 33 | AO5: =AK5+AM5*10000+AN5*100000000 -> 3299990076
C6: ='ТУР3'!$C$6 -> Никита Д. | D6: Аргентина | E6: ='ТУР3'!$E$6 -> ⁠nxkitorio | U6: {=INDEX($AF$3:$AF$5,MATCH(LARGE($AO$3:$AO$5-ROW($AO$3:$AO$5)/COUNT($AO$3:$AO$5),ROW(U6)-ROW(U$4)+1),$AO$3:$AO$5-ROW($AO$3:$AO$5)/COUNT($AO$3:$AO$5),0))} -> azalazy | V6: {=VLOOKUP($U6,$AF$3:$AN$5,2,0)} -> 24 | W6: {=VLOOKUP($U6,$AF$3:$AN$5,3,0)} -> 4 | X6: {=VLOOKUP($U6,$AF$3:$AN$5,4,0)} -> 8 | Y6: {=VLOOKUP($U6,$AF$3:$AN$5,5,0)} -> 12 | Z6: {=VLOOKUP($U6,$AF$3:$AN$5,6,0)} -> 70 | AA6: {=VLOOKUP($U6,$AF$3:$AN$5,7,0)} -> 82 | AB6: {=VLOOKUP($U6,$AF$3:$AN$5,8,0)} -> -12 | AC6: {=VLOOKUP($U6,$AF$3:$AN$5,9,0)} -> 20
B8: пуск | C8: Команда | D8: Команда | E8: Дом | F8: Гость | G8: Результат | K8: Cчет | N8: PS | S8: PS | T8: № матча | U8: Матч | V8: Счет
B11: 0.70833333 | C11: =TRIM($D$4) -> Италия | D11: =TRIM($D$5) -> Португалия | E11: =$E$4 -> debosch | F11: =$E$5 -> azalazy | G11: =SUM(K11) -> 5 | I11: =SUM(L11) -> 3 | K11: 5 | L11: 3 | M11: 5 | N11: 1 | S11: 1 | T11: 205 | U11: =TEXT(B11,"h:mm")&" "&($C$1)&" ("&C11&") "&E11&" "&" - ("&D11&") "&F11&"" -> 17:00 Penalty shot cup (Италия) debosch - (Португалия) azalazy | V11: =TEXT(G11,"0")&":"&TEXT(I11,"0") -> 5:3
B12: 0.71180556 | C12: =TRIM($D$4) -> Италия | D12: =TRIM($D$5) -> Португалия | E12: =$E$4 -> debosch | F12: =$E$5 -> azalazy | G12: =SUM(K12) -> 5 | I12: =SUM(L12) -> 5 | K12: 5 | L12: 5 | N12: 2 | S12: 2 | T12: 206 | U12: =TEXT(B12,"h:mm")&" "&($C$1)&" ("&C12&") "&E12&" "&" - ("&D12&") "&F12&"" -> 17:05 Penalty shot cup (Италия) debosch - (Португалия) azalazy | V12: =TEXT(G12,"0")&":"&TEXT(I12,"0") -> 5:5
B13: 0.71527778 | C13: =TRIM($D$4) -> Италия | D13: =TRIM($D$5) -> Португалия | E13: =$E$4 -> debosch | F13: =$E$5 -> azalazy | G13: =SUM(K13) -> 4 | I13: =SUM(L13) -> 2 | K13: 4 | L13: 2 | N13: 3 | S13: 3 | T13: 207 | U13: =TEXT(B13,"h:mm")&" "&($C$1)&" ("&C13&") "&E13&" "&" - ("&D13&") "&F13&"" -> 17:10 Penalty shot cup (Италия) debosch - (Португалия) azalazy | V13: =TEXT(G13,"0")&":"&TEXT(I13,"0") -> 4:2
B14: 0.71875 | C14: =TRIM($D$6) -> Аргентина | D14: =TRIM($D$5) -> Португалия | E14: =$E$6 -> ⁠nxkitorio | F14: =$E$5 -> azalazy | G14: =SUM(K14) -> 4 | I14: =SUM(L14) -> 1 | K14: 4 | L14: 1 | N14: 1 | S14: 1 | T14: 208 | U14: =TEXT(B14,"h:mm")&" "&($C$1)&" ("&C14&") "&E14&" "&" - ("&D14&") "&F14&"" -> 17:15 Penalty shot cup (Аргентина) ⁠nxkitorio - (Португалия) azalazy | V14: =TEXT(G14,"0")&":"&TEXT(I14,"0") -> 4:1
B15: 0.72222222 | C15: =TRIM($D$6) -> Аргентина | D15: =TRIM($D$5) -> Португалия | E15: =$E$6 -> ⁠nxkitorio | F15: =$E$5 -> azalazy | G15: =SUM(K15) -> 4 | I15: =SUM(L15) -> 4 | K15: 4 | L15: 4 | N15: 2 | S15: 2 | T15: 209 | U15: =TEXT(B15,"h:mm")&" "&($C$1)&" ("&C15&") "&E15&" "&" - ("&D15&") "&F15&"" -> 17:20 Penalty shot cup (Аргентина) ⁠nxkitorio - (Португалия) azalazy | V15: =TEXT(G15,"0")&":"&TEXT(I15,"0") -> 4:4
B16: 0.72569444 | C16: =TRIM($D$6) -> Аргентина | D16: =TRIM($D$5) -> Португалия | E16: =$E$6 -> ⁠nxkitorio | F16: =$E$5 -> azalazy | G16: =SUM(K16) -> 4 | I16: =SUM(L16) -> 3 | K16: 4 | L16: 3 | N16: 3 | S16: 3 | T16: 210 | U16: =TEXT(B16,"h:mm")&" "&($C$1)&" ("&C16&") "&E16&" "&" - ("&D16&") "&F16&"" -> 17:25 Penalty shot cup (Аргентина) ⁠nxkitorio - (Португалия) azalazy | V16: =TEXT(G16,"0")&":"&TEXT(I16,"0") -> 4:3
B17: 0.72916667 | C17: =TRIM($D$6) -> Аргентина | D17: =TRIM($D$4) -> Италия | E17: =$E$6 -> ⁠nxkitorio | F17: =$E$4 -> debosch | G17: =SUM(K17) -> 4 | I17: =SUM(L17) -> 5 | K17: 4 | L17: 5 | N17: 1 | S17: 1 | T17: 211 | U17: =TEXT(B17,"h:mm")&" "&($C$1)&" ("&C17&") "&E17&" "&" - ("&D17&") "&F17&"" -> 17:30 Penalty shot cup (Аргентина) ⁠nxkitorio - (Италия) debosch | V17: =TEXT(G17,"0")&":"&TEXT(I17,"0") -> 4:5
B18: 0.73263889 | C18: =TRIM($D$6) -> Аргентина | D18: =TRIM($D$4) -> Италия | E18: =$E$6 -> ⁠nxkitorio | F18: =$E$4 -> debosch | G18: =SUM(K18) -> 4 | I18: =SUM(L18,O18) -> 5 | K18: 4 | L18: 5 | N18: 2 | S18: 2 | T18: 212 | U18: =TEXT(B18,"h:mm")&" "&($C$1)&" ("&C18&") "&E18&" "&" - ("&D18&") "&F18&"" -> 17:35 Penalty shot cup (Аргентина) ⁠nxkitorio - (Италия) debosch | V18: =TEXT(G18,"0")&":"&TEXT(I18,"0") -> 4:5
B19: 0.73611111 | C19: =TRIM($D$6) -> Аргентина | D19: =TRIM($D$4) -> Италия | E19: =$E$6 -> ⁠nxkitorio | F19: =$E$4 -> debosch | G19: =SUM(K19) -> 0 | I19: =SUM(L19,O19) -> 0 | K19: - | L19: - | N19: 3 | S19: 3 | T19: 213 | U19: =TEXT(B19,"h:mm")&" "&($C$1)&" ("&C19&") "&E19&" "&" - ("&D19&") "&F19&"" -> 17:40 Penalty shot cup (Аргентина) ⁠nxkitorio - (Италия) debosch | V19: =TEXT(G19,"0")&":"&TEXT(I19,"0") -> 0:0
B20: 0.73958333 | C20: =TRIM($D$5) -> Португалия | D20: =TRIM($D$4) -> Италия | E20: =$E$5 -> azalazy | F20: =$E$4 -> debosch | G20: =SUM(K20) -> 2 | I20: =SUM(L20,O20) -> 4 | K20: 2 | L20: 4 | N20: 1 | S20: 1 | T20: 214 | U20: =TEXT(B20,"h:mm")&" "&($C$1)&" ("&C20&") "&E20&" "&" - ("&D20&") "&F20&"" -> 17:45 Penalty shot cup (Португалия) azalazy - (Италия) debosch | V20: =TEXT(G20,"0")&":"&TEXT(I20,"0") -> 2:4
B21: 0.74305556 | C21: =TRIM($D$5) -> Португалия | D21: =TRIM($D$4) -> Италия | E21: =$E$5 -> azalazy | F21: =$E$4 -> debosch | G21: =SUM(K21) -> 4 | I21: =SUM(L21,O21) -> 3 | K21: 4 | L21: 3 | N21: 2 | S21: 2 | T21: 215 | U21: =TEXT(B21,"h:mm")&" "&($C$1)&" ("&C21&") "&E21&" "&" - ("&D21&") "&F21&"" -> 17:50 Penalty shot cup (Португалия) azalazy - (Италия) debosch | V21: =TEXT(G21,"0")&":"&TEXT(I21,"0") -> 4:3
B22: 0.74652778 | C22: =TRIM($D$5) -> Португалия | D22: =TRIM($D$4) -> Италия | E22: =$E$5 -> azalazy | F22: =$E$4 -> debosch | G22: =SUM(K22) -> 4 | I22: =SUM(L22,O22) -> 5 | K22: 4 | L22: 5 | N22: 3 | S22: 3 | T22: 216 | U22: =TEXT(B22,"h:mm")&" "&($C$1)&" ("&C22&") "&E22&" "&" - ("&D22&") "&F22&"" -> 17:55 Penalty shot cup (Португалия) azalazy - (Италия) debosch | V22: =TEXT(G22,"0")&":"&TEXT(I22,"0") -> 4:5
B23: 0.75 | C23: =TRIM($D$5) -> Португалия | D23: =TRIM($D$6) -> Аргентина | E23: =$E$5 -> azalazy | F23: =$E$6 -> ⁠nxkitorio | G23: =SUM(K23) -> 2 | I23: =SUM(L23) -> 4 | K23: 2 | L23: 4 | N23: 1 | S23: 1 | T23: 217 | U23: =TEXT(B23,"h:mm")&" "&($C$1)&" ("&C23&") "&E23&" "&" - ("&D23&") "&F23&"" -> 18:00 Penalty shot cup (Португалия) azalazy - (Аргентина) ⁠nxkitorio | V23: =TEXT(G23,"0")&":"&TEXT(I23,"0") -> 2:4
B24: 0.75347222 | C24: =TRIM($D$5) -> Португалия | D24: =TRIM($D$6) -> Аргентина | E24: =$E$5 -> azalazy | F24: =$E$6 -> ⁠nxkitorio | G24: =SUM(K24) -> 3 | I24: =SUM(L24) -> 0 | K24: 3 | L24: 0 | N24: 2 | S24: 2 | T24: 218 | U24: =TEXT(B24,"h:mm")&" "&($C$1)&" ("&C24&") "&E24&" "&" - ("&D24&") "&F24&"" -> 18:05 Penalty shot cup (Португалия) azalazy - (Аргентина) ⁠nxkitorio | V24: =TEXT(G24,"0")&":"&TEXT(I24,"0") -> 3:0
B25: 0.75694444 | C25: =TRIM($D$5) -> Португалия | D25: =TRIM($D$6) -> Аргентина | E25: =$E$5 -> azalazy | F25: =$E$6 -> ⁠nxkitorio | G25: =SUM(K25) -> 4 | I25: =SUM(L25) -> 5 | K25: 4 | L25: 5 | N25: 3 | S25: 3 | T25: 219 | U25: =TEXT(B25,"h:mm")&" "&($C$1)&" ("&C25&") "&E25&" "&" - ("&D25&") "&F25&"" -> 18:10 Penalty shot cup (Португалия) azalazy - (Аргентина) ⁠nxkitorio | V25: =TEXT(G25,"0")&":"&TEXT(I25,"0") -> 4:5
B26: 0.76041667 | C26: =TRIM($D$4) -> Италия | D26: =TRIM($D$6) -> Аргентина | E26: =$E$4 -> debosch | F26: =$E$6 -> ⁠nxkitorio | G26: =SUM(K26) -> 5 | I26: =SUM(L26) -> 3 | K26: 5 | L26: 3 | N26: 1 | S26: 1 | T26: 220 | U26: =TEXT(B26,"h:mm")&" "&($C$1)&" ("&C26&") "&E26&" "&" - ("&D26&") "&F26&"" -> 18:15 Penalty shot cup (Италия) debosch - (Аргентина) ⁠nxkitorio | V26: =TEXT(G26,"0")&":"&TEXT(I26,"0") -> 5:3
B27: 0.76388889 | C27: =TRIM($D$4) -> Италия | D27: =TRIM($D$6) -> Аргентина | E27: =$E$4 -> debosch | F27: =$E$6 -> ⁠nxkitorio | G27: =SUM(K27) -> 2 | I27: =SUM(L27) -> 3 | K27: 2 | L27: 3 | N27: 2 | S27: 2 | T27: 221 | U27: =TEXT(B27,"h:mm")&" "&($C$1)&" ("&C27&") "&E27&" "&" - ("&D27&") "&F27&"" -> 18:20 Penalty shot cup (Италия) debosch - (Аргентина) ⁠nxkitorio | V27: =TEXT(G27,"0")&":"&TEXT(I27,"0") -> 2:3
B28: 0.76736111 | C28: =TRIM($D$4) -> Италия | D28: =TRIM($D$6) -> Аргентина | E28: =$E$4 -> debosch | F28: =$E$6 -> ⁠nxkitorio | G28: =SUM(K28) -> 5 | I28: =SUM(L28) -> 5 | K28: 5 | L28: 5 | N28: 3 | S28: 3 | T28: 222 | U28: =TEXT(B28,"h:mm")&" "&($C$1)&" ("&C28&") "&E28&" "&" - ("&D28&") "&F28&"" -> 18:25 Penalty shot cup (Италия) debosch - (Аргентина) ⁠nxkitorio | V28: =TEXT(G28,"0")&":"&TEXT(I28,"0") -> 5:5
B29: 0.77083333 | C29: =TRIM($D$4) -> Италия | D29: =TRIM($D$5) -> Португалия | E29: =$E$4 -> debosch | F29: =$E$5 -> azalazy | G29: =SUM(K29) -> 4 | I29: =SUM(L29) -> 4 | K29: 4 | L29: 4 | N29: 1 | S29: 1 | T29: 223 | U29: =TEXT(B29,"h:mm")&" "&($C$1)&" ("&C29&") "&E29&" "&" - ("&D29&") "&F29&"" -> 18:30 Penalty shot cup (Италия) debosch - (Португалия) azalazy | V29: =TEXT(G29,"0")&":"&TEXT(I29,"0") -> 4:4
B30: 0.77430556 | C30: =TRIM($D$4) -> Италия | D30: =TRIM($D$5) -> Португалия | E30: =$E$4 -> debosch | F30: =$E$5 -> azalazy | G30: =SUM(K30) -> 0 | I30: =SUM(L30,O30) -> 0 | K30: - | L30: - | N30: 2 | S30: 2 | T30: 224 | U30: =TEXT(B30,"h:mm")&" "&($C$1)&" ("&C30&") "&E30&" "&" - ("&D30&") "&F30&"" -> 18:35 Penalty shot cup (Италия) debosch - (Португалия) azalazy | V30: =TEXT(G30,"0")&":"&TEXT(I30,"0") -> 0:0
B31: 0.77777778 | C31: =TRIM($D$4) -> Италия | D31: =TRIM($D$5) -> Португалия | E31: =$E$4 -> debosch | F31: =$E$5 -> azalazy | G31: =SUM(K31) -> 4 | I31: =SUM(L31,O31) -> 2 | K31: 4 | L31: 2 | N31: 3 | S31: 3 | T31: 225 | U31: =TEXT(B31,"h:mm")&" "&($C$1)&" ("&C31&") "&E31&" "&" - ("&D31&") "&F31&"" -> 18:40 Penalty shot cup (Италия) debosch - (Португалия) azalazy | V31: =TEXT(G31,"0")&":"&TEXT(I31,"0") -> 4:2
B32: 0.78125 | C32: =TRIM($D$6) -> Аргентина | D32: =TRIM($D$5) -> Португалия | E32: =$E$6 -> ⁠nxkitorio | F32: =$E$5 -> azalazy | G32: =SUM(K32) -> 3 | I32: =SUM(L32,O32) -> 3 | K32: 3 | L32: 3 | N32: 1 | S32: 1 | T32: 226 | U32: =TEXT(B32,"h:mm")&" "&($C$1)&" ("&C32&") "&E32&" "&" - ("&D32&") "&F32&"" -> 18:45 Penalty shot cup (Аргентина) ⁠nxkitorio - (Португалия) azalazy | V32: =TEXT(G32,"0")&":"&TEXT(I32,"0") -> 3:3
B33: 0.78472222 | C33: =TRIM($D$6) -> Аргентина | D33: =TRIM($D$5) -> Португалия | E33: =$E$6 -> ⁠nxkitorio | F33: =$E$5 -> azalazy | G33: =SUM(K33) -> 1 | I33: =SUM(L33,O33) -> 3 | J33: 5 | K33: 1 | L33: 3 | N33: 2 | S33: 2 | T33: 227 | U33: =TEXT(B33,"h:mm")&" "&($C$1)&" ("&C33&") "&E33&" "&" - ("&D33&") "&F33&"" -> 18:50 Penalty shot cup (Аргентина) ⁠nxkitorio - (Португалия) azalazy | V33: =TEXT(G33,"0")&":"&TEXT(I33,"0") -> 1:3
B34: 0.78819444 | C34: =TRIM($D$6) -> Аргентина | D34: =TRIM($D$5) -> Португалия | E34: =$E$6 -> ⁠nxkitorio | F34: =$E$5 -> azalazy | G34: =SUM(K34) -> 3 | I34: =SUM(L34,O34) -> 1 | K34: 3 | L34: 1 | N34: 3 | S34: 3 | T34: 228 | U34: =TEXT(B34,"h:mm")&" "&($C$1)&" ("&C34&") "&E34&" "&" - ("&D34&") "&F34&"" -> 18:55 Penalty shot cup (Аргентина) ⁠nxkitorio - (Португалия) azalazy | V34: =TEXT(G34,"0")&":"&TEXT(I34,"0") -> 3:1
B35: 0.79166667 | C35: =TRIM($D$6) -> Аргентина | D35: =TRIM($D$4) -> Италия | E35: =$E$6 -> ⁠nxkitorio | F35: =$E$4 -> debosch | G35: =SUM(K35) -> 3 | I35: =SUM(L35) -> 4 | K35: 3 | L35: 4 | N35: 1 | S35: 1 | T35: 229 | U35: =TEXT(B35,"h:mm")&" "&($C$1)&" ("&C35&") "&E35&" "&" - ("&D35&") "&F35&"" -> 19:00 Penalty shot cup (Аргентина) ⁠nxkitorio - (Италия) debosch | V35: =TEXT(G35,"0")&":"&TEXT(I35,"0") -> 3:4
B36: 0.79513889 | C36: =TRIM($D$6) -> Аргентина | D36: =TRIM($D$4) -> Италия | E36: =$E$6 -> ⁠nxkitorio | F36: =$E$4 -> debosch | G36: =SUM(K36) -> 4 | I36: =SUM(L36) -> 4 | K36: 4 | L36: 4 | N36: 2 | S36: 2 | T36: 230 | U36: =TEXT(B36,"h:mm")&" "&($C$1)&" ("&C36&") "&E36&" "&" - ("&D36&") "&F36&"" -> 19:05 Penalty shot cup (Аргентина) ⁠nxkitorio - (Италия) debosch | V36: =TEXT(G36,"0")&":"&TEXT(I36,"0") -> 4:4
B37: 0.79861111 | C37: =TRIM($D$6) -> Аргентина | D37: =TRIM($D$4) -> Италия | E37: =$E$6 -> ⁠nxkitorio | F37: =$E$4 -> debosch | G37: =SUM(K37) -> 2 | I37: =SUM(L37) -> 4 | K37: 2 | L37: 4 | N37: 3 | S37: 3 | T37: 231 | U37: =TEXT(B37,"h:mm")&" "&($C$1)&" ("&C37&") "&E37&" "&" - ("&D37&") "&F37&"" -> 19:10 Penalty shot cup (Аргентина) ⁠nxkitorio - (Италия) debosch | V37: =TEXT(G37,"0")&":"&TEXT(I37,"0") -> 2:4
B38: 0.80208333 | C38: =TRIM($D$5) -> Португалия | D38: =TRIM($D$4) -> Италия | E38: =$E$5 -> azalazy | F38: =$E$4 -> debosch | G38: =SUM(K38) -> 3 | I38: =SUM(L38) -> 3 | K38: 3 | L38: 3 | N38: 1 | S38: 1 | T38: 232 | U38: =TEXT(B38,"h:mm")&" "&($C$1)&" ("&C38&") "&E38&" "&" - ("&D38&") "&F38&"" -> 19:15 Penalty shot cup (Португалия) azalazy - (Италия) debosch | V38: =TEXT(G38,"0")&":"&TEXT(I38,"0") -> 3:3
B39: 0.80555556 | C39: =TRIM($D$5) -> Португалия | D39: =TRIM($D$4) -> Италия | E39: =$E$5 -> azalazy | F39: =$E$4 -> debosch | G39: =SUM(K39) -> 4 | I39: =SUM(L39) -> 2 | K39: 4 | L39: 2 | N39: 2 | S39: 2 | T39: 233 | U39: =TEXT(B39,"h:mm")&" "&($C$1)&" ("&C39&") "&E39&" "&" - ("&D39&") "&F39&"" -> 19:20 Penalty shot cup (Португалия) azalazy - (Италия) debosch | V39: =TEXT(G39,"0")&":"&TEXT(I39,"0") -> 4:2
B40: 0.80902778 | C40: =TRIM($D$5) -> Португалия | D40: =TRIM($D$4) -> Италия | E40: =$E$5 -> azalazy | F40: =$E$4 -> debosch | G40: =SUM(K40) -> 5 | I40: =SUM(L40) -> 5 | K40: 5 | L40: 5 | N40: 3 | S40: 3 | T40: 234 | U40: =TEXT(B40,"h:mm")&" "&($C$1)&" ("&C40&") "&E40&" "&" - ("&D40&") "&F40&"" -> 19:25 Penalty shot cup (Португалия) azalazy - (Италия) debosch | V40: =TEXT(G40,"0")&":"&TEXT(I40,"0") -> 5:5
B41: 0.8125 | C41: =TRIM($D$5) -> Португалия | D41: =TRIM($D$6) -> Аргентина | E41: =$E$5 -> azalazy | F41: =$E$6 -> ⁠nxkitorio | G41: =SUM(K41) -> 4 | I41: =SUM(L41) -> 5 | K41: 4 | L41: 5 | N41: 3 | S41: 1 | T41: 235 | U41: =TEXT(B41,"h:mm")&" "&($C$1)&" ("&C41&") "&E41&" "&" - ("&D41&") "&F41&"" -> 19:30 Penalty shot cup (Португалия) azalazy - (Аргентина) ⁠nxkitorio | V41: =TEXT(G41,"0")&":"&TEXT(I41,"0") -> 4:5
B42: 0.81597222 | C42: =TRIM($D$5) -> Португалия | D42: =TRIM($D$6) -> Аргентина | E42: =$E$5 -> azalazy | F42: =$E$6 -> ⁠nxkitorio | G42: =SUM(K42) -> 4 | I42: =SUM(L42) -> 5 | K42: 4 | L42: 5 | N42: 3 | S42: 2 | T42: 236 | U42: =TEXT(B42,"h:mm")&" "&($C$1)&" ("&C42&") "&E42&" "&" - ("&D42&") "&F42&"" -> 19:35 Penalty shot cup (Португалия) azalazy - (Аргентина) ⁠nxkitorio | V42: =TEXT(G42,"0")&":"&TEXT(I42,"0") -> 4:5
B43: 0.81944444 | C43: =TRIM($D$5) -> Португалия | D43: =TRIM($D$6) -> Аргентина | E43: =$E$5 -> azalazy | F43: =$E$6 -> ⁠nxkitorio | G43: =SUM(K43) -> 0 | I43: =SUM(L43) -> 0 | K43: - | L43: - | N43: 3 | S43: 3 | T43: 237 | U43: =TEXT(B43,"h:mm")&" "&($C$1)&" ("&C43&") "&E43&" "&" - ("&D43&") "&F43&"" -> 19:40 Penalty shot cup (Португалия) azalazy - (Аргентина) ⁠nxkitorio | V43: =TEXT(G43,"0")&":"&TEXT(I43,"0") -> 0:0
B44: 0.82291667 | C44: =TRIM($D$4) -> Италия | D44: =TRIM($D$6) -> Аргентина | E44: =$E$4 -> debosch | F44: =$E$6 -> ⁠nxkitorio | G44: =SUM(K44) -> 5 | I44: =SUM(L44) -> 4 | K44: 5 | L44: 4 | N44: 3 | S44: 1 | T44: 238 | U44: =TEXT(B44,"h:mm")&" "&($C$1)&" ("&C44&") "&E44&" "&" - ("&D44&") "&F44&"" -> 19:45 Penalty shot cup (Италия) debosch - (Аргентина) ⁠nxkitorio | V44: =TEXT(G44,"0")&":"&TEXT(I44,"0") -> 5:4
B45: 0.82638889 | C45: =TRIM($D$4) -> Италия | D45: =TRIM($D$6) -> Аргентина | E45: =$E$4 -> debosch | F45: =$E$6 -> ⁠nxkitorio | G45: =SUM(K45) -> 4 | I45: =SUM(L45) -> 3 | K45: 4 | L45: 3 | N45: 3 | S45: 2 | T45: 239 | U45: =TEXT(B45,"h:mm")&" "&($C$1)&" ("&C45&") "&E45&" "&" - ("&D45&") "&F45&"" -> 19:50 Penalty shot cup (Италия) debosch - (Аргентина) ⁠nxkitorio | V45: =TEXT(G45,"0")&":"&TEXT(I45,"0") -> 4:3
B46: 0.82986111 | C46: =TRIM($D$4) -> Италия | D46: =TRIM($D$6) -> Аргентина | E46: =$E$4 -> debosch | F46: =$E$6 -> ⁠nxkitorio | G46: =SUM(K46) -> 2 | I46: =SUM(L46) -> 3 | K46: 2 | L46: 3 | N46: 3 | S46: 3 | T46: 240 | U46: =TEXT(B46,"h:mm")&" "&($C$1)&" ("&C46&") "&E46&" "&" - ("&D46&") "&F46&"" -> 19:55 Penalty shot cup (Италия) debosch - (Аргентина) ⁠nxkitorio | V46: =TEXT(G46,"0")&":"&TEXT(I46,"0") -> 2:3
C48: Гл.Судья - | F48: Ст.Судья -

Sheet ТУР5
C1: ='ТУР1'!$C$1 -> Penalty shot cup | E1: ТУР5 | F1: ='ТУР1'!$F$1 -> 45719
U2: =C1 -> Penalty shot cup | V2: =E1 -> ТУР5 | AA2: =$F$1 -> 45719 | AG2: GP | AH2: W | AI2: D | AJ2: L | AK2: GF | AL2: GA | AM2: GD | AN2: PTS | AO2: rank
C3: Участник | D3: Команда | E3: Никнейм | U3: Никнейм | V3: М | W3: В | X3: Н | Y3: П | Z3: ЗГ | AA3: ПГ | AB3: РГ | AC3: Очки | AF3: =E4 -> debosch | AG3: {=SUM(($E$11:$E$46=AF3)*(ISNUMBER($G$11:$G$46)),($F$11:$F$46=AF3)*(ISNUMBER($I$11:$I$46)))} -> 24 | AH3: {=SUM(('ТУР5'!home=AF3)*('ТУР5'!homescore>'ТУР5'!visitorscore),('ТУР5'!visitor=AF3)*('ТУР5'!visitorscore>'ТУР5'!homescore))} -> 8 | AI3: {=SUM(('ТУР5'!home=AF3)*('ТУР5'!homescore='ТУР5'!visitorscore)*ISNUMBER('ТУР5'!visitorscore),('ТУР5'!visitor=AF3)*('ТУР5'!visitorscore='ТУР5'!homescore)*ISNUMBER('ТУР5'!homescore))} -> 6 | AJ3: {=SUM(('ТУР5'!home=AF3)*('ТУР5'!homescore<'ТУР5'!visitorscore),('ТУР5'!visitor=AF3)*('ТУР5'!visitorscore<'ТУР5'!homescore))} -> 10 | AK3: {=SUMIF('ТУР5'!home,AF3,'ТУР5'!homescore)+SUMIF('ТУР5'!visitor,AF3,'ТУР5'!visitorscore)} -> 82 | AL3: {=SUMIF('ТУР5'!home,AF3,'ТУР5'!visitorscore)+SUMIF('ТУР5'!visitor,AF3,'ТУР5'!homescore)} -> 82 | AM3: =AK3-AL3 -> 0 | AN3: {=AH3*Options!$B$2+AI3*Options!$B$3+AJ3*Options!$B$4+VLOOKUP(AF3,$E$4:$F$9,2,0)} -> 30 | AO3: =AK3+AM3*10000+AN3*100000000 -> 3000000082
C4: ='ТУР3'!$C$4 -> Тимофей Б. | D4: Италия | E4: ='ТУР3'!$E$4 -> debosch | U4: {=INDEX($AF$3:$AF$5,MATCH(LARGE($AO$3:$AO$5-ROW($AO$3:$AO$5)/COUNT($AO$3:$AO$5),ROW(U4)-ROW(U$4)+1),$AO$3:$AO$5-ROW($AO$3:$AO$5)/COUNT($AO$3:$AO$5),0))} -> azalazy | V4: {=VLOOKUP($U4,$AF$3:$AN$5,2,0)} -> 24 | W4: {=VLOOKUP($U4,$AF$3:$AN$5,3,0)} -> 12 | X4: {=VLOOKUP($U4,$AF$3:$AN$5,4,0)} -> 8 | Y4: {=VLOOKUP($U4,$AF$3:$AN$5,5,0)} -> 4 | Z4: {=VLOOKUP($U4,$AF$3:$AN$5,6,0)} -> 89 | AA4: {=VLOOKUP($U4,$AF$3:$AN$5,7,0)} -> 76 | AB4: {=VLOOKUP($U4,$AF$3:$AN$5,8,0)} -> 13 | AC4: {=VLOOKUP($U4,$AF$3:$AN$5,9,0)} -> 44 | AF4: =E5 -> azalazy | AG4: {=SUM(($E$11:$E$46=AF4)*(ISNUMBER($G$11:$G$46)),($F$11:$F$46=AF4)*(ISNUMBER($I$11:$I$46)))} -> 24 | AH4: {=SUM(('ТУР5'!home=AF4)*('ТУР5'!homescore>'ТУР5'!visitorscore),('ТУР5'!visitor=AF4)*('ТУР5'!visitorscore>'ТУР5'!homescore))} -> 12 | AI4: {=SUM(('ТУР5'!home=AF4)*('ТУР5'!homescore='ТУР5'!visitorscore)*ISNUMBER('ТУР5'!visitorscore),('ТУР5'!visitor=AF4)*('ТУР5'!visitorscore='ТУР5'!homescore)*ISNUMBER('ТУР5'!homescore))} -> 8 | AJ4: {=SUM(('ТУР5'!home=AF4)*('ТУР5'!homescore<'ТУР5'!visitorscore),('ТУР5'!visitor=AF4)*('ТУР5'!visitorscore<'ТУР5'!homescore))} -> 4 | AK4: {=SUMIF('ТУР5'!home,AF4,'ТУР5'!homescore)+SUMIF('ТУР5'!visitor,AF4,'ТУР5'!visitorscore)} -> 89 | AL4: {=SUMIF('ТУР5'!home,AF4,'ТУР5'!visitorscore)+SUMIF('ТУР5'!visitor,AF4,'ТУР5'!homescore)} -> 76 | AM4: =AK4-AL4 -> 13 | AN4: {=AH4*Options!$B$2+AI4*Options!$B$3+AJ4*Options!$B$4+VLOOKUP(AF4,$E$4:$F$9,2,0)} -> 44 | AO4: =AK4+AM4*10000+AN4*100000000 -> 4400130089
C5: ='ТУР3'!$C$5 -> Азамат Г. | D5: Германия | E5: ='ТУР3'!$E$5 -> azalazy | U5: {=INDEX($AF$3:$AF$5,MATCH(LARGE($AO$3:$AO$5-ROW($AO$3:$AO$5)/COUNT($AO$3:$AO$5),ROW(U5)-ROW(U$4)+1),$AO$3:$AO$5-ROW($AO$3:$AO$5)/COUNT($AO$3:$AO$5),0))} -> debosch | V5: {=VLOOKUP($U5,$AF$3:$AN$5,2,0)} -> 24 | W5: {=VLOOKUP($U5,$AF$3:$AN$5,3,0)} -> 8 | X5: {=VLOOKUP($U5,$AF$3:$AN$5,4,0)} -> 6 | Y5: {=VLOOKUP($U5,$AF$3:$AN$5,5,0)} -> 10 | Z5: {=VLOOKUP($U5,$AF$3:$AN$5,6,0)} -> 82 | AA5: {=VLOOKUP($U5,$AF$3:$AN$5,7,0)} -> 82 | AB5: {=VLOOKUP($U5,$AF$3:$AN$5,8,0)} -> 0 | AC5: {=VLOOKUP($U5,$AF$3:$AN$5,9,0)} -> 30 | AF5: =E6 -> ⁠nxkitorio | AG5: {=SUM(($E$11:$E$46=AF5)*(ISNUMBER($G$11:$G$46)),($F$11:$F$46=AF5)*(ISNUMBER($I$11:$I$46)))} -> 24 | AH5: {=SUM(('ТУР5'!home=AF5)*('ТУР5'!homescore>'ТУР5'!visitorscore),('ТУР5'!visitor=AF5)*('ТУР5'!visitorscore>'ТУР5'!homescore))} -> 5 | AI5: {=SUM(('ТУР5'!home=AF5)*('ТУР5'!homescore='ТУР5'!visitorscore)*ISNUMBER('ТУР5'!visitorscore),('ТУР5'!visitor=AF5)*('ТУР5'!visitorscore='ТУР5'!homescore)*ISNUMBER('ТУР5'!homescore))} -> 8 | AJ5: {=SUM(('ТУР5'!home=AF5)*('ТУР5'!homescore<'ТУР5'!visitorscore),('ТУР5'!visitor=AF5)*('ТУР5'!visitorscore<'ТУР5'!homescore))} -> 11 | AK5: {=SUMIF('ТУР5'!home,AF5,'ТУР5'!homescore)+SUMIF('ТУР5'!visitor,AF5,'ТУР5'!visitorscore)} -> 71 | AL5: {=SUMIF('ТУР5'!home,AF5,'ТУР5'!visitorscore)+SUMIF('ТУР5'!visitor,AF5,'ТУР5'!homescore)} -> 84 | AM5: =AK5-AL5 -> -13 | AN5: {=AH5*Options!$B$2+AI5*Options!$B$3+AJ5*Options!$B$4+VLOOKUP(AF5,$E$4:$F$9,2,0)} -> 23 | AO5: =AK5+AM5*10000+AN5*100000000 -> 2299870071
C6: ='ТУР3'!$C$6 -> Никита Д. | D6: Аргентина | E6: ='ТУР3'!$E$6 -> ⁠nxkitorio | U6: {=INDEX($AF$3:$AF$5,MATCH(LARGE($AO$3:$AO$5-ROW($AO$3:$AO$5)/COUNT($AO$3:$AO$5),ROW(U6)-ROW(U$4)+1),$AO$3:$AO$5-ROW($AO$3:$AO$5)/COUNT($AO$3:$AO$5),0))} -> ⁠nxkitorio | V6: {=VLOOKUP($U6,$AF$3:$AN$5,2,0)} -> 24 | W6: {=VLOOKUP($U6,$AF$3:$AN$5,3,0)} -> 5 | X6: {=VLOOKUP($U6,$AF$3:$AN$5,4,0)} -> 8 | Y6: {=VLOOKUP($U6,$AF$3:$AN$5,5,0)} -> 11 | Z6: {=VLOOKUP($U6,$AF$3:$AN$5,6,0)} -> 71 | AA6: {=VLOOKUP($U6,$AF$3:$AN$5,7,0)} -> 84 | AB6: {=VLOOKUP($U6,$AF$3:$AN$5,8,0)} -> -13 | AC6: {=VLOOKUP($U6,$AF$3:$AN$5,9,0)} -> 23
B8: пуск | C8: Команда | D8: Команда | E8: Дом | F8: Гость | G8: Результат | K8: Cчет | N8: PS | S8: PS | T8: № матча | U8: Матч | V8: Счет
B11: 0.83333333 | C11: =TRIM($D$4) -> Италия | D11: =TRIM($D$5) -> Германия | E11: =$E$4 -> debosch | F11: =$E$5 -> azalazy | G11: =SUM(K11) -> 4 | I11: =SUM(L11) -> 4 | K11: 4 | L11: 4 | M11: 5 | N11: 1 | S11: 1 | T11: 241 | U11: =TEXT(B11,"h:mm")&" "&($C$1)&" ("&C11&") "&E11&" "&" - ("&D11&") "&F11&"" -> 20:00 Penalty shot cup (Италия) debosch - (Германия) azalazy | V11: =TEXT(G11,"0")&":"&TEXT(I11,"0") -> 4:4
B12: 0.83680556 | C12: =TRIM($D$4) -> Италия | D12: =TRIM($D$5) -> Германия | E12: =$E$4 -> debosch | F12: =$E$5 -> azalazy | G12: =SUM(K12) -> 3 | I12: =SUM(L12) -> 4 | K12: 3 | L12: 4 | N12: 2 | S12: 2 | T12: 242 | U12: =TEXT(B12,"h:mm")&" "&($C$1)&" ("&C12&") "&E12&" "&" - ("&D12&") "&F12&"" -> 20:05 Penalty shot cup (Италия) debosch - (Германия) azalazy | V12: =TEXT(G12,"0")&":"&TEXT(I12,"0") -> 3:4
B13: 0.84027778 | C13: =TRIM($D$4) -> Италия | D13: =TRIM($D$5) -> Германия | E13: =$E$4 -> debosch | F13: =$E$5 -> azalazy | G13: =SUM(K13) -> 5 | I13: =SUM(L13) -> 3 | K13: 5 | L13: 3 | N13: 3 | S13: 3 | T13: 243 | U13: =TEXT(B13,"h:mm")&" "&($C$1)&" ("&C13&") "&E13&" "&" - ("&D13&") "&F13&"" -> 20:10 Penalty shot cup (Италия) debosch - (Германия) azalazy | V13: =TEXT(G13,"0")&":"&TEXT(I13,"0") -> 5:3
B14: 0.84375 | C14: =TRIM($D$6) -> Аргентина | D14: =TRIM($D$5) -> Германия | E14: =$E$6 -> ⁠nxkitorio | F14: =$E$5 -> azalazy | G14: =SUM(K14) -> 2 | I14: =SUM(L14) -> 4 | K14: 2 | L14: 4 | N14: 1 | S14: 1 | T14: 244 | U14: =TEXT(B14,"h:mm")&" "&($C$1)&" ("&C14&") "&E14&" "&" - ("&D14&") "&F14&"" -> 20:15 Penalty shot cup (Аргентина) ⁠nxkitorio - (Германия) azalazy | V14: =TEXT(G14,"0")&":"&TEXT(I14,"0") -> 2:4
B15: 0.84722222 | C15: =TRIM($D$6) -> Аргентина | D15: =TRIM($D$5) -> Германия | E15: =$E$6 -> ⁠nxkitorio | F15: =$E$5 -> azalazy | G15: =SUM(K15) -> 1 | I15: =SUM(L15) -> 3 | K15: 1 | L15: 3 | N15: 2 | S15: 2 | T15: 245 | U15: =TEXT(B15,"h:mm")&" "&($C$1)&" ("&C15&") "&E15&" "&" - ("&D15&") "&F15&"" -> 20:20 Penalty shot cup (Аргентина) ⁠nxkitorio - (Германия) azalazy | V15: =TEXT(G15,"0")&":"&TEXT(I15,"0") -> 1:3
B16: 0.85069444 | C16: =TRIM($D$6) -> Аргентина | D16: =TRIM($D$5) -> Германия | E16: =$E$6 -> ⁠nxkitorio | F16: =$E$5 -> azalazy | G16: =SUM(K16) -> 4 | I16: =SUM(L16) -> 4 | K16: 4 | L16: 4 | N16: 3 | S16: 3 | T16: 246 | U16: =TEXT(B16,"h:mm")&" "&($C$1)&" ("&C16&") "&E16&" "&" - ("&D16&") "&F16&"" -> 20:25 Penalty shot cup (Аргентина) ⁠nxkitorio - (Германия) azalazy | V16: =TEXT(G16,"0")&":"&TEXT(I16,"0") -> 4:4
B17: 0.85416667 | C17: =TRIM($D$6) -> Аргентина | D17: =TRIM($D$4) -> Италия | E17: =$E$6 -> ⁠nxkitorio | F17: =$E$4 -> debosch | G17: =SUM(K17) -> 2 | I17: =SUM(L17) -> 4 | K17: 2 | L17: 4 | N17: 1 | S17: 1 | T17: 247 | U17: =TEXT(B17,"h:mm")&" "&($C$1)&" ("&C17&") "&E17&" "&" - ("&D17&") "&F17&"" -> 20:30 Penalty shot cup (Аргентина) ⁠nxkitorio - (Италия) debosch | V17: =TEXT(G17,"0")&":"&TEXT(I17,"0") -> 2:4
B18: 0.85763889 | C18: =TRIM($D$6) -> Аргентина | D18: =TRIM($D$4) -> Италия | E18: =$E$6 -> ⁠nxkitorio | F18: =$E$4 -> debosch | G18: =SUM(K18) -> 4 | I18: =SUM(L18,O18) -> 3 | K18: 4 | L18: 3 | N18: 2 | S18: 2 | T18: 248 | U18: =TEXT(B18,"h:mm")&" "&($C$1)&" ("&C18&") "&E18&" "&" - ("&D18&") "&F18&"" -> 20:35 Penalty shot cup (Аргентина) ⁠nxkitorio - (Италия) debosch | V18: =TEXT(G18,"0")&":"&TEXT(I18,"0") -> 4:3
B19: 0.86111111 | C19: =TRIM($D$6) -> Аргентина | D19: =TRIM($D$4) -> Италия | E19: =$E$6 -> ⁠nxkitorio | F19: =$E$4 -> debosch | G19: =SUM(K19) -> 5 | I19: =SUM(L19,O19) -> 4 | K19: 5 | L19: 4 | N19: 3 | S19: 3 | T19: 249 | U19: =TEXT(B19,"h:mm")&" "&($C$1)&" ("&C19&") "&E19&" "&" - ("&D19&") "&F19&"" -> 20:40 Penalty shot cup (Аргентина) ⁠nxkitorio - (Италия) debosch | V19: =TEXT(G19,"0")&":"&TEXT(I19,"0") -> 5:4
B20: 0.86458333 | C20: =TRIM($D$5) -> Германия | D20: =TRIM($D$4) -> Италия | E20: =$E$5 -> azalazy | F20: =$E$4 -> debosch | G20: =SUM(K20) -> 4 | I20: =SUM(L20,O20) -> 3 | K20: 4 | L20: 3 | N20: 1 | S20: 1 | T20: 250 | U20: =TEXT(B20,"h:mm")&" "&($C$1)&" ("&C20&") "&E20&" "&" - ("&D20&") "&F20&"" -> 20:45 Penalty shot cup (Германия) azalazy - (Италия) debosch | V20: =TEXT(G20,"0")&":"&TEXT(I20,"0") -> 4:3
B21: 0.86805556 | C21: =TRIM($D$5) -> Германия | D21: =TRIM($D$4) -> Италия | E21: =$E$5 -> azalazy | F21: =$E$4 -> debosch | G21: =SUM(K21) -> 4 | I21: =SUM(L21,O21) -> 1 | K21: 4 | L21: 1 | N21: 2 | S21: 2 | T21: 251 | U21: =TEXT(B21,"h:mm")&" "&($C$1)&" ("&C21&") "&E21&" "&" - ("&D21&") "&F21&"" -> 20:50 Penalty shot cup (Германия) azalazy - (Италия) debosch | V21: =TEXT(G21,"0")&":"&TEXT(I21,"0") -> 4:1
B22: 0.87152778 | C22: =TRIM($D$5) -> Германия | D22: =TRIM($D$4) -> Италия | E22: =$E$5 -> azalazy | F22: =$E$4 -> debosch | G22: =SUM(K22) -> 5 | I22: =SUM(L22,O22) -> 3 | K22: 5 | L22: 3 | N22: 3 | S22: 3 | T22: 252 | U22: =TEXT(B22,"h:mm")&" "&($C$1)&" ("&C22&") "&E22&" "&" - ("&D22&") "&F22&"" -> 20:55 Penalty shot cup (Германия) azalazy - (Италия) debosch | V22: =TEXT(G22,"0")&":"&TEXT(I22,"0") -> 5:3
B23: 0.875 | C23: =TRIM($D$5) -> Германия | D23: =TRIM($D$6) -> Аргентина | E23: =$E$5 -> azalazy | F23: =$E$6 -> ⁠nxkitorio | G23: =SUM(K23) -> 4 | I23: =SUM(L23) -> 4 | K23: 4 | L23: 4 | N23: 1 | S23: 1 | T23: 253 | U23: =TEXT(B23,"h:mm")&" "&($C$1)&" ("&C23&") "&E23&" "&" - ("&D23&") "&F23&"" -> 21:00 Penalty shot cup (Германия) azalazy - (Аргентина) ⁠nxkitorio | V23: =TEXT(G23,"0")&":"&TEXT(I23,"0") -> 4:4
B24: 0.87847222 | C24: =TRIM($D$5) -> Германия | D24: =TRIM($D$6) -> Аргентина | E24: =$E$5 -> azalazy | F24: =$E$6 -> ⁠nxkitorio | G24: =SUM(K24) -> 0 | I24: =SUM(L24) -> 0 | K24: - | L24: - | N24: 2 | S24: 2 | T24: 254 | U24: =TEXT(B24,"h:mm")&" "&($C$1)&" ("&C24&") "&E24&" "&" - ("&D24&") "&F24&"" -> 21:05 Penalty shot cup (Германия) azalazy - (Аргентина) ⁠nxkitorio | V24: =TEXT(G24,"0")&":"&TEXT(I24,"0") -> 0:0
B25: 0.88194444 | C25: =TRIM($D$5) -> Германия | D25: =TRIM($D$6) -> Аргентина | E25: =$E$5 -> azalazy | F25: =$E$6 -> ⁠nxkitorio | G25: =SUM(K25) -> 3 | I25: =SUM(L25) -> 4 | K25: 3 | L25: 4 | N25: 3 | S25: 3 | T25: 255 | U25: =TEXT(B25,"h:mm")&" "&($C$1)&" ("&C25&") "&E25&" "&" - ("&D25&") "&F25&"" -> 21:10 Penalty shot cup (Германия) azalazy - (Аргентина) ⁠nxkitorio | V25: =TEXT(G25,"0")&":"&TEXT(I25,"0") -> 3:4
B26: 0.88541667 | C26: =TRIM($D$4) -> Италия | D26: =TRIM($D$6) -> Аргентина | E26: =$E$4 -> debosch | F26: =$E$6 -> ⁠nxkitorio | G26: =SUM(K26) -> 4 | I26: =SUM(L26) -> 5 | K26: 4 | L26: 5 | N26: 1 | S26: 1 | T26: 256 | U26: =TEXT(B26,"h:mm")&" "&($C$1)&" ("&C26&") "&E26&" "&" - ("&D26&") "&F26&"" -> 21:15 Penalty shot cup (Италия) debosch - (Аргентина) ⁠nxkitorio | V26: =TEXT(G26,"0")&":"&TEXT(I26,"0") -> 4:5
B27: 0.88888889 | C27: =TRIM($D$4) -> Италия | D27: =TRIM($D$6) -> Аргентина | E27: =$E$4 -> debosch | F27: =$E$6 -> ⁠nxkitorio | G27: =SUM(K27) -> 4 | I27: =SUM(L27) -> 1 | K27: 4 | L27: 1 | N27: 2 | S27: 2 | T27: 257 | U27: =TEXT(B27,"h:mm")&" "&($C$1)&" ("&C27&") "&E27&" "&" - ("&D27&") "&F27&"" -> 21:20 Penalty shot cup (Италия) debosch - (Аргентина) ⁠nxkitorio | V27: =TEXT(G27,"0")&":"&TEXT(I27,"0") -> 4:1
B28: 0.89236111 | C28: =TRIM($D$4) -> Италия | D28: =TRIM($D$6) -> Аргентина | E28: =$E$4 -> debosch | F28: =$E$6 -> ⁠nxkitorio | G28: =SUM(K28) -> 4 | I28: =SUM(L28) -> 3 | K28: 4 | L28: 3 | N28: 3 | S28: 3 | T28: 258 | U28: =TEXT(B28,"h:mm")&" "&($C$1)&" ("&C28&") "&E28&" "&" - ("&D28&") "&F28&"" -> 21:25 Penalty shot cup (Италия) debosch - (Аргентина) ⁠nxkitorio | V28: =TEXT(G28,"0")&":"&TEXT(I28,"0") -> 4:3
B29: 0.89583333 | C29: =TRIM($D$4) -> Италия | D29: =TRIM($D$5) -> Германия | E29: =$E$4 -> debosch | F29: =$E$5 -> azalazy | G29: =SUM(K29) -> 4 | I29: =SUM(L29) -> 2 | K29: 4 | L29: 2 | N29: 1 | S29: 1 | T29: 259 | U29: =TEXT(B29,"h:mm")&" "&($C$1)&" ("&C29&") "&E29&" "&" - ("&D29&") "&F29&"" -> 21:30 Penalty shot cup (Италия) debosch - (Германия) azalazy | V29: =TEXT(G29,"0")&":"&TEXT(I29,"0") -> 4:2
B30: 0.89930556 | C30: =TRIM($D$4) -> Италия | D30: =TRIM($D$5) -> Германия | E30: =$E$4 -> debosch | F30: =$E$5 -> azalazy | G30: =SUM(K30) -> 5 | I30: =SUM(L30,O30) -> 5 | K30: 5 | L30: 5 | N30: 2 | S30: 2 | T30: 260 | U30: =TEXT(B30,"h:mm")&" "&($C$1)&" ("&C30&") "&E30&" "&" - ("&D30&") "&F30&"" -> 21:35 Penalty shot cup (Италия) debosch - (Германия) azalazy | V30: =TEXT(G30,"0")&":"&TEXT(I30,"0") -> 5:5
B31: 0.90277778 | C31: =TRIM($D$4) -> Италия | D31: =TRIM($D$5) -> Германия | E31: =$E$4 -> debosch | F31: =$E$5 -> azalazy | G31: =SUM(K31) -> 4 | I31: =SUM(L31,O31) -> 2 | K31: 4 | L31: 2 | N31: 3 | S31: 3 | T31: 261 | U31: =TEXT(B31,"h:mm")&" "&($C$1)&" ("&C31&") "&E31&" "&" - ("&D31&") "&F31&"" -> 21:40 Penalty shot cup (Италия) debosch - (Германия) azalazy | V31: =TEXT(G31,"0")&":"&TEXT(I31,"0") -> 4:2
B32: 0.90625 | C32: =TRIM($D$6) -> Аргентина | D32: =TRIM($D$5) -> Германия | E32: =$E$6 -> ⁠nxkitorio | F32: =$E$5 -> azalazy | G32: =SUM(K32) -> 3 | I32: =SUM(L32,O32) -> 4 | K32: 3 | L32: 4 | N32: 1 | S32: 1 | T32: 262 | U32: =TEXT(B32,"h:mm")&" "&($C$1)&" ("&C32&") "&E32&" "&" - ("&D32&") "&F32&"" -> 21:45 Penalty shot cup (Аргентина) ⁠nxkitorio - (Германия) azalazy | V32: =TEXT(G32,"0")&":"&TEXT(I32,"0") -> 3:4
B33: 0.90972222 | C33: =TRIM($D$6) -> Аргентина | D33: =TRIM($D$5) -> Германия | E33: =$E$6 -> ⁠nxkitorio | F33: =$E$5 -> azalazy | G33: =SUM(K33) -> 3 | I33: =SUM(L33,O33) -> 4 | J33: 5 | K33: 3 | L33: 4 | N33: 2 | S33: 2 | T33: 263 | U33: =TEXT(B33,"h:mm")&" "&($C$1)&" ("&C33&") "&E33&" "&" - ("&D33&") "&F33&"" -> 21:50 Penalty shot cup (Аргентина) ⁠nxkitorio - (Германия) azalazy | V33: =TEXT(G33,"0")&":"&TEXT(I33,"0") -> 3:4
B34: 0.91319444 | C34: =TRIM($D$6) -> Аргентина | D34: =TRIM($D$5) -> Германия | E34: =$E$6 -> ⁠nxkitorio | F34: =$E$5 -> azalazy | G34: =SUM(K34) -> 5 | I34: =SUM(L34,O34) -> 5 | K34: 5 | L34: 5 | N34: 3 | S34: 3 | T34: 264 | U34: =TEXT(B34,"h:mm")&" "&($C$1)&" ("&C34&") "&E34&" "&" - ("&D34&") "&F34&"" -> 21:55 Penalty shot cup (Аргентина) ⁠nxkitorio - (Германия) azalazy | V34: =TEXT(G34,"0")&":"&TEXT(I34,"0") -> 5:5
B35: 0.91666667 | C35: =TRIM($D$6) -> Аргентина | D35: =TRIM($D$4) -> Италия | E35: =$E$6 -> ⁠nxkitorio | F35: =$E$4 -> debosch | G35: =SUM(K35) -> 0 | I35: =SUM(L35) -> 0 | K35: - | L35: - | N35: 1 | S35: 1 | T35: 265 | U35: =TEXT(B35,"h:mm")&" "&($C$1)&" ("&C35&") "&E35&" "&" - ("&D35&") "&F35&"" -> 22:00 Penalty shot cup (Аргентина) ⁠nxkitorio - (Италия) debosch | V35: =TEXT(G35,"0")&":"&TEXT(I35,"0") -> 0:0
B36: 0.92013889 | C36: =TRIM($D$6) -> Аргентина | D36: =TRIM($D$4) -> Италия | E36: =$E$6 -> ⁠nxkitorio | F36: =$E$4 -> debosch | G36: =SUM(K36) -> 4 | I36: =SUM(L36) -> 5 | K36: 4 | L36: 5 | N36: 2 | S36: 2 | T36: 266 | U36: =TEXT(B36,"h:mm")&" "&($C$1)&" ("&C36&") "&E36&" "&" - ("&D36&") "&F36&"" -> 22:05 Penalty shot cup (Аргентина) ⁠nxkitorio - (Италия) debosch | V36: =TEXT(G36,"0")&":"&TEXT(I36,"0") -> 4:5
B37: 0.92361111 | C37: =TRIM($D$6) -> Аргентина | D37: =TRIM($D$4) -> Италия | E37: =$E$6 -> ⁠nxkitorio | F37: =$E$4 -> debosch | G37: =SUM(K37) -> 4 | I37: =SUM(L37) -> 4 | K37: 4 | L37: 4 | N37: 3 | S37: 3 | T37: 267 | U37: =TEXT(B37,"h:mm")&" "&($C$1)&" ("&C37&") "&E37&" "&" - ("&D37&") "&F37&"" -> 22:10 Penalty shot cup (Аргентина) ⁠nxkitorio - (Италия) debosch | V37: =TEXT(G37,"0")&":"&TEXT(I37,"0") -> 4:4
B38: 0.92708333 | C38: =TRIM($D$5) -> Германия | D38: =TRIM($D$4) -> Италия | E38: =$E$5 -> azalazy | F38: =$E$4 -> debosch | G38: =SUM(K38) -> 4 | I38: =SUM(L38) -> 4 | K38: 4 | L38: 4 | N38: 1 | S38: 1 | T38: 268 | U38: =TEXT(B38,"h:mm")&" "&($C$1)&" ("&C38&") "&E38&" "&" - ("&D38&") "&F38&"" -> 22:15 Penalty shot cup (Германия) azalazy - (Италия) debosch | V38: =TEXT(G38,"0")&":"&TEXT(I38,"0") -> 4:4
B39: 0.93055556 | C39: =TRIM($D$5) -> Германия | D39: =TRIM($D$4) -> Италия | E39: =$E$5 -> azalazy | F39: =$E$4 -> debosch | G39: =SUM(K39) -> 5 | I39: =SUM(L39) -> 4 | K39: 5 | L39: 4 | N39: 2 | S39: 2 | T39: 269 | U39: =TEXT(B39,"h:mm")&" "&($C$1)&" ("&C39&") "&E39&" "&" - ("&D39&") "&F39&"" -> 22:20 Penalty shot cup (Германия) azalazy - (Италия) debosch | V39: =TEXT(G39,"0")&":"&TEXT(I39,"0") -> 5:4
B40: 0.93402778 | C40: =TRIM($D$5) -> Германия | D40: =TRIM($D$4) -> Италия | E40: =$E$5 -> azalazy | F40: =$E$4 -> debosch | G40: =SUM(K40) -> 4 | I40: =SUM(L40) -> 1 | K40: 4 | L40: 1 | N40: 3 | S40: 3 | T40: 270 | U40: =TEXT(B40,"h:mm")&" "&($C$1)&" ("&C40&") "&E40&" "&" - ("&D40&") "&F40&"" -> 22:25 Penalty shot cup (Германия) azalazy - (Италия) debosch | V40: =TEXT(G40,"0")&":"&TEXT(I40,"0") -> 4:1
B41: 0.9375 | C41: =TRIM($D$5) -> Германия | D41: =TRIM($D$6) -> Аргентина | E41: =$E$5 -> azalazy | F41: =$E$6 -> ⁠nxkitorio | G41: =SUM(K41) -> 4 | I41: =SUM(L41) -> 2 | K41: 4 | L41: 2 | N41: 3 | S41: 1 | T41: 271 | U41: =TEXT(B41,"h:mm")&" "&($C$1)&" ("&C41&") "&E41&" "&" - ("&D41&") "&F41&"" -> 22:30 Penalty shot cup (Германия) azalazy - (Аргентина) ⁠nxkitorio | V41: =TEXT(G41,"0")&":"&TEXT(I41,"0") -> 4:2
B42: 0.94097222 | C42: =TRIM($D$5) -> Германия | D42: =TRIM($D$6) -> Аргентина | E42: =$E$5 -> azalazy | F42: =$E$6 -> ⁠nxkitorio | G42: =SUM(K42) -> 4 | I42: =SUM(L42) -> 4 | K42: 4 | L42: 4 | N42: 3 | S42: 2 | T42: 272 | U42: =TEXT(B42,"h:mm")&" "&($C$1)&" ("&C42&") "&E42&" "&" - ("&D42&") "&F42&"" -> 22:35 Penalty shot cup (Германия) azalazy - (Аргентина) ⁠nxkitorio | V42: =TEXT(G42,"0")&":"&TEXT(I42,"0") -> 4:4
B43: 0.94444444 | C43: =TRIM($D$5) -> Германия | D43: =TRIM($D$6) -> Аргентина | E43: =$E$5 -> azalazy | F43: =$E$6 -> ⁠nxkitorio | G43: =SUM(K43) -> 4 | I43: =SUM(L43) -> 3 | K43: 4 | L43: 3 | N43: 3 | S43: 3 | T43: 273 | U43: =TEXT(B43,"h:mm")&" "&($C$1)&" ("&C43&") "&E43&" "&" - ("&D43&") "&F43&"" -> 22:40 Penalty shot cup (Германия) azalazy - (Аргентина) ⁠nxkitorio | V43: =TEXT(G43,"0")&":"&TEXT(I43,"0") -> 4:3
B44: 0.94791667 | C44: =TRIM($D$4) -> Италия | D44: =TRIM($D$6) -> Аргентина | E44: =$E$4 -> debosch | F44: =$E$6 -> ⁠nxkitorio | G44: =SUM(K44) -> 5 | I44: =SUM(L44) -> 3 | K44: 5 | L44: 3 | N44: 3 | S44: 1 | T44: 274 | U44: =TEXT(B44,"h:mm")&" "&($C$1)&" ("&C44&") "&E44&" "&" - ("&D44&") "&F44&"" -> 22:45 Penalty shot cup (Италия) debosch - (Аргентина) ⁠nxkitorio | V44: =TEXT(G44,"0")&":"&TEXT(I44,"0") -> 5:3
B45: 0.95138889 | C45: =TRIM($D$4) -> Италия | D45: =TRIM($D$6) -> Аргентина | E45: =$E$4 -> debosch | F45: =$E$6 -> ⁠nxkitorio | G45: =SUM(K45) -> 4 | I45: =SUM(L45) -> 5 | K45: 4 | L45: 5 | N45: 3 | S45: 2 | T45: 275 | U45: =TEXT(B45,"h:mm")&" "&($C$1)&" ("&C45&") "&E45&" "&" - ("&D45&") "&F45&"" -> 22:50 Penalty shot cup (Италия) debosch - (Аргентина) ⁠nxkitorio | V45: =TEXT(G45,"0")&":"&TEXT(I45,"0") -> 4:5
B46: 0.95486111 | C46: =TRIM($D$4) -> Италия | D46: =TRIM($D$6) -> Аргентина | E46: =$E$4 -> debosch | F46: =$E$6 -> ⁠nxkitorio | G46: =SUM(K46) -> 0 | I46: =SUM(L46) -> 0 | K46: - | L46: - | N46: 3 | S46: 3 | T46: 276 | U46: =TEXT(B46,"h:mm")&" "&($C$1)&" ("&C46&") "&E46&" "&" - ("&D46&") "&F46&"" -> 22:55 Penalty shot cup (Италия) debosch - (Аргентина) ⁠nxkitorio | V46: =TEXT(G46,"0")&":"&TEXT(I46,"0") -> 0:0
C48: Гл.Судья - | F48: Ст.Судья -

Sheet ТУР6
C1: ='ТУР1'!$C$1 -> Penalty shot cup | E1: ТУР6 | F1: ='ТУР1'!$F$1 -> 45719
U2: =C1 -> Penalty shot cup | V2: =E1 -> ТУР6 | AA2: =$F$1 -> 45719 | AG2: GP | AH2: W | AI2: D | AJ2: L | AK2: GF | AL2: GA | AM2: GD | AN2: PTS | AO2: rank
C3: Участник | D3: Команда | E3: Никнейм | U3: Никнейм | V3: М | W3: В | X3: Н | Y3: П | Z3: ЗГ | AA3: ПГ | AB3: РГ | AC3: Очки | AF3: =E4 -> Mentill | AG3: {=SUM(($E$11:$E$46=AF3)*(ISNUMBER($G$11:$G$46)),($F$11:$F$46=AF3)*(ISNUMBER($I$11:$I$46)))} -> 24 | AH3: {=SUM(('ТУР6'!home=AF3)*('ТУР6'!homescore>'ТУР6'!visitorscore),('ТУР6'!visitor=AF3)*('ТУР6'!visitorscore>'ТУР6'!homescore))} -> 9 | AI3: {=SUM(('ТУР6'!home=AF3)*('ТУР6'!homescore='ТУР6'!visitorscore)*ISNUMBER('ТУР6'!visitorscore),('ТУР6'!visitor=AF3)*('ТУР6'!visitorscore='ТУР6'!homescore)*ISNUMBER('ТУР6'!homescore))} -> 8 | AJ3: {=SUM(('ТУР6'!home=AF3)*('ТУР6'!homescore<'ТУР6'!visitorscore),('ТУР6'!visitor=AF3)*('ТУР6'!visitorscore<'ТУР6'!homescore))} -> 7 | AK3: {=SUMIF('ТУР6'!home,AF3,'ТУР6'!homescore)+SUMIF('ТУР6'!visitor,AF3,'ТУР6'!visitorscore)} -> 79 | AL3: {=SUMIF('ТУР6'!home,AF3,'ТУР6'!visitorscore)+SUMIF('ТУР6'!visitor,AF3,'ТУР6'!homescore)} -> 74 | AM3: =AK3-AL3 -> 5 | AN3: {=AH3*Options!$B$2+AI3*Options!$B$3+AJ3*Options!$B$4+VLOOKUP(AF3,$E$4:$F$9,2,0)} -> 35 | AO3: =AK3+AM3*10000+AN3*100000000 -> 3500050079
C4: Павел Г. | D4: Нидерланды | E4: Mentill | U4: {=INDEX($AF$3:$AF$5,MATCH(LARGE($AO$3:$AO$5-ROW($AO$3:$AO$5)/COUNT($AO$3:$AO$5),ROW(U4)-ROW(U$4)+1),$AO$3:$AO$5-ROW($AO$3:$AO$5)/COUNT($AO$3:$AO$5),0))} -> Mentill | V4: {=VLOOKUP($U4,$AF$3:$AN$5,2,0)} -> 24 | W4: {=VLOOKUP($U4,$AF$3:$AN$5,3,0)} -> 9 | X4: {=VLOOKUP($U4,$AF$3:$AN$5,4,0)} -> 8 | Y4: {=VLOOKUP($U4,$AF$3:$AN$5,5,0)} -> 7 | Z4: {=VLOOKUP($U4,$AF$3:$AN$5,6,0)} -> 79 | AA4: {=VLOOKUP($U4,$AF$3:$AN$5,7,0)} -> 74 | AB4: {=VLOOKUP($U4,$AF$3:$AN$5,8,0)} -> 5 | AC4: {=VLOOKUP($U4,$AF$3:$AN$5,9,0)} -> 35 | AF4: =E5 -> rasval | AG4: {=SUM(($E$11:$E$46=AF4)*(ISNUMBER($G$11:$G$46)),($F$11:$F$46=AF4)*(ISNUMBER($I$11:$I$46)))} -> 24 | AH4: {=SUM(('ТУР6'!home=AF4)*('ТУР6'!homescore>'ТУР6'!visitorscore),('ТУР6'!visitor=AF4)*('ТУР6'!visitorscore>'ТУР6'!homescore))} -> 8 | AI4: {=SUM(('ТУР6'!home=AF4)*('ТУР6'!homescore='ТУР6'!visitorscore)*ISNUMBER('ТУР6'!visitorscore),('ТУР6'!visitor=AF4)*('ТУР6'!visitorscore='ТУР6'!homescore)*ISNUMBER('ТУР6'!homescore))} -> 10 | AJ4: {=SUM(('ТУР6'!home=AF4)*('ТУР6'!homescore<'ТУР6'!visitorscore),('ТУР6'!visitor=AF4)*('ТУР6'!visitorscore<'ТУР6'!homescore))} -> 6 | AK4: {=SUMIF('ТУР6'!home,AF4,'ТУР6'!homescore)+SUMIF('ТУР6'!visitor,AF4,'ТУР6'!visitorscore)} -> 90 | AL4: {=SUMIF('ТУР6'!home,AF4,'ТУР6'!visitorscore)+SUMIF('ТУР6'!visitor,AF4,'ТУР6'!homescore)} -> 87 | AM4: =AK4-AL4 -> 3 | AN4: {=AH4*Options!$B$2+AI4*Options!$B$3+AJ4*Options!$B$4+VLOOKUP(AF4,$E$4:$F$9,2,0)} -> 34 | AO4: =AK4+AM4*10000+AN4*100000000 -> 3400030090
C5: Расуль В. | D5: Англия | E5: rasval | U5: {=INDEX($AF$3:$AF$5,MATCH(LARGE($AO$3:$AO$5-ROW($AO$3:$AO$5)/COUNT($AO$3:$AO$5),ROW(U5)-ROW(U$4)+1),$AO$3:$AO$5-ROW($AO$3:$AO$5)/COUNT($AO$3:$AO$5),0))} -> rasval | V5: {=VLOOKUP($U5,$AF$3:$AN$5,2,0)} -> 24 | W5: {=VLOOKUP($U5,$AF$3:$AN$5,3,0)} -> 8 | X5: {=VLOOKUP($U5,$AF$3:$AN$5,4,0)} -> 10 | Y5: {=VLOOKUP($U5,$AF$3:$AN$5,5,0)} -> 6 | Z5: {=VLOOKUP($U5,$AF$3:$AN$5,6,0)} -> 90 | AA5: {=VLOOKUP($U5,$AF$3:$AN$5,7,0)} -> 87 | AB5: {=VLOOKUP($U5,$AF$3:$AN$5,8,0)} -> 3 | AC5: {=VLOOKUP($U5,$AF$3:$AN$5,9,0)} -> 34 | AF5: =E6 -> AKMAN | AG5: {=SUM(($E$11:$E$46=AF5)*(ISNUMBER($G$11:$G$46)),($F$11:$F$46=AF5)*(ISNUMBER($I$11:$I$46)))} -> 24 | AH5: {=SUM(('ТУР6'!home=AF5)*('ТУР6'!homescore>'ТУР6'!visitorscore),('ТУР6'!visitor=AF5)*('ТУР6'!visitorscore>'ТУР6'!homescore))} -> 6 | AI5: {=SUM(('ТУР6'!home=AF5)*('ТУР6'!homescore='ТУР6'!visitorscore)*ISNUMBER('ТУР6'!visitorscore),('ТУР6'!visitor=AF5)*('ТУР6'!visitorscore='ТУР6'!homescore)*ISNUMBER('ТУР6'!homescore))} -> 8 | AJ5: {=SUM(('ТУР6'!home=AF5)*('ТУР6'!homescore<'ТУР6'!visitorscore),('ТУР6'!visitor=AF5)*('ТУР6'!visitorscore<'ТУР6'!homescore))} -> 10 | AK5: {=SUMIF('ТУР6'!home,AF5,'ТУР6'!homescore)+SUMIF('ТУР6'!visitor,AF5,'ТУР6'!visitorscore)} -> 76 | AL5: {=SUMIF('ТУР6'!home,AF5,'ТУР6'!visitorscore)+SUMIF('ТУР6'!visitor,AF5,'ТУР6'!homescore)} -> 84 | AM5: =AK5-AL5 -> -8 | AN5: {=AH5*Options!$B$2+AI5*Options!$B$3+AJ5*Options!$B$4+VLOOKUP(AF5,$E$4:$F$9,2,0)} -> 26 | AO5: =AK5+AM5*10000+AN5*100000000 -> 2599920076
C6: Тагир А. | D6: Португалия | E6: AKMAN | U6: {=INDEX($AF$3:$AF$5,MATCH(LARGE($AO$3:$AO$5-ROW($AO$3:$AO$5)/COUNT($AO$3:$AO$5),ROW(U6)-ROW(U$4)+1),$AO$3:$AO$5-ROW($AO$3:$AO$5)/COUNT($AO$3:$AO$5),0))} -> AKMAN | V6: {=VLOOKUP($U6,$AF$3:$AN$5,2,0)} -> 24 | W6: {=VLOOKUP($U6,$AF$3:$AN$5,3,0)} -> 6 | X6: {=VLOOKUP($U6,$AF$3:$AN$5,4,0)} -> 8 | Y6: {=VLOOKUP($U6,$AF$3:$AN$5,5,0)} -> 10 | Z6: {=VLOOKUP($U6,$AF$3:$AN$5,6,0)} -> 76 | AA6: {=VLOOKUP($U6,$AF$3:$AN$5,7,0)} -> 84 | AB6: {=VLOOKUP($U6,$AF$3:$AN$5,8,0)} -> -8 | AC6: {=VLOOKUP($U6,$AF$3:$AN$5,9,0)} -> 26
B8: пуск | C8: Команда | D8: Команда | E8: Дом | F8: Гость | G8: Результат | K8: Cчет | N8: PS | S8: PS | T8: № матча | U8: Матч | V8: Счет
B11: 0.95833333 | C11: =TRIM($D$4) -> Нидерланды | D11: =TRIM($D$5) -> Англия | E11: =$E$4 -> Mentill | F11: =$E$5 -> rasval | G11: =SUM(K11) -> 4 | I11: =SUM(L11) -> 4 | K11: 4 | L11: 4 | M11: 5 | N11: 1 | S11: 1 | T11: 277 | U11: =TEXT(B11,"h:mm")&" "&($C$1)&" ("&C11&") "&E11&" "&" - ("&D11&") "&F11&"" -> 23:00 Penalty shot cup (Нидерланды) Mentill - (Англия) rasval | V11: =TEXT(G11,"0")&":"&TEXT(I11,"0") -> 4:4
B12: 0.96180556 | C12: =TRIM($D$4) -> Нидерланды | D12: =TRIM($D$5) -> Англия | E12: =$E$4 -> Mentill | F12: =$E$5 -> rasval | G12: =SUM(K12) -> 3 | I12: =SUM(L12) -> 4 | K12: 3 | L12: 4 | N12: 2 | S12: 2 | T12: 278 | U12: =TEXT(B12,"h:mm")&" "&($C$1)&" ("&C12&") "&E12&" "&" - ("&D12&") "&F12&"" -> 23:05 Penalty shot cup (Нидерланды) Mentill - (Англия) rasval | V12: =TEXT(G12,"0")&":"&TEXT(I12,"0") -> 3:4
B13: 0.96527778 | C13: =TRIM($D$4) -> Нидерланды | D13: =TRIM($D$5) -> Англия | E13: =$E$4 -> Mentill | F13: =$E$5 -> rasval | G13: =SUM(K13) -> 5 | I13: =SUM(L13) -> 4 | K13: 5 | L13: 4 | N13: 3 | S13: 3 | T13: 279 | U13: =TEXT(B13,"h:mm")&" "&($C$1)&" ("&C13&") "&E13&" "&" - ("&D13&") "&F13&"" -> 23:10 Penalty shot cup (Нидерланды) Mentill - (Англия) rasval | V13: =TEXT(G13,"0")&":"&TEXT(I13,"0") -> 5:4
B14: 0.96875 | C14: =TRIM($D$6) -> Португалия | D14: =TRIM($D$5) -> Англия | E14: =$E$6 -> AKMAN | F14: =$E$5 -> rasval | G14: =SUM(K14) -> 3 | I14: =SUM(L14) -> 0 | K14: 3 | L14: 0 | N14: 1 | S14: 1 | T14: 280 | U14: =TEXT(B14,"h:mm")&" "&($C$1)&" ("&C14&") "&E14&" "&" - ("&D14&") "&F14&"" -> 23:15 Penalty shot cup (Португалия) AKMAN - (Англия) rasval | V14: =TEXT(G14,"0")&":"&TEXT(I14,"0") -> 3:0
B15: 0.97222222 | C15: =TRIM($D$6) -> Португалия | D15: =TRIM($D$5) -> Англия | E15: =$E$6 -> AKMAN | F15: =$E$5 -> rasval | G15: =SUM(K15) -> 3 | I15: =SUM(L15) -> 4 | K15: 3 | L15: 4 | N15: 2 | S15: 2 | T15: 281 | U15: =TEXT(B15,"h:mm")&" "&($C$1)&" ("&C15&") "&E15&" "&" - ("&D15&") "&F15&"" -> 23:20 Penalty shot cup (Португалия) AKMAN - (Англия) rasval | V15: =TEXT(G15,"0")&":"&TEXT(I15,"0") -> 3:4
B16: 0.97569444 | C16: =TRIM($D$6) -> Португалия | D16: =TRIM($D$5) -> Англия | E16: =$E$6 -> AKMAN | F16: =$E$5 -> rasval | G16: =SUM(K16) -> 4 | I16: =SUM(L16) -> 5 | K16: 4 | L16: 5 | N16: 3 | S16: 3 | T16: 282 | U16: =TEXT(B16,"h:mm")&" "&($C$1)&" ("&C16&") "&E16&" "&" - ("&D16&") "&F16&"" -> 23:25 Penalty shot cup (Португалия) AKMAN - (Англия) rasval | V16: =TEXT(G16,"0")&":"&TEXT(I16,"0") -> 4:5
B17: 0.97916667 | C17: =TRIM($D$6) -> Португалия | D17: =TRIM($D$4) -> Нидерланды | E17: =$E$6 -> AKMAN | F17: =$E$4 -> Mentill | G17: =SUM(K17) -> 3 | I17: =SUM(L17) -> 1 | K17: 3 | L17: 1 | N17: 1 | S17: 1 | T17: 283 | U17: =TEXT(B17,"h:mm")&" "&($C$1)&" ("&C17&") "&E17&" "&" - ("&D17&") "&F17&"" -> 23:30 Penalty shot cup (Португалия) AKMAN - (Нидерланды) Mentill | V17: =TEXT(G17,"0")&":"&TEXT(I17,"0") -> 3:1
B18: 0.98263889 | C18: =TRIM($D$6) -> Португалия | D18: =TRIM($D$4) -> Нидерланды | E18: =$E$6 -> AKMAN | F18: =$E$4 -> Mentill | G18: =SUM(K18) -> 5 | I18: =SUM(L18,O18) -> 3 | K18: 5 | L18: 3 | N18: 2 | S18: 2 | T18: 284 | U18: =TEXT(B18,"h:mm")&" "&($C$1)&" ("&C18&") "&E18&" "&" - ("&D18&") "&F18&"" -> 23:35 Penalty shot cup (Португалия) AKMAN - (Нидерланды) Mentill | V18: =TEXT(G18,"0")&":"&TEXT(I18,"0") -> 5:3
B19: 0.98611111 | C19: =TRIM($D$6) -> Португалия | D19: =TRIM($D$4) -> Нидерланды | E19: =$E$6 -> AKMAN | F19: =$E$4 -> Mentill | G19: =SUM(K19) -> 5 | I19: =SUM(L19,O19) -> 4 | K19: 5 | L19: 4 | N19: 3 | S19: 3 | T19: 285 | U19: =TEXT(B19,"h:mm")&" "&($C$1)&" ("&C19&") "&E19&" "&" - ("&D19&") "&F19&"" -> 23:40 Penalty shot cup (Португалия) AKMAN - (Нидерланды) Mentill | V19: =TEXT(G19,"0")&":"&TEXT(I19,"0") -> 5:4
B20: 0.98958333 | C20: =TRIM($D$5) -> Англия | D20: =TRIM($D$4) -> Нидерланды | E20: =$E$5 -> rasval | F20: =$E$4 -> Mentill | G20: =SUM(K20) -> 3 | I20: =SUM(L20,O20) -> 1 | K20: 3 | L20: 1 | N20: 1 | S20: 1 | T20: 286 | U20: =TEXT(B20,"h:mm")&" "&($C$1)&" ("&C20&") "&E20&" "&" - ("&D20&") "&F20&"" -> 23:45 Penalty shot cup (Англия) rasval - (Нидерланды) Mentill | V20: =TEXT(G20,"0")&":"&TEXT(I20,"0") -> 3:1
B21: 0.99305556 | C21: =TRIM($D$5) -> Англия | D21: =TRIM($D$4) -> Нидерланды | E21: =$E$5 -> rasval | F21: =$E$4 -> Mentill | G21: =SUM(K21) -> 4 | I21: =SUM(L21,O21) -> 4 | K21: 4 | L21: 4 | N21: 2 | S21: 2 | T21: 287 | U21: =TEXT(B21,"h:mm")&" "&($C$1)&" ("&C21&") "&E21&" "&" - ("&D21&") "&F21&"" -> 23:50 Penalty shot cup (Англия) rasval - (Нидерланды) Mentill | V21: =TEXT(G21,"0")&":"&TEXT(I21,"0") -> 4:4
B22: 0.99652778 | C22: =TRIM($D$5) -> Англия | D22: =TRIM($D$4) -> Нидерланды | E22: =$E$5 -> rasval | F22: =$E$4 -> Mentill | G22: =SUM(K22) -> 3 | I22: =SUM(L22,O22) -> 4 | K22: 3 | L22: 4 | N22: 3 | S22: 3 | T22: 288 | U22: =TEXT(B22,"h:mm")&" "&($C$1)&" ("&C22&") "&E22&" "&" - ("&D22&") "&F22&"" -> 23:55 Penalty shot cup (Англия) rasval - (Нидерланды) Mentill | V22: =TEXT(G22,"0")&":"&TEXT(I22,"0") -> 3:4
B23: 1 | C23: =TRIM($D$5) -> Англия | D23: =TRIM($D$6) -> Португалия | E23: =$E$5 -> rasval | F23: =$E$6 -> AKMAN | G23: =SUM(K23) -> 3 | I23: =SUM(L23) -> 4 | K23: 3 | L23: 4 | N23: 1 | S23: 1 | T23: 1 | U23: =TEXT(B23,"h:mm")&" "&($C$1)&" ("&C23&") "&E23&" "&" - ("&D23&") "&F23&"" -> 0:00 Penalty shot cup (Англия) rasval - (Португалия) AKMAN | V23: =TEXT(G23,"0")&":"&TEXT(I23,"0") -> 3:4
B24: 1.0034722 | C24: =TRIM($D$5) -> Англия | D24: =TRIM($D$6) -> Португалия | E24: =$E$5 -> rasval | F24: =$E$6 -> AKMAN | G24: =SUM(K24) -> 5 | I24: =SUM(L24) -> 3 | K24: 5 | L24: 3 | N24: 2 | S24: 2 | T24: 2 | U24: =TEXT(B24,"h:mm")&" "&($C$1)&" ("&C24&") "&E24&" "&" - ("&D24&") "&F24&"" -> 0:05 Penalty shot cup (Англия) rasval - (Португалия) AKMAN | V24: =TEXT(G24,"0")&":"&TEXT(I24,"0") -> 5:3
B25: 1.0069444 | C25: =TRIM($D$5) -> Англия | D25: =TRIM($D$6) -> Португалия | E25: =$E$5 -> rasval | F25: =$E$6 -> AKMAN | G25: =SUM(K25) -> 4 | I25: =SUM(L25) -> 2 | K25: 4 | L25: 2 | N25: 3 | S25: 3 | T25: 3 | U25: =TEXT(B25,"h:mm")&" "&($C$1)&" ("&C25&") "&E25&" "&" - ("&D25&") "&F25&"" -> 0:10 Penalty shot cup (Англия) rasval - (Португалия) AKMAN | V25: =TEXT(G25,"0")&":"&TEXT(I25,"0") -> 4:2
B26: 1.0104167 | C26: =TRIM($D$4) -> Нидерланды | D26: =TRIM($D$6) -> Португалия | E26: =$E$4 -> Mentill | F26: =$E$6 -> AKMAN | G26: =SUM(K26) -> 4 | I26: =SUM(L26) -> 2 | K26: 4 | L26: 2 | N26: 1 | S26: 1 | T26: 4 | U26: =TEXT(B26,"h:mm")&" "&($C$1)&" ("&C26&") "&E26&" "&" - ("&D26&") "&F26&"" -> 0:15 Penalty shot cup (Нидерланды) Mentill - (Португалия) AKMAN | V26: =TEXT(G26,"0")&":"&TEXT(I26,"0") -> 4:2
B27: 1.0138889 | C27: =TRIM($D$4) -> Нидерланды | D27: =TRIM($D$6) -> Португалия | E27: =$E$4 -> Mentill | F27: =$E$6 -> AKMAN | G27: =SUM(K27) -> 3 | I27: =SUM(L27) -> 4 | K27: 3 | L27: 4 | N27: 2 | S27: 2 | T27: 5 | U27: =TEXT(B27,"h:mm")&" "&($C$1)&" ("&C27&") "&E27&" "&" - ("&D27&") "&F27&"" -> 0:20 Penalty shot cup (Нидерланды) Mentill - (Португалия) AKMAN | V27: =TEXT(G27,"0")&":"&TEXT(I27,"0") -> 3:4
B28: 1.0173611 | C28: =TRIM($D$4) -> Нидерланды | D28: =TRIM($D$6) -> Португалия | E28: =$E$4 -> Mentill | F28: =$E$6 -> AKMAN | G28: =SUM(K28) -> 0 | I28: =SUM(L28) -> 0 | K28: - | L28: - | N28: 3 | S28: 3 | T28: 6 | U28: =TEXT(B28,"h:mm")&" "&($C$1)&" ("&C28&") "&E28&" "&" - ("&D28&") "&F28&"" -> 0:25 Penalty shot cup (Нидерланды) Mentill - (Португалия) AKMAN | V28: =TEXT(G28,"0")&":"&TEXT(I28,"0") -> 0:0
B29: 1.0208333 | C29: =TRIM($D$4) -> Нидерланды | D29: =TRIM($D$5) -> Англия | E29: =$E$4 -> Mentill | F29: =$E$5 -> rasval | G29: =SUM(K29) -> 3 | I29: =SUM(L29) -> 3 | K29: 3 | L29: 3 | N29: 1 | S29: 1 | T29: 7 | U29: =TEXT(B29,"h:mm")&" "&($C$1)&" ("&C29&") "&E29&" "&" - ("&D29&") "&F29&"" -> 0:30 Penalty shot cup (Нидерланды) Mentill - (Англия) rasval | V29: =TEXT(G29,"0")&":"&TEXT(I29,"0") -> 3:3
B30: 1.0243056 | C30: =TRIM($D$4) -> Нидерланды | D30: =TRIM($D$5) -> Англия | E30: =$E$4 -> Mentill | F30: =$E$5 -> rasval | G30: =SUM(K30) -> 3 | I30: =SUM(L30,O30) -> 3 | K30: 3 | L30: 3 | N30: 2 | S30: 2 | T30: 8 | U30: =TEXT(B30,"h:mm")&" "&($C$1)&" ("&C30&") "&E30&" "&" - ("&D30&") "&F30&"" -> 0:35 Penalty shot cup (Нидерланды) Mentill - (Англия) rasval | V30: =TEXT(G30,"0")&":"&TEXT(I30,"0") -> 3:3
B31: 1.0277778 | C31: =TRIM($D$4) -> Нидерланды | D31: =TRIM($D$5) -> Англия | E31: =$E$4 -> Mentill | F31: =$E$5 -> rasval | G31: =SUM(K31) -> 4 | I31: =SUM(L31,O31) -> 4 | K31: 4 | L31: 4 | N31: 3 | S31: 3 | T31: 9 | U31: =TEXT(B31,"h:mm")&" "&($C$1)&" ("&C31&") "&E31&" "&" - ("&D31&") "&F31&"" -> 0:40 Penalty shot cup (Нидерланды) Mentill - (Англия) rasval | V31: =TEXT(G31,"0")&":"&TEXT(I31,"0") -> 4:4
B32: 1.03125 | C32: =TRIM($D$6) -> Португалия | D32: =TRIM($D$5) -> Англия | E32: =$E$6 -> AKMAN | F32: =$E$5 -> rasval | G32: =SUM(K32) -> 4 | I32: =SUM(L32,O32) -> 4 | K32: 4 | L32: 4 | N32: 1 | S32: 1 | T32: 10 | U32: =TEXT(B32,"h:mm")&" "&($C$1)&" ("&C32&") "&E32&" "&" - ("&D32&") "&F32&"" -> 0:45 Penalty shot cup (Португалия) AKMAN - (Англия) rasval | V32: =TEXT(G32,"0")&":"&TEXT(I32,"0") -> 4:4
B33: 1.0347222 | C33: =TRIM($D$6) -> Португалия | D33: =TRIM($D$5) -> Англия | E33: =$E$6 -> AKMAN | F33: =$E$5 -> rasval | G33: =SUM(K33) -> 4 | I33: =SUM(L33,O33) -> 4 | J33: 5 | K33: 4 | L33: 4 | N33: 2 | S33: 2 | T33: 11 | U33: =TEXT(B33,"h:mm")&" "&($C$1)&" ("&C33&") "&E33&" "&" - ("&D33&") "&F33&"" -> 0:50 Penalty shot cup (Португалия) AKMAN - (Англия) rasval | V33: =TEXT(G33,"0")&":"&TEXT(I33,"0") -> 4:4
B34: 1.0381944 | C34: =TRIM($D$6) -> Португалия | D34: =TRIM($D$5) -> Англия | E34: =$E$6 -> AKMAN | F34: =$E$5 -> rasval | G34: =SUM(K34) -> 5 | I34: =SUM(L34,O34) -> 5 | K34: 5 | L34: 5 | N34: 3 | S34: 3 | T34: 12 | U34: =TEXT(B34,"h:mm")&" "&($C$1)&" ("&C34&") "&E34&" "&" - ("&D34&") "&F34&"" -> 0:55 Penalty shot cup (Португалия) AKMAN - (Англия) rasval | V34: =TEXT(G34,"0")&":"&TEXT(I34,"0") -> 5:5
B35: 1.0416667 | C35: =TRIM($D$6) -> Португалия | D35: =TRIM($D$4) -> Нидерланды | E35: =$E$6 -> AKMAN | F35: =$E$4 -> Mentill | G35: =SUM(K35) -> 0 | I35: =SUM(L35) -> 0 | K35: - | L35: - | N35: 1 | S35: 1 | T35: 13 | U35: =TEXT(B35,"h:mm")&" "&($C$1)&" ("&C35&") "&E35&" "&" - ("&D35&") "&F35&"" -> 1:00 Penalty shot cup (Португалия) AKMAN - (Нидерланды) Mentill | V35: =TEXT(G35,"0")&":"&TEXT(I35,"0") -> 0:0
B36: 1.0451389 | C36: =TRIM($D$6) -> Португалия | D36: =TRIM($D$4) -> Нидерланды | E36: =$E$6 -> AKMAN | F36: =$E$4 -> Mentill | G36: =SUM(K36) -> 3 | I36: =SUM(L36) -> 4 | K36: 3 | L36: 4 | N36: 2 | S36: 2 | T36: 14 | U36: =TEXT(B36,"h:mm")&" "&($C$1)&" ("&C36&") "&E36&" "&" - ("&D36&") "&F36&"" -> 1:05 Penalty shot cup (Португалия) AKMAN - (Нидерланды) Mentill | V36: =TEXT(G36,"0")&":"&TEXT(I36,"0") -> 3:4
B37: 1.0486111 | C37: =TRIM($D$6) -> Португалия | D37: =TRIM($D$4) -> Нидерланды | E37: =$E$6 -> AKMAN | F37: =$E$4 -> Mentill | G37: =SUM(K37) -> 4 | I37: =SUM(L37) -> 4 | K37: 4 | L37: 4 | N37: 3 | S37: 3 | T37: 15 | U37: =TEXT(B37,"h:mm")&" "&($C$1)&" ("&C37&") "&E37&" "&" - ("&D37&") "&F37&"" -> 1:10 Penalty shot cup (Португалия) AKMAN - (Нидерланды) Mentill | V37: =TEXT(G37,"0")&":"&TEXT(I37,"0") -> 4:4
B38: 1.0520833 | C38: =TRIM($D$5) -> Англия | D38: =TRIM($D$4) -> Нидерланды | E38: =$E$5 -> rasval | F38: =$E$4 -> Mentill | G38: =SUM(K38) -> 4 | I38: =SUM(L38) -> 3 | K38: 4 | L38: 3 | N38: 1 | S38: 1 | T38: 16 | U38: =TEXT(B38,"h:mm")&" "&($C$1)&" ("&C38&") "&E38&" "&" - ("&D38&") "&F38&"" -> 1:15 Penalty shot cup (Англия) rasval - (Нидерланды) Mentill | V38: =TEXT(G38,"0")&":"&TEXT(I38,"0") -> 4:3
B39: 1.0555556 | C39: =TRIM($D$5) -> Англия | D39: =TRIM($D$4) -> Нидерланды | E39: =$E$5 -> rasval | F39: =$E$4 -> Mentill | G39: =SUM(K39) -> 2 | I39: =SUM(L39) -> 4 | K39: 2 | L39: 4 | N39: 2 | S39: 2 | T39: 17 | U39: =TEXT(B39,"h:mm")&" "&($C$1)&" ("&C39&") "&E39&" "&" - ("&D39&") "&F39&"" -> 1:20 Penalty shot cup (Англия) rasval - (Нидерланды) Mentill | V39: =TEXT(G39,"0")&":"&TEXT(I39,"0") -> 2:4
B40: 1.0590278 | C40: =TRIM($D$5) -> Англия | D40: =TRIM($D$4) -> Нидерланды | E40: =$E$5 -> rasval | F40: =$E$4 -> Mentill | G40: =SUM(K40) -> 4 | I40: =SUM(L40) -> 5 | K40: 4 | L40: 5 | N40: 3 | S40: 3 | T40: 18 | U40: =TEXT(B40,"h:mm")&" "&($C$1)&" ("&C40&") "&E40&" "&" - ("&D40&") "&F40&"" -> 1:25 Penalty shot cup (Англия) rasval - (Нидерланды) Mentill | V40: =TEXT(G40,"0")&":"&TEXT(I40,"0") -> 4:5
B41: 1.0625 | C41: =TRIM($D$5) -> Англия | D41: =TRIM($D$6) -> Португалия | E41: =$E$5 -> rasval | F41: =$E$6 -> AKMAN | G41: =SUM(K41) -> 5 | I41: =SUM(L41) -> 5 | K41: 5 | L41: 5 | N41: 3 | S41: 1 | T41: 19 | U41: =TEXT(B41,"h:mm")&" "&($C$1)&" ("&C41&") "&E41&" "&" - ("&D41&") "&F41&"" -> 1:30 Penalty shot cup (Англия) rasval - (Португалия) AKMAN | V41: =TEXT(G41,"0")&":"&TEXT(I41,"0") -> 5:5
B42: 1.0659722 | C42: =TRIM($D$5) -> Англия | D42: =TRIM($D$6) -> Португалия | E42: =$E$5 -> rasval | F42: =$E$6 -> AKMAN | G42: =SUM(K42) -> 4 | I42: =SUM(L42) -> 4 | K42: 4 | L42: 4 | N42: 3 | S42: 2 | T42: 20 | U42: =TEXT(B42,"h:mm")&" "&($C$1)&" ("&C42&") "&E42&" "&" - ("&D42&") "&F42&"" -> 1:35 Penalty shot cup (Англия) rasval - (Португалия) AKMAN | V42: =TEXT(G42,"0")&":"&TEXT(I42,"0") -> 4:4
B43: 1.0694444 | C43: =TRIM($D$5) -> Англия | D43: =TRIM($D$6) -> Португалия | E43: =$E$5 -> rasval | F43: =$E$6 -> AKMAN | G43: =SUM(K43) -> 5 | I43: =SUM(L43) -> 3 | K43: 5 | L43: 3 | N43: 3 | S43: 3 | T43: 21 | U43: =TEXT(B43,"h:mm")&" "&($C$1)&" ("&C43&") "&E43&" "&" - ("&D43&") "&F43&"" -> 1:40 Penalty shot cup (Англия) rasval - (Португалия) AKMAN | V43: =TEXT(G43,"0")&":"&TEXT(I43,"0") -> 5:3
B44: 1.0729167 | C44: =TRIM($D$4) -> Нидерланды | D44: =TRIM($D$6) -> Португалия | E44: =$E$4 -> Mentill | F44: =$E$6 -> AKMAN | G44: =SUM(K44) -> 5 | I44: =SUM(L44) -> 3 | K44: 5 | L44: 3 | N44: 3 | S44: 1 | T44: 22 | U44: =TEXT(B44,"h:mm")&" "&($C$1)&" ("&C44&") "&E44&" "&" - ("&D44&") "&F44&"" -> 1:45 Penalty shot cup (Нидерланды) Mentill - (Португалия) AKMAN | V44: =TEXT(G44,"0")&":"&TEXT(I44,"0") -> 5:3
B45: 1.0763889 | C45: =TRIM($D$4) -> Нидерланды | D45: =TRIM($D$6) -> Португалия | E45: =$E$4 -> Mentill | F45: =$E$6 -> AKMAN | G45: =SUM(K45) -> 4 | I45: =SUM(L45) -> 2 | K45: 4 | L45: 2 | N45: 3 | S45: 2 | T45: 23 | U45: =TEXT(B45,"h:mm")&" "&($C$1)&" ("&C45&") "&E45&" "&" - ("&D45&") "&F45&"" -> 1:50 Penalty shot cup (Нидерланды) Mentill - (Португалия) AKMAN | V45: =TEXT(G45,"0")&":"&TEXT(I45,"0") -> 4:2
B46: 1.0798611 | C46: =TRIM($D$4) -> Нидерланды | D46: =TRIM($D$6) -> Португалия | E46: =$E$4 -> Mentill | F46: =$E$6 -> AKMAN | G46: =SUM(K46) -> 4 | I46: =SUM(L46) -> 1 | K46: 4 | L46: 1 | N46: 3 | S46: 3 | T46: 24 | U46: =TEXT(B46,"h:mm")&" "&($C$1)&" ("&C46&") "&E46&" "&" - ("&D46&") "&F46&"" -> 1:55 Penalty shot cup (Нидерланды) Mentill - (Португалия) AKMAN | V46: =TEXT(G46,"0")&":"&TEXT(I46,"0") -> 4:1
C48: Гл.Судья - | F48: Ст.Судья -

Sheet ТУР7
C1: ='ТУР1'!$C$1 -> Penalty shot cup | E1: ТУР7 | F1: ='ТУР1'!$F$1 -> 45719
U2: =C1 -> Penalty shot cup | V2: =E1 -> ТУР7 | AA2: =$F$1 -> 45719 | AG2: GP | AH2: W | AI2: D | AJ2: L | AK2: GF | AL2: GA | AM2: GD | AN2: PTS | AO2: rank
C3: Участник | D3: Команда | E3: Никнейм | U3: Никнейм | V3: М | W3: В | X3: Н | Y3: П | Z3: ЗГ | AA3: ПГ | AB3: РГ | AC3: Очки | AF3: =E4 -> Mentill | AG3: {=SUM(($E$11:$E$46=AF3)*(ISNUMBER($G$11:$G$46)),($F$11:$F$46=AF3)*(ISNUMBER($I$11:$I$46)))} -> 24 | AH3: {=SUM(('ТУР7'!home=AF3)*('ТУР7'!homescore>'ТУР7'!visitorscore),('ТУР7'!visitor=AF3)*('ТУР7'!visitorscore>'ТУР7'!homescore))} -> 11 | AI3: {=SUM(('ТУР7'!home=AF3)*('ТУР7'!homescore='ТУР7'!visitorscore)*ISNUMBER('ТУР7'!visitorscore),('ТУР7'!visitor=AF3)*('ТУР7'!visitorscore='ТУР7'!homescore)*ISNUMBER('ТУР7'!homescore))} -> 9 | AJ3: {=SUM(('ТУР7'!home=AF3)*('ТУР7'!homescore<'ТУР7'!visitorscore),('ТУР7'!visitor=AF3)*('ТУР7'!visitorscore<'ТУР7'!homescore))} -> 4 | AK3: {=SUMIF('ТУР7'!home,AF3,'ТУР7'!homescore)+SUMIF('ТУР7'!visitor,AF3,'ТУР7'!visitorscore)} -> 88 | AL3: {=SUMIF('ТУР7'!home,AF3,'ТУР7'!visitorscore)+SUMIF('ТУР7'!visitor,AF3,'ТУР7'!homescore)} -> 80 | AM3: =AK3-AL3 -> 8 | AN3: {=AH3*Options!$B$2+AI3*Options!$B$3+AJ3*Options!$B$4+VLOOKUP(AF3,$E$4:$F$9,2,0)} -> 42 | AO3: =AK3+AM3*10000+AN3*100000000 -> 4200080088
C4: ='ТУР6'!$C$4 -> Павел Г. | D4: Испания | E4: ='ТУР6'!$E$4 -> Mentill | U4: {=INDEX($AF$3:$AF$5,MATCH(LARGE($AO$3:$AO$5-ROW($AO$3:$AO$5)/COUNT($AO$3:$AO$5),ROW(U4)-ROW(U$4)+1),$AO$3:$AO$5-ROW($AO$3:$AO$5)/COUNT($AO$3:$AO$5),0))} -> Mentill | V4: {=VLOOKUP($U4,$AF$3:$AN$5,2,0)} -> 24 | W4: {=VLOOKUP($U4,$AF$3:$AN$5,3,0)} -> 11 | X4: {=VLOOKUP($U4,$AF$3:$AN$5,4,0)} -> 9 | Y4: {=VLOOKUP($U4,$AF$3:$AN$5,5,0)} -> 4 | Z4: {=VLOOKUP($U4,$AF$3:$AN$5,6,0)} -> 88 | AA4: {=VLOOKUP($U4,$AF$3:$AN$5,7,0)} -> 80 | AB4: {=VLOOKUP($U4,$AF$3:$AN$5,8,0)} -> 8 | AC4: {=VLOOKUP($U4,$AF$3:$AN$5,9,0)} -> 42 | AF4: =E5 -> rasval | AG4: {=SUM(($E$11:$E$46=AF4)*(ISNUMBER($G$11:$G$46)),($F$11:$F$46=AF4)*(ISNUMBER($I$11:$I$46)))} -> 24 | AH4: {=SUM(('ТУР7'!home=AF4)*('ТУР7'!homescore>'ТУР7'!visitorscore),('ТУР7'!visitor=AF4)*('ТУР7'!visitorscore>'ТУР7'!homescore))} -> 4 | AI4: {=SUM(('ТУР7'!home=AF4)*('ТУР7'!homescore='ТУР7'!visitorscore)*ISNUMBER('ТУР7'!visitorscore),('ТУР7'!visitor=AF4)*('ТУР7'!visitorscore='ТУР7'!homescore)*ISNUMBER('ТУР7'!homescore))} -> 14 | AJ4: {=SUM(('ТУР7'!home=AF4)*('ТУР7'!homescore<'ТУР7'!visitorscore),('ТУР7'!visitor=AF4)*('ТУР7'!visitorscore<'ТУР7'!homescore))} -> 6 | AK4: {=SUMIF('ТУР7'!home,AF4,'ТУР7'!homescore)+SUMIF('ТУР7'!visitor,AF4,'ТУР7'!visitorscore)} -> 77 | AL4: {=SUMIF('ТУР7'!home,AF4,'ТУР7'!visitorscore)+SUMIF('ТУР7'!visitor,AF4,'ТУР7'!homescore)} -> 78 | AM4: =AK4-AL4 -> -1 | AN4: {=AH4*Options!$B$2+AI4*Options!$B$3+AJ4*Options!$B$4+VLOOKUP(AF4,$E$4:$F$9,2,0)} -> 26 | AO4: =AK4+AM4*10000+AN4*100000000 -> 2599990077
C5: ='ТУР6'!$C$5 -> Расуль В. | D5: Нидерланды | E5: ='ТУР6'!$E$5 -> rasval | U5: {=INDEX($AF$3:$AF$5,MATCH(LARGE($AO$3:$AO$5-ROW($AO$3:$AO$5)/COUNT($AO$3:$AO$5),ROW(U5)-ROW(U$4)+1),$AO$3:$AO$5-ROW($AO$3:$AO$5)/COUNT($AO$3:$AO$5),0))} -> rasval | V5: {=VLOOKUP($U5,$AF$3:$AN$5,2,0)} -> 24 | W5: {=VLOOKUP($U5,$AF$3:$AN$5,3,0)} -> 4 | X5: {=VLOOKUP($U5,$AF$3:$AN$5,4,0)} -> 14 | Y5: {=VLOOKUP($U5,$AF$3:$AN$5,5,0)} -> 6 | Z5: {=VLOOKUP($U5,$AF$3:$AN$5,6,0)} -> 77 | AA5: {=VLOOKUP($U5,$AF$3:$AN$5,7,0)} -> 78 | AB5: {=VLOOKUP($U5,$AF$3:$AN$5,8,0)} -> -1 | AC5: {=VLOOKUP($U5,$AF$3:$AN$5,9,0)} -> 26 | AF5: =E6 -> AKMAN | AG5: {=SUM(($E$11:$E$46=AF5)*(ISNUMBER($G$11:$G$46)),($F$11:$F$46=AF5)*(ISNUMBER($I$11:$I$46)))} -> 24 | AH5: {=SUM(('ТУР7'!home=AF5)*('ТУР7'!homescore>'ТУР7'!visitorscore),('ТУР7'!visitor=AF5)*('ТУР7'!visitorscore>'ТУР7'!homescore))} -> 2 | AI5: {=SUM(('ТУР7'!home=AF5)*('ТУР7'!homescore='ТУР7'!visitorscore)*ISNUMBER('ТУР7'!visitorscore),('ТУР7'!visitor=AF5)*('ТУР7'!visitorscore='ТУР7'!homescore)*ISNUMBER('ТУР7'!homescore))} -> 15 | AJ5: {=SUM(('ТУР7'!home=AF5)*('ТУР7'!homescore<'ТУР7'!visitorscore),('ТУР7'!visitor=AF5)*('ТУР7'!visitorscore<'ТУР7'!homescore))} -> 7 | AK5: {=SUMIF('ТУР7'!home,AF5,'ТУР7'!homescore)+SUMIF('ТУР7'!visitor,AF5,'ТУР7'!visitorscore)} -> 72 | AL5: {=SUMIF('ТУР7'!home,AF5,'ТУР7'!visitorscore)+SUMIF('ТУР7'!visitor,AF5,'ТУР7'!homescore)} -> 79 | AM5: =AK5-AL5 -> -7 | AN5: {=AH5*Options!$B$2+AI5*Options!$B$3+AJ5*Options!$B$4+VLOOKUP(AF5,$E$4:$F$9,2,0)} -> 21 | AO5: =AK5+AM5*10000+AN5*100000000 -> 2099930072
C6: ='ТУР6'!$C$6 -> Тагир А. | D6: Германия | E6: ='ТУР6'!$E$6 -> AKMAN | U6: {=INDEX($AF$3:$AF$5,MATCH(LARGE($AO$3:$AO$5-ROW($AO$3:$AO$5)/COUNT($AO$3:$AO$5),ROW(U6)-ROW(U$4)+1),$AO$3:$AO$5-ROW($AO$3:$AO$5)/COUNT($AO$3:$AO$5),0))} -> AKMAN | V6: {=VLOOKUP($U6,$AF$3:$AN$5,2,0)} -> 24 | W6: {=VLOOKUP($U6,$AF$3:$AN$5,3,0)} -> 2 | X6: {=VLOOKUP($U6,$AF$3:$AN$5,4,0)} -> 15 | Y6: {=VLOOKUP($U6,$AF$3:$AN$5,5,0)} -> 7 | Z6: {=VLOOKUP($U6,$AF$3:$AN$5,6,0)} -> 72 | AA6: {=VLOOKUP($U6,$AF$3:$AN$5,7,0)} -> 79 | AB6: {=VLOOKUP($U6,$AF$3:$AN$5,8,0)} -> -7 | AC6: {=VLOOKUP($U6,$AF$3:$AN$5,9,0)} -> 21
B8: пуск | C8: Команда | D8: Команда | E8: Дом | F8: Гость | G8: Результат | K8: Cчет | N8: PS | S8: PS | T8: № матча | U8: Матч | V8: Счет
B11: 0.083333333 | C11: =TRIM($D$4) -> Испания | D11: =TRIM($D$5) -> Нидерланды | E11: =$E$4 -> Mentill | F11: =$E$5 -> rasval | G11: =SUM(K11) -> 3 | I11: =SUM(L11) -> 3 | K11: 3 | L11: 3 | M11: 5 | N11: 1 | S11: 1 | T11: 25 | U11: =TEXT(B11,"h:mm")&" "&($C$1)&" ("&C11&") "&E11&" "&" - ("&D11&") "&F11&"" -> 2:00 Penalty shot cup (Испания) Mentill - (Нидерланды) rasval | V11: =TEXT(G11,"0")&":"&TEXT(I11,"0") -> 3:3
B12: 0.086805556 | C12: =TRIM($D$4) -> Испания | D12: =TRIM($D$5) -> Нидерланды | E12: =$E$4 -> Mentill | F12: =$E$5 -> rasval | G12: =SUM(K12) -> 3 | I12: =SUM(L12) -> 4 | K12: 3 | L12: 4 | N12: 2 | S12: 2 | T12: 26 | U12: =TEXT(B12,"h:mm")&" "&($C$1)&" ("&C12&") "&E12&" "&" - ("&D12&") "&F12&"" -> 2:05 Penalty shot cup (Испания) Mentill - (Нидерланды) rasval | V12: =TEXT(G12,"0")&":"&TEXT(I12,"0") -> 3:4
B13: 0.090277778 | C13: =TRIM($D$4) -> Испания | D13: =TRIM($D$5) -> Нидерланды | E13: =$E$4 -> Mentill | F13: =$E$5 -> rasval | G13: =SUM(K13) -> 2 | I13: =SUM(L13) -> 3 | K13: 2 | L13: 3 | N13: 3 | S13: 3 | T13: 27 | U13: =TEXT(B13,"h:mm")&" "&($C$1)&" ("&C13&") "&E13&" "&" - ("&D13&") "&F13&"" -> 2:10 Penalty shot cup (Испания) Mentill - (Нидерланды) rasval | V13: =TEXT(G13,"0")&":"&TEXT(I13,"0") -> 2:3
B14: 0.09375 | C14: =TRIM($D$6) -> Германия | D14: =TRIM($D$5) -> Нидерланды | E14: =$E$6 -> AKMAN | F14: =$E$5 -> rasval | G14: =SUM(K14) -> 4 | I14: =SUM(L14) -> 3 | K14: 4 | L14: 3 | N14: 1 | S14: 1 | T14: 28 | U14: =TEXT(B14,"h:mm")&" "&($C$1)&" ("&C14&") "&E14&" "&" - ("&D14&") "&F14&"" -> 2:15 Penalty shot cup (Германия) AKMAN - (Нидерланды) rasval | V14: =TEXT(G14,"0")&":"&TEXT(I14,"0") -> 4:3
B15: 0.097222222 | C15: =TRIM($D$6) -> Германия | D15: =TRIM($D$5) -> Нидерланды | E15: =$E$6 -> AKMAN | F15: =$E$5 -> rasval | G15: =SUM(K15) -> 4 | I15: =SUM(L15) -> 4 | K15: 4 | L15: 4 | N15: 2 | S15: 2 | T15: 29 | U15: =TEXT(B15,"h:mm")&" "&($C$1)&" ("&C15&") "&E15&" "&" - ("&D15&") "&F15&"" -> 2:20 Penalty shot cup (Германия) AKMAN - (Нидерланды) rasval | V15: =TEXT(G15,"0")&":"&TEXT(I15,"0") -> 4:4
B16: 0.10069444 | C16: =TRIM($D$6) -> Германия | D16: =TRIM($D$5) -> Нидерланды | E16: =$E$6 -> AKMAN | F16: =$E$5 -> rasval | G16: =SUM(K16) -> 0 | I16: =SUM(L16) -> 0 | K16: - | L16: - | N16: 3 | S16: 3 | T16: 30 | U16: =TEXT(B16,"h:mm")&" "&($C$1)&" ("&C16&") "&E16&" "&" - ("&D16&") "&F16&"" -> 2:25 Penalty shot cup (Германия) AKMAN - (Нидерланды) rasval | V16: =TEXT(G16,"0")&":"&TEXT(I16,"0") -> 0:0
B17: 0.10416667 | C17: =TRIM($D$6) -> Германия | D17: =TRIM($D$4) -> Испания | E17: =$E$6 -> AKMAN | F17: =$E$4 -> Mentill | G17: =SUM(K17) -> 4 | I17: =SUM(L17) -> 5 | K17: 4 | L17: 5 | N17: 1 | S17: 1 | T17: 31 | U17: =TEXT(B17,"h:mm")&" "&($C$1)&" ("&C17&") "&E17&" "&" - ("&D17&") "&F17&"" -> 2:30 Penalty shot cup (Германия) AKMAN - (Испания) Mentill | V17: =TEXT(G17,"0")&":"&TEXT(I17,"0") -> 4:5
B18: 0.10763889 | C18: =TRIM($D$6) -> Германия | D18: =TRIM($D$4) -> Испания | E18: =$E$6 -> AKMAN | F18: =$E$4 -> Mentill | G18: =SUM(K18) -> 3 | I18: =SUM(L18,O18) -> 4 | K18: 3 | L18: 4 | N18: 2 | S18: 2 | T18: 32 | U18: =TEXT(B18,"h:mm")&" "&($C$1)&" ("&C18&") "&E18&" "&" - ("&D18&") "&F18&"" -> 2:35 Penalty shot cup (Германия) AKMAN - (Испания) Mentill | V18: =TEXT(G18,"0")&":"&TEXT(I18,"0") -> 3:4
B19: 0.11111111 | C19: =TRIM($D$6) -> Германия | D19: =TRIM($D$4) -> Испания | E19: =$E$6 -> AKMAN | F19: =$E$4 -> Mentill | G19: =SUM(K19) -> 4 | I19: =SUM(L19,O19) -> 5 | K19: 4 | L19: 5 | N19: 3 | S19: 3 | T19: 33 | U19: =TEXT(B19,"h:mm")&" "&($C$1)&" ("&C19&") "&E19&" "&" - ("&D19&") "&F19&"" -> 2:40 Penalty shot cup (Германия) AKMAN - (Испания) Mentill | V19: =TEXT(G19,"0")&":"&TEXT(I19,"0") -> 4:5
B20: 0.11458333 | C20: =TRIM($D$5) -> Нидерланды | D20: =TRIM($D$4) -> Испания | E20: =$E$5 -> rasval | F20: =$E$4 -> Mentill | G20: =SUM(K20) -> 5 | I20: =SUM(L20,O20) -> 5 | K20: 5 | L20: 5 | N20: 1 | S20: 1 | T20: 34 | U20: =TEXT(B20,"h:mm")&" "&($C$1)&" ("&C20&") "&E20&" "&" - ("&D20&") "&F20&"" -> 2:45 Penalty shot cup (Нидерланды) rasval - (Испания) Mentill | V20: =TEXT(G20,"0")&":"&TEXT(I20,"0") -> 5:5
B21: 0.11805556 | C21: =TRIM($D$5) -> Нидерланды | D21: =TRIM($D$4) -> Испания | E21: =$E$5 -> rasval | F21: =$E$4 -> Mentill | G21: =SUM(K21) -> 2 | I21: =SUM(L21,O21) -> 4 | K21: 2 | L21: 4 | N21: 2 | S21: 2 | T21: 35 | U21: =TEXT(B21,"h:mm")&" "&($C$1)&" ("&C21&") "&E21&" "&" - ("&D21&") "&F21&"" -> 2:50 Penalty shot cup (Нидерланды) rasval - (Испания) Mentill | V21: =TEXT(G21,"0")&":"&TEXT(I21,"0") -> 2:4
B22: 0.12152778 | C22: =TRIM($D$5) -> Нидерланды | D22: =TRIM($D$4) -> Испания | E22: =$E$5 -> rasval | F22: =$E$4 -> Mentill | G22: =SUM(K22) -> 4 | I22: =SUM(L22,O22) -> 1 | K22: 4 | L22: 1 | N22: 3 | S22: 3 | T22: 36 | U22: =TEXT(B22,"h:mm")&" "&($C$1)&" ("&C22&") "&E22&" "&" - ("&D22&") "&F22&"" -> 2:55 Penalty shot cup (Нидерланды) rasval - (Испания) Mentill | V22: =TEXT(G22,"0")&":"&TEXT(I22,"0") -> 4:1
B23: 0.125 | C23: =TRIM($D$5) -> Нидерланды | D23: =TRIM($D$6) -> Германия | E23: =$E$5 -> rasval | F23: =$E$6 -> AKMAN | G23: =SUM(K23) -> 4 | I23: =SUM(L23) -> 4 | K23: 4 | L23: 4 | N23: 1 | S23: 1 | T23: 37 | U23: =TEXT(B23,"h:mm")&" "&($C$1)&" ("&C23&") "&E23&" "&" - ("&D23&") "&F23&"" -> 3:00 Penalty shot cup (Нидерланды) rasval - (Германия) AKMAN | V23: =TEXT(G23,"0")&":"&TEXT(I23,"0") -> 4:4
B24: 0.12847222 | C24: =TRIM($D$5) -> Нидерланды | D24: =TRIM($D$6) -> Германия | E24: =$E$5 -> rasval | F24: =$E$6 -> AKMAN | G24: =SUM(K24) -> 4 | I24: =SUM(L24) -> 4 | K24: 4 | L24: 4 | N24: 2 | S24: 2 | T24: 38 | U24: =TEXT(B24,"h:mm")&" "&($C$1)&" ("&C24&") "&E24&" "&" - ("&D24&") "&F24&"" -> 3:05 Penalty shot cup (Нидерланды) rasval - (Германия) AKMAN | V24: =TEXT(G24,"0")&":"&TEXT(I24,"0") -> 4:4
B25: 0.13194444 | C25: =TRIM($D$5) -> Нидерланды | D25: =TRIM($D$6) -> Германия | E25: =$E$5 -> rasval | F25: =$E$6 -> AKMAN | G25: =SUM(K25) -> 5 | I25: =SUM(L25) -> 3 | K25: 5 | L25: 3 | N25: 3 | S25: 3 | T25: 39 | U25: =TEXT(B25,"h:mm")&" "&($C$1)&" ("&C25&") "&E25&" "&" - ("&D25&") "&F25&"" -> 3:10 Penalty shot cup (Нидерланды) rasval - (Германия) AKMAN | V25: =TEXT(G25,"0")&":"&TEXT(I25,"0") -> 5:3
B26: 0.13541667 | C26: =TRIM($D$4) -> Испания | D26: =TRIM($D$6) -> Германия | E26: =$E$4 -> Mentill | F26: =$E$6 -> AKMAN | G26: =SUM(K26) -> 0 | I26: =SUM(L26) -> 0 | K26: - | L26: - | N26: 1 | S26: 1 | T26: 40 | U26: =TEXT(B26,"h:mm")&" "&($C$1)&" ("&C26&") "&E26&" "&" - ("&D26&") "&F26&"" -> 3:15 Penalty shot cup (Испания) Mentill - (Германия) AKMAN | V26: =TEXT(G26,"0")&":"&TEXT(I26,"0") -> 0:0
B27: 0.13888889 | C27: =TRIM($D$4) -> Испания | D27: =TRIM($D$6) -> Германия | E27: =$E$4 -> Mentill | F27: =$E$6 -> AKMAN | G27: =SUM(K27) -> 4 | I27: =SUM(L27) -> 4 | K27: 4 | L27: 4 | N27: 2 | S27: 2 | T27: 41 | U27: =TEXT(B27,"h:mm")&" "&($C$1)&" ("&C27&") "&E27&" "&" - ("&D27&") "&F27&"" -> 3:20 Penalty shot cup (Испания) Mentill - (Германия) AKMAN | V27: =TEXT(G27,"0")&":"&TEXT(I27,"0") -> 4:4
B28: 0.14236111 | C28: =TRIM($D$4) -> Испания | D28: =TRIM($D$6) -> Германия | E28: =$E$4 -> Mentill | F28: =$E$6 -> AKMAN | G28: =SUM(K28) -> 4 | I28: =SUM(L28) -> 4 | K28: 4 | L28: 4 | N28: 3 | S28: 3 | T28: 42 | U28: =TEXT(B28,"h:mm")&" "&($C$1)&" ("&C28&") "&E28&" "&" - ("&D28&") "&F28&"" -> 3:25 Penalty shot cup (Испания) Mentill - (Германия) AKMAN | V28: =TEXT(G28,"0")&":"&TEXT(I28,"0") -> 4:4
B29: 0.14583333 | C29: =TRIM($D$4) -> Испания | D29: =TRIM($D$5) -> Нидерланды | E29: =$E$4 -> Mentill | F29: =$E$5 -> rasval | G29: =SUM(K29) -> 4 | I29: =SUM(L29) -> 4 | K29: 4 | L29: 4 | N29: 1 | S29: 1 | T29: 43 | U29: =TEXT(B29,"h:mm")&" "&($C$1)&" ("&C29&") "&E29&" "&" - ("&D29&") "&F29&"" -> 3:30 Penalty shot cup (Испания) Mentill - (Нидерланды) rasval | V29: =TEXT(G29,"0")&":"&TEXT(I29,"0") -> 4:4
B30: 0.14930556 | C30: =TRIM($D$4) -> Испания | D30: =TRIM($D$5) -> Нидерланды | E30: =$E$4 -> Mentill | F30: =$E$5 -> rasval | G30: =SUM(K30) -> 4 | I30: =SUM(L30,O30) -> 4 | K30: 4 | L30: 4 | N30: 2 | S30: 2 | T30: 44 | U30: =TEXT(B30,"h:mm")&" "&($C$1)&" ("&C30&") "&E30&" "&" - ("&D30&") "&F30&"" -> 3:35 Penalty shot cup (Испания) Mentill - (Нидерланды) rasval | V30: =TEXT(G30,"0")&":"&TEXT(I30,"0") -> 4:4
B31: 0.15277778 | C31: =TRIM($D$4) -> Испания | D31: =TRIM($D$5) -> Нидерланды | E31: =$E$4 -> Mentill | F31: =$E$5 -> rasval | G31: =SUM(K31) -> 5 | I31: =SUM(L31,O31) -> 3 | K31: 5 | L31: 3 | N31: 3 | S31: 3 | T31: 45 | U31: =TEXT(B31,"h:mm")&" "&($C$1)&" ("&C31&") "&E31&" "&" - ("&D31&") "&F31&"" -> 3:40 Penalty shot cup (Испания) Mentill - (Нидерланды) rasval | V31: =TEXT(G31,"0")&":"&TEXT(I31,"0") -> 5:3
B32: 0.15625 | C32: =TRIM($D$6) -> Германия | D32: =TRIM($D$5) -> Нидерланды | E32: =$E$6 -> AKMAN | F32: =$E$5 -> rasval | G32: =SUM(K32) -> 5 | I32: =SUM(L32,O32) -> 5 | K32: 5 | L32: 5 | N32: 1 | S32: 1 | T32: 46 | U32: =TEXT(B32,"h:mm")&" "&($C$1)&" ("&C32&") "&E32&" "&" - ("&D32&") "&F32&"" -> 3:45 Penalty shot cup (Германия) AKMAN - (Нидерланды) rasval | V32: =TEXT(G32,"0")&":"&TEXT(I32,"0") -> 5:5
B33: 0.15972222 | C33: =TRIM($D$6) -> Германия | D33: =TRIM($D$5) -> Нидерланды | E33: =$E$6 -> AKMAN | F33: =$E$5 -> rasval | G33: =SUM(K33) -> 0 | I33: =SUM(L33,O33) -> 0 | J33: 5 | K33: - | L33: - | N33: 2 | S33: 2 | T33: 47 | U33: =TEXT(B33,"h:mm")&" "&($C$1)&" ("&C33&") "&E33&" "&" - ("&D33&") "&F33&"" -> 3:50 Penalty shot cup (Германия) AKMAN - (Нидерланды) rasval | V33: =TEXT(G33,"0")&":"&TEXT(I33,"0") -> 0:0
B34: 0.16319444 | C34: =TRIM($D$6) -> Германия | D34: =TRIM($D$5) -> Нидерланды | E34: =$E$6 -> AKMAN | F34: =$E$5 -> rasval | G34: =SUM(K34) -> 2 | I34: =SUM(L34,O34) -> 2 | K34: 2 | L34: 2 | N34: 3 | S34: 3 | T34: 48 | U34: =TEXT(B34,"h:mm")&" "&($C$1)&" ("&C34&") "&E34&" "&" - ("&D34&") "&F34&"" -> 3:55 Penalty shot cup (Германия) AKMAN - (Нидерланды) rasval | V34: =TEXT(G34,"0")&":"&TEXT(I34,"0") -> 2:2
B35: 0.16666667 | C35: =TRIM($D$6) -> Германия | D35: =TRIM($D$4) -> Испания | E35: =$E$6 -> AKMAN | F35: =$E$4 -> Mentill | G35: =SUM(K35) -> 2 | I35: =SUM(L35) -> 3 | K35: 2 | L35: 3 | N35: 1 | S35: 1 | T35: 49 | U35: =TEXT(B35,"h:mm")&" "&($C$1)&" ("&C35&") "&E35&" "&" - ("&D35&") "&F35&"" -> 4:00 Penalty shot cup (Германия) AKMAN - (Испания) Mentill | V35: =TEXT(G35,"0")&":"&TEXT(I35,"0") -> 2:3
B36: 0.17013889 | C36: =TRIM($D$6) -> Германия | D36: =TRIM($D$4) -> Испания | E36: =$E$6 -> AKMAN | F36: =$E$4 -> Mentill | G36: =SUM(K36) -> 4 | I36: =SUM(L36) -> 2 | K36: 4 | L36: 2 | N36: 2 | S36: 2 | T36: 50 | U36: =TEXT(B36,"h:mm")&" "&($C$1)&" ("&C36&") "&E36&" "&" - ("&D36&") "&F36&"" -> 4:05 Penalty shot cup (Германия) AKMAN - (Испания) Mentill | V36: =TEXT(G36,"0")&":"&TEXT(I36,"0") -> 4:2
B37: 0.17361111 | C37: =TRIM($D$6) -> Германия | D37: =TRIM($D$4) -> Испания | E37: =$E$6 -> AKMAN | F37: =$E$4 -> Mentill | G37: =SUM(K37) -> 4 | I37: =SUM(L37) -> 4 | K37: 4 | L37: 4 | N37: 3 | S37: 3 | T37: 51 | U37: =TEXT(B37,"h:mm")&" "&($C$1)&" ("&C37&") "&E37&" "&" - ("&D37&") "&F37&"" -> 4:10 Penalty shot cup (Германия) AKMAN - (Испания) Mentill | V37: =TEXT(G37,"0")&":"&TEXT(I37,"0") -> 4:4
B38: 0.17708333 | C38: =TRIM($D$5) -> Нидерланды | D38: =TRIM($D$4) -> Испания | E38: =$E$5 -> rasval | F38: =$E$4 -> Mentill | G38: =SUM(K38) -> 4 | I38: =SUM(L38) -> 5 | K38: 4 | L38: 5 | N38: 1 | S38: 1 | T38: 52 | U38: =TEXT(B38,"h:mm")&" "&($C$1)&" ("&C38&") "&E38&" "&" - ("&D38&") "&F38&"" -> 4:15 Penalty shot cup (Нидерланды) rasval - (Испания) Mentill | V38: =TEXT(G38,"0")&":"&TEXT(I38,"0") -> 4:5
B39: 0.18055556 | C39: =TRIM($D$5) -> Нидерланды | D39: =TRIM($D$4) -> Испания | E39: =$E$5 -> rasval | F39: =$E$4 -> Mentill | G39: =SUM(K39) -> 3 | I39: =SUM(L39) -> 4 | K39: 3 | L39: 4 | N39: 2 | S39: 2 | T39: 53 | U39: =TEXT(B39,"h:mm")&" "&($C$1)&" ("&C39&") "&E39&" "&" - ("&D39&") "&F39&"" -> 4:20 Penalty shot cup (Нидерланды) rasval - (Испания) Mentill | V39: =TEXT(G39,"0")&":"&TEXT(I39,"0") -> 3:4
B40: 0.18402778 | C40: =TRIM($D$5) -> Нидерланды | D40: =TRIM($D$4) -> Испания | E40: =$E$5 -> rasval | F40: =$E$4 -> Mentill | G40: =SUM(K40) -> 3 | I40: =SUM(L40) -> 4 | K40: 3 | L40: 4 | N40: 3 | S40: 3 | T40: 54 | U40: =TEXT(B40,"h:mm")&" "&($C$1)&" ("&C40&") "&E40&" "&" - ("&D40&") "&F40&"" -> 4:25 Penalty shot cup (Нидерланды) rasval - (Испания) Mentill | V40: =TEXT(G40,"0")&":"&TEXT(I40,"0") -> 3:4
B41: 0.1875 | C41: =TRIM($D$5) -> Нидерланды | D41: =TRIM($D$6) -> Германия | E41: =$E$5 -> rasval | F41: =$E$6 -> AKMAN | G41: =SUM(K41) -> 4 | I41: =SUM(L41) -> 4 | K41: 4 | L41: 4 | N41: 3 | S41: 1 | T41: 55 | U41: =TEXT(B41,"h:mm")&" "&($C$1)&" ("&C41&") "&E41&" "&" - ("&D41&") "&F41&"" -> 4:30 Penalty shot cup (Нидерланды) rasval - (Германия) AKMAN | V41: =TEXT(G41,"0")&":"&TEXT(I41,"0") -> 4:4
B42: 0.19097222 | C42: =TRIM($D$5) -> Нидерланды | D42: =TRIM($D$6) -> Германия | E42: =$E$5 -> rasval | F42: =$E$6 -> AKMAN | G42: =SUM(K42) -> 0 | I42: =SUM(L42) -> 0 | K42: - | L42: - | N42: 3 | S42: 2 | T42: 56 | U42: =TEXT(B42,"h:mm")&" "&($C$1)&" ("&C42&") "&E42&" "&" - ("&D42&") "&F42&"" -> 4:35 Penalty shot cup (Нидерланды) rasval - (Германия) AKMAN | V42: =TEXT(G42,"0")&":"&TEXT(I42,"0") -> 0:0
B43: 0.19444444 | C43: =TRIM($D$5) -> Нидерланды | D43: =TRIM($D$6) -> Германия | E43: =$E$5 -> rasval | F43: =$E$6 -> AKMAN | G43: =SUM(K43) -> 4 | I43: =SUM(L43) -> 4 | K43: 4 | L43: 4 | N43: 3 | S43: 3 | T43: 57 | U43: =TEXT(B43,"h:mm")&" "&($C$1)&" ("&C43&") "&E43&" "&" - ("&D43&") "&F43&"" -> 4:40 Penalty shot cup (Нидерланды) rasval - (Германия) AKMAN | V43: =TEXT(G43,"0")&":"&TEXT(I43,"0") -> 4:4
B44: 0.19791667 | C44: =TRIM($D$4) -> Испания | D44: =TRIM($D$6) -> Германия | E44: =$E$4 -> Mentill | F44: =$E$6 -> AKMAN | G44: =SUM(K44) -> 4 | I44: =SUM(L44) -> 2 | K44: 4 | L44: 2 | N44: 3 | S44: 1 | T44: 58 | U44: =TEXT(B44,"h:mm")&" "&($C$1)&" ("&C44&") "&E44&" "&" - ("&D44&") "&F44&"" -> 4:45 Penalty shot cup (Испания) Mentill - (Германия) AKMAN | V44: =TEXT(G44,"0")&":"&TEXT(I44,"0") -> 4:2
B45: 0.20138889 | C45: =TRIM($D$4) -> Испания | D45: =TRIM($D$6) -> Германия | E45: =$E$4 -> Mentill | F45: =$E$6 -> AKMAN | G45: =SUM(K45) -> 4 | I45: =SUM(L45) -> 2 | K45: 4 | L45: 2 | N45: 3 | S45: 2 | T45: 59 | U45: =TEXT(B45,"h:mm")&" "&($C$1)&" ("&C45&") "&E45&" "&" - ("&D45&") "&F45&"" -> 4:50 Penalty shot cup (Испания) Mentill - (Германия) AKMAN | V45: =TEXT(G45,"0")&":"&TEXT(I45,"0") -> 4:2
B46: 0.20486111 | C46: =TRIM($D$4) -> Испания | D46: =TRIM($D$6) -> Германия | E46: =$E$4 -> Mentill | F46: =$E$6 -> AKMAN | G46: =SUM(K46) -> 5 | I46: =SUM(L46) -> 5 | K46: 5 | L46: 5 | N46: 3 | S46: 3 | T46: 60 | U46: =TEXT(B46,"h:mm")&" "&($C$1)&" ("&C46&") "&E46&" "&" - ("&D46&") "&F46&"" -> 4:55 Penalty shot cup (Испания) Mentill - (Германия) AKMAN | V46: =TEXT(G46,"0")&":"&TEXT(I46,"0") -> 5:5
C48: Гл.Судья - | F48: Ст.Судья -

Sheet ТУР8
C1: ='ТУР1'!$C$1 -> Penalty shot cup | E1: ТУР8 | F1: ='ТУР1'!$F$1 -> 45719
U2: =C1 -> Penalty shot cup | V2: =E1 -> ТУР8 | AA2: =$F$1 -> 45719 | AG2: GP | AH2: W | AI2: D | AJ2: L | AK2: GF | AL2: GA | AM2: GD | AN2: PTS | AO2: rank
C3: Участник | D3: Команда | E3: Никнейм | U3: Никнейм | V3: М | W3: В | X3: Н | Y3: П | Z3: ЗГ | AA3: ПГ | AB3: РГ | AC3: Очки | AF3: =E4 -> Mentill | AG3: {=SUM(($E$11:$E$46=AF3)*(ISNUMBER($G$11:$G$46)),($F$11:$F$46=AF3)*(ISNUMBER($I$11:$I$46)))} -> 24 | AH3: {=SUM(('ТУР8'!home=AF3)*('ТУР8'!homescore>'ТУР8'!visitorscore),('ТУР8'!visitor=AF3)*('ТУР8'!visitorscore>'ТУР8'!homescore))} -> 6 | AI3: {=SUM(('ТУР8'!home=AF3)*('ТУР8'!homescore='ТУР8'!visitorscore)*ISNUMBER('ТУР8'!visitorscore),('ТУР8'!visitor=AF3)*('ТУР8'!visitorscore='ТУР8'!homescore)*ISNUMBER('ТУР8'!homescore))} -> 11 | AJ3: {=SUM(('ТУР8'!home=AF3)*('ТУР8'!homescore<'ТУР8'!visitorscore),('ТУР8'!visitor=AF3)*('ТУР8'!visitorscore<'ТУР8'!homescore))} -> 7 | AK3: {=SUMIF('ТУР8'!home,AF3,'ТУР8'!homescore)+SUMIF('ТУР8'!visitor,AF3,'ТУР8'!visitorscore)} -> 74 | AL3: {=SUMIF('ТУР8'!home,AF3,'ТУР8'!visitorscore)+SUMIF('ТУР8'!visitor,AF3,'ТУР8'!homescore)} -> 77 | AM3: =AK3-AL3 -> -3 | AN3: {=AH3*Options!$B$2+AI3*Options!$B$3+AJ3*Options!$B$4+VLOOKUP(AF3,$E$4:$F$9,2,0)} -> 29 | AO3: =AK3+AM3*10000+AN3*100000000 -> 2899970074
C4: ='ТУР6'!$C$4 -> Павел Г. | D4: Италия | E4: ='ТУР6'!$E$4 -> Mentill | U4: {=INDEX($AF$3:$AF$5,MATCH(LARGE($AO$3:$AO$5-ROW($AO$3:$AO$5)/COUNT($AO$3:$AO$5),ROW(U4)-ROW(U$4)+1),$AO$3:$AO$5-ROW($AO$3:$AO$5)/COUNT($AO$3:$AO$5),0))} -> rasval | V4: {=VLOOKUP($U4,$AF$3:$AN$5,2,0)} -> 24 | W4: {=VLOOKUP($U4,$AF$3:$AN$5,3,0)} -> 11 | X4: {=VLOOKUP($U4,$AF$3:$AN$5,4,0)} -> 8 | Y4: {=VLOOKUP($U4,$AF$3:$AN$5,5,0)} -> 5 | Z4: {=VLOOKUP($U4,$AF$3:$AN$5,6,0)} -> 82 | AA4: {=VLOOKUP($U4,$AF$3:$AN$5,7,0)} -> 71 | AB4: {=VLOOKUP($U4,$AF$3:$AN$5,8,0)} -> 11 | AC4: {=VLOOKUP($U4,$AF$3:$AN$5,9,0)} -> 41 | AF4: =E5 -> rasval | AG4: {=SUM(($E$11:$E$46=AF4)*(ISNUMBER($G$11:$G$46)),($F$11:$F$46=AF4)*(ISNUMBER($I$11:$I$46)))} -> 24 | AH4: {=SUM(('ТУР8'!home=AF4)*('ТУР8'!homescore>'ТУР8'!visitorscore),('ТУР8'!visitor=AF4)*('ТУР8'!visitorscore>'ТУР8'!homescore))} -> 11 | AI4: {=SUM(('ТУР8'!home=AF4)*('ТУР8'!homescore='ТУР8'!visitorscore)*ISNUMBER('ТУР8'!visitorscore),('ТУР8'!visitor=AF4)*('ТУР8'!visitorscore='ТУР8'!homescore)*ISNUMBER('ТУР8'!homescore))} -> 8 | AJ4: {=SUM(('ТУР8'!home=AF4)*('ТУР8'!homescore<'ТУР8'!visitorscore),('ТУР8'!visitor=AF4)*('ТУР8'!visitorscore<'ТУР8'!homescore))} -> 5 | AK4: {=SUMIF('ТУР8'!home,AF4,'ТУР8'!homescore)+SUMIF('ТУР8'!visitor,AF4,'ТУР8'!visitorscore)} -> 82 | AL4: {=SUMIF('ТУР8'!home,AF4,'ТУР8'!visitorscore)+SUMIF('ТУР8'!visitor,AF4,'ТУР8'!homescore)} -> 71 | AM4: =AK4-AL4 -> 11 | AN4: {=AH4*Options!$B$2+AI4*Options!$B$3+AJ4*Options!$B$4+VLOOKUP(AF4,$E$4:$F$9,2,0)} -> 41 | AO4: =AK4+AM4*10000+AN4*100000000 -> 4100110082
C5: ='ТУР6'!$C$5 -> Расуль В. | D5: Португалия | E5: ='ТУР6'!$E$5 -> rasval | U5: {=INDEX($AF$3:$AF$5,MATCH(LARGE($AO$3:$AO$5-ROW($AO$3:$AO$5)/COUNT($AO$3:$AO$5),ROW(U5)-ROW(U$4)+1),$AO$3:$AO$5-ROW($AO$3:$AO$5)/COUNT($AO$3:$AO$5),0))} -> Mentill | V5: {=VLOOKUP($U5,$AF$3:$AN$5,2,0)} -> 24 | W5: {=VLOOKUP($U5,$AF$3:$AN$5,3,0)} -> 6 | X5: {=VLOOKUP($U5,$AF$3:$AN$5,4,0)} -> 11 | Y5: {=VLOOKUP($U5,$AF$3:$AN$5,5,0)} -> 7 | Z5: {=VLOOKUP($U5,$AF$3:$AN$5,6,0)} -> 74 | AA5: {=VLOOKUP($U5,$AF$3:$AN$5,7,0)} -> 77 | AB5: {=VLOOKUP($U5,$AF$3:$AN$5,8,0)} -> -3 | AC5: {=VLOOKUP($U5,$AF$3:$AN$5,9,0)} -> 29 | AF5: =E6 -> AKMAN | AG5: {=SUM(($E$11:$E$46=AF5)*(ISNUMBER($G$11:$G$46)),($F$11:$F$46=AF5)*(ISNUMBER($I$11:$I$46)))} -> 24 | AH5: {=SUM(('ТУР8'!home=AF5)*('ТУР8'!homescore>'ТУР8'!visitorscore),('ТУР8'!visitor=AF5)*('ТУР8'!visitorscore>'ТУР8'!homescore))} -> 3 | AI5: {=SUM(('ТУР8'!home=AF5)*('ТУР8'!homescore='ТУР8'!visitorscore)*ISNUMBER('ТУР8'!visitorscore),('ТУР8'!visitor=AF5)*('ТУР8'!visitorscore='ТУР8'!homescore)*ISNUMBER('ТУР8'!homescore))} -> 13 | AJ5: {=SUM(('ТУР8'!home=AF5)*('ТУР8'!homescore<'ТУР8'!visitorscore),('ТУР8'!visitor=AF5)*('ТУР8'!visitorscore<'ТУР8'!homescore))} -> 8 | AK5: {=SUMIF('ТУР8'!home,AF5,'ТУР8'!homescore)+SUMIF('ТУР8'!visitor,AF5,'ТУР8'!visitorscore)} -> 65 | AL5: {=SUMIF('ТУР8'!home,AF5,'ТУР8'!visitorscore)+SUMIF('ТУР8'!visitor,AF5,'ТУР8'!homescore)} -> 73 | AM5: =AK5-AL5 -> -8 | AN5: {=AH5*Options!$B$2+AI5*Options!$B$3+AJ5*Options!$B$4+VLOOKUP(AF5,$E$4:$F$9,2,0)} -> 22 | AO5: =AK5+AM5*10000+AN5*100000000 -> 2199920065
C6: ='ТУР6'!$C$6 -> Тагир А. | D6: Аргентина | E6: ='ТУР6'!$E$6 -> AKMAN | U6: {=INDEX($AF$3:$AF$5,MATCH(LARGE($AO$3:$AO$5-ROW($AO$3:$AO$5)/COUNT($AO$3:$AO$5),ROW(U6)-ROW(U$4)+1),$AO$3:$AO$5-ROW($AO$3:$AO$5)/COUNT($AO$3:$AO$5),0))} -> AKMAN | V6: {=VLOOKUP($U6,$AF$3:$AN$5,2,0)} -> 24 | W6: {=VLOOKUP($U6,$AF$3:$AN$5,3,0)} -> 3 | X6: {=VLOOKUP($U6,$AF$3:$AN$5,4,0)} -> 13 | Y6: {=VLOOKUP($U6,$AF$3:$AN$5,5,0)} -> 8 | Z6: {=VLOOKUP($U6,$AF$3:$AN$5,6,0)} -> 65 | AA6: {=VLOOKUP($U6,$AF$3:$AN$5,7,0)} -> 73 | AB6: {=VLOOKUP($U6,$AF$3:$AN$5,8,0)} -> -8 | AC6: {=VLOOKUP($U6,$AF$3:$AN$5,9,0)} -> 22
B8: пуск | C8: Команда | D8: Команда | E8: Дом | F8: Гость | G8: Результат | K8: Cчет | N8: PS | S8: PS | T8: № матча | U8: Матч | V8: Счет
B11: 0.20833333 | C11: =TRIM($D$4) -> Италия | D11: =TRIM($D$5) -> Португалия | E11: =$E$4 -> Mentill | F11: =$E$5 -> rasval | G11: =SUM(K11) -> 5 | I11: =SUM(L11) -> 3 | K11: 5 | L11: 3 | M11: 5 | N11: 1 | S11: 1 | T11: 61 | U11: =TEXT(B11,"h:mm")&" "&($C$1)&" ("&C11&") "&E11&" "&" - ("&D11&") "&F11&"" -> 5:00 Penalty shot cup (Италия) Mentill - (Португалия) rasval | V11: =TEXT(G11,"0")&":"&TEXT(I11,"0") -> 5:3
B12: 0.21180556 | C12: =TRIM($D$4) -> Италия | D12: =TRIM($D$5) -> Португалия | E12: =$E$4 -> Mentill | F12: =$E$5 -> rasval | G12: =SUM(K12) -> 2 | I12: =SUM(L12) -> 4 | K12: 2 | L12: 4 | N12: 2 | S12: 2 | T12: 62 | U12: =TEXT(B12,"h:mm")&" "&($C$1)&" ("&C12&") "&E12&" "&" - ("&D12&") "&F12&"" -> 5:05 Penalty shot cup (Италия) Mentill - (Португалия) rasval | V12: =TEXT(G12,"0")&":"&TEXT(I12,"0") -> 2:4
B13: 0.21527778 | C13: =TRIM($D$4) -> Италия | D13: =TRIM($D$5) -> Португалия | E13: =$E$4 -> Mentill | F13: =$E$5 -> rasval | G13: =SUM(K13) -> 4 | I13: =SUM(L13) -> 5 | K13: 4 | L13: 5 | N13: 3 | S13: 3 | T13: 63 | U13: =TEXT(B13,"h:mm")&" "&($C$1)&" ("&C13&") "&E13&" "&" - ("&D13&") "&F13&"" -> 5:10 Penalty shot cup (Италия) Mentill - (Португалия) rasval | V13: =TEXT(G13,"0")&":"&TEXT(I13,"0") -> 4:5
B14: 0.21875 | C14: =TRIM($D$6) -> Аргентина | D14: =TRIM($D$5) -> Португалия | E14: =$E$6 -> AKMAN | F14: =$E$5 -> rasval | G14: =SUM(K14) -> 4 | I14: =SUM(L14) -> 4 | K14: 4 | L14: 4 | N14: 1 | S14: 1 | T14: 64 | U14: =TEXT(B14,"h:mm")&" "&($C$1)&" ("&C14&") "&E14&" "&" - ("&D14&") "&F14&"" -> 5:15 Penalty shot cup (Аргентина) AKMAN - (Португалия) rasval | V14: =TEXT(G14,"0")&":"&TEXT(I14,"0") -> 4:4
B15: 0.22222222 | C15: =TRIM($D$6) -> Аргентина | D15: =TRIM($D$5) -> Португалия | E15: =$E$6 -> AKMAN | F15: =$E$5 -> rasval | G15: =SUM(K15) -> 4 | I15: =SUM(L15) -> 3 | K15: 4 | L15: 3 | N15: 2 | S15: 2 | T15: 65 | U15: =TEXT(B15,"h:mm")&" "&($C$1)&" ("&C15&") "&E15&" "&" - ("&D15&") "&F15&"" -> 5:20 Penalty shot cup (Аргентина) AKMAN - (Португалия) rasval | V15: =TEXT(G15,"0")&":"&TEXT(I15,"0") -> 4:3
B16: 0.22569444 | C16: =TRIM($D$6) -> Аргентина | D16: =TRIM($D$5) -> Португалия | E16: =$E$6 -> AKMAN | F16: =$E$5 -> rasval | G16: =SUM(K16) -> 0 | I16: =SUM(L16) -> 0 | K16: - | L16: - | N16: 3 | S16: 3 | T16: 66 | U16: =TEXT(B16,"h:mm")&" "&($C$1)&" ("&C16&") "&E16&" "&" - ("&D16&") "&F16&"" -> 5:25 Penalty shot cup (Аргентина) AKMAN - (Португалия) rasval | V16: =TEXT(G16,"0")&":"&TEXT(I16,"0") -> 0:0
B17: 0.22916667 | C17: =TRIM($D$6) -> Аргентина | D17: =TRIM($D$4) -> Италия | E17: =$E$6 -> AKMAN | F17: =$E$4 -> Mentill | G17: =SUM(K17) -> 4 | I17: =SUM(L17) -> 4 | K17: 4 | L17: 4 | N17: 1 | S17: 1 | T17: 67 | U17: =TEXT(B17,"h:mm")&" "&($C$1)&" ("&C17&") "&E17&" "&" - ("&D17&") "&F17&"" -> 5:30 Penalty shot cup (Аргентина) AKMAN - (Италия) Mentill | V17: =TEXT(G17,"0")&":"&TEXT(I17,"0") -> 4:4
B18: 0.23263889 | C18: =TRIM($D$6) -> Аргентина | D18: =TRIM($D$4) -> Италия | E18: =$E$6 -> AKMAN | F18: =$E$4 -> Mentill | G18: =SUM(K18) -> 4 | I18: =SUM(L18,O18) -> 2 | K18: 4 | L18: 2 | N18: 2 | S18: 2 | T18: 68 | U18: =TEXT(B18,"h:mm")&" "&($C$1)&" ("&C18&") "&E18&" "&" - ("&D18&") "&F18&"" -> 5:35 Penalty shot cup (Аргентина) AKMAN - (Италия) Mentill | V18: =TEXT(G18,"0")&":"&TEXT(I18,"0") -> 4:2
B19: 0.23611111 | C19: =TRIM($D$6) -> Аргентина | D19: =TRIM($D$4) -> Италия | E19: =$E$6 -> AKMAN | F19: =$E$4 -> Mentill | G19: =SUM(K19) -> 4 | I19: =SUM(L19,O19) -> 4 | K19: 4 | L19: 4 | N19: 3 | S19: 3 | T19: 69 | U19: =TEXT(B19,"h:mm")&" "&($C$1)&" ("&C19&") "&E19&" "&" - ("&D19&") "&F19&"" -> 5:40 Penalty shot cup (Аргентина) AKMAN - (Италия) Mentill | V19: =TEXT(G19,"0")&":"&TEXT(I19,"0") -> 4:4
B20: 0.23958333 | C20: =TRIM($D$5) -> Португалия | D20: =TRIM($D$4) -> Италия | E20: =$E$5 -> rasval | F20: =$E$4 -> Mentill | G20: =SUM(K20) -> 3 | I20: =SUM(L20,O20) -> 3 | K20: 3 | L20: 3 | N20: 1 | S20: 1 | T20: 70 | U20: =TEXT(B20,"h:mm")&" "&($C$1)&" ("&C20&") "&E20&" "&" - ("&D20&") "&F20&"" -> 5:45 Penalty shot cup (Португалия) rasval - (Италия) Mentill | V20: =TEXT(G20,"0")&":"&TEXT(I20,"0") -> 3:3
B21: 0.24305556 | C21: =TRIM($D$5) -> Португалия | D21: =TRIM($D$4) -> Италия | E21: =$E$5 -> rasval | F21: =$E$4 -> Mentill | G21: =SUM(K21) -> 2 | I21: =SUM(L21,O21) -> 3 | K21: 2 | L21: 3 | N21: 2 | S21: 2 | T21: 71 | U21: =TEXT(B21,"h:mm")&" "&($C$1)&" ("&C21&") "&E21&" "&" - ("&D21&") "&F21&"" -> 5:50 Penalty shot cup (Португалия) rasval - (Италия) Mentill | V21: =TEXT(G21,"0")&":"&TEXT(I21,"0") -> 2:3
B22: 0.24652778 | C22: =TRIM($D$5) -> Португалия | D22: =TRIM($D$4) -> Италия | E22: =$E$5 -> rasval | F22: =$E$4 -> Mentill | G22: =SUM(K22) -> 4 | I22: =SUM(L22,O22) -> 2 | K22: 4 | L22: 2 | N22: 3 | S22: 3 | T22: 72 | U22: =TEXT(B22,"h:mm")&" "&($C$1)&" ("&C22&") "&E22&" "&" - ("&D22&") "&F22&"" -> 5:55 Penalty shot cup (Португалия) rasval - (Италия) Mentill | V22: =TEXT(G22,"0")&":"&TEXT(I22,"0") -> 4:2
B23: 0.25 | C23: =TRIM($D$5) -> Португалия | D23: =TRIM($D$6) -> Аргентина | E23: =$E$5 -> rasval | F23: =$E$6 -> AKMAN | G23: =SUM(K23) -> 4 | I23: =SUM(L23) -> 2 | K23: 4 | L23: 2 | N23: 1 | S23: 1 | T23: 73 | U23: =TEXT(B23,"h:mm")&" "&($C$1)&" ("&C23&") "&E23&" "&" - ("&D23&") "&F23&"" -> 6:00 Penalty shot cup (Португалия) rasval - (Аргентина) AKMAN | V23: =TEXT(G23,"0")&":"&TEXT(I23,"0") -> 4:2
B24: 0.25347222 | C24: =TRIM($D$5) -> Португалия | D24: =TRIM($D$6) -> Аргентина | E24: =$E$5 -> rasval | F24: =$E$6 -> AKMAN | G24: =SUM(K24) -> 5 | I24: =SUM(L24) -> 3 | K24: 5 | L24: 3 | N24: 2 | S24: 2 | T24: 74 | U24: =TEXT(B24,"h:mm")&" "&($C$1)&" ("&C24&") "&E24&" "&" - ("&D24&") "&F24&"" -> 6:05 Penalty shot cup (Португалия) rasval - (Аргентина) AKMAN | V24: =TEXT(G24,"0")&":"&TEXT(I24,"0") -> 5:3
B25: 0.25694444 | C25: =TRIM($D$5) -> Португалия | D25: =TRIM($D$6) -> Аргентина | E25: =$E$5 -> rasval | F25: =$E$6 -> AKMAN | G25: =SUM(K25) -> 4 | I25: =SUM(L25) -> 1 | K25: 4 | L25: 1 | N25: 3 | S25: 3 | T25: 75 | U25: =TEXT(B25,"h:mm")&" "&($C$1)&" ("&C25&") "&E25&" "&" - ("&D25&") "&F25&"" -> 6:10 Penalty shot cup (Португалия) rasval - (Аргентина) AKMAN | V25: =TEXT(G25,"0")&":"&TEXT(I25,"0") -> 4:1
B26: 0.26041667 | C26: =TRIM($D$4) -> Италия | D26: =TRIM($D$6) -> Аргентина | E26: =$E$4 -> Mentill | F26: =$E$6 -> AKMAN | G26: =SUM(K26) -> 3 | I26: =SUM(L26) -> 3 | K26: 3 | L26: 3 | N26: 1 | S26: 1 | T26: 76 | U26: =TEXT(B26,"h:mm")&" "&($C$1)&" ("&C26&") "&E26&" "&" - ("&D26&") "&F26&"" -> 6:15 Penalty shot cup (Италия) Mentill - (Аргентина) AKMAN | V26: =TEXT(G26,"0")&":"&TEXT(I26,"0") -> 3:3
B27: 0.26388889 | C27: =TRIM($D$4) -> Италия | D27: =TRIM($D$6) -> Аргентина | E27: =$E$4 -> Mentill | F27: =$E$6 -> AKMAN | G27: =SUM(K27) -> 4 | I27: =SUM(L27) -> 4 | K27: 4 | L27: 4 | N27: 2 | S27: 2 | T27: 77 | U27: =TEXT(B27,"h:mm")&" "&($C$1)&" ("&C27&") "&E27&" "&" - ("&D27&") "&F27&"" -> 6:20 Penalty shot cup (Италия) Mentill - (Аргентина) AKMAN | V27: =TEXT(G27,"0")&":"&TEXT(I27,"0") -> 4:4
B28: 0.26736111 | C28: =TRIM($D$4) -> Италия | D28: =TRIM($D$6) -> Аргентина | E28: =$E$4 -> Mentill | F28: =$E$6 -> AKMAN | G28: =SUM(K28) -> 0 | I28: =SUM(L28) -> 0 | K28: - | L28: - | N28: 3 | S28: 3 | T28: 78 | U28: =TEXT(B28,"h:mm")&" "&($C$1)&" ("&C28&") "&E28&" "&" - ("&D28&") "&F28&"" -> 6:25 Penalty shot cup (Италия) Mentill - (Аргентина) AKMAN | V28: =TEXT(G28,"0")&":"&TEXT(I28,"0") -> 0:0
B29: 0.27083333 | C29: =TRIM($D$4) -> Италия | D29: =TRIM($D$5) -> Португалия | E29: =$E$4 -> Mentill | F29: =$E$5 -> rasval | G29: =SUM(K29) -> 4 | I29: =SUM(L29) -> 5 | K29: 4 | L29: 5 | N29: 1 | S29: 1 | T29: 79 | U29: =TEXT(B29,"h:mm")&" "&($C$1)&" ("&C29&") "&E29&" "&" - ("&D29&") "&F29&"" -> 6:30 Penalty shot cup (Италия) Mentill - (Португалия) rasval | V29: =TEXT(G29,"0")&":"&TEXT(I29,"0") -> 4:5
B30: 0.27430556 | C30: =TRIM($D$4) -> Италия | D30: =TRIM($D$5) -> Португалия | E30: =$E$4 -> Mentill | F30: =$E$5 -> rasval | G30: =SUM(K30) -> 2 | I30: =SUM(L30,O30) -> 4 | K30: 2 | L30: 4 | N30: 2 | S30: 2 | T30: 80 | U30: =TEXT(B30,"h:mm")&" "&($C$1)&" ("&C30&") "&E30&" "&" - ("&D30&") "&F30&"" -> 6:35 Penalty shot cup (Италия) Mentill - (Португалия) rasval | V30: =TEXT(G30,"0")&":"&TEXT(I30,"0") -> 2:4
B31: 0.27777778 | C31: =TRIM($D$4) -> Италия | D31: =TRIM($D$5) -> Португалия | E31: =$E$4 -> Mentill | F31: =$E$5 -> rasval | G31: =SUM(K31) -> 5 | I31: =SUM(L31,O31) -> 3 | K31: 5 | L31: 3 | N31: 3 | S31: 3 | T31: 81 | U31: =TEXT(B31,"h:mm")&" "&($C$1)&" ("&C31&") "&E31&" "&" - ("&D31&") "&F31&"" -> 6:40 Penalty shot cup (Италия) Mentill - (Португалия) rasval | V31: =TEXT(G31,"0")&":"&TEXT(I31,"0") -> 5:3
B32: 0.28125 | C32: =TRIM($D$6) -> Аргентина | D32: =TRIM($D$5) -> Португалия | E32: =$E$6 -> AKMAN | F32: =$E$5 -> rasval | G32: =SUM(K32) -> 2 | I32: =SUM(L32,O32) -> 3 | K32: 2 | L32: 3 | N32: 1 | S32: 1 | T32: 82 | U32: =TEXT(B32,"h:mm")&" "&($C$1)&" ("&C32&") "&E32&" "&" - ("&D32&") "&F32&"" -> 6:45 Penalty shot cup (Аргентина) AKMAN - (Португалия) rasval | V32: =TEXT(G32,"0")&":"&TEXT(I32,"0") -> 2:3
B33: 0.28472222 | C33: =TRIM($D$6) -> Аргентина | D33: =TRIM($D$5) -> Португалия | E33: =$E$6 -> AKMAN | F33: =$E$5 -> rasval | G33: =SUM(K33) -> 4 | I33: =SUM(L33,O33) -> 4 | J33: 5 | K33: 4 | L33: 4 | N33: 2 | S33: 2 | T33: 83 | U33: =TEXT(B33,"h:mm")&" "&($C$1)&" ("&C33&") "&E33&" "&" - ("&D33&") "&F33&"" -> 6:50 Penalty shot cup (Аргентина) AKMAN - (Португалия) rasval | V33: =TEXT(G33,"0")&":"&TEXT(I33,"0") -> 4:4
B34: 0.28819444 | C34: =TRIM($D$6) -> Аргентина | D34: =TRIM($D$5) -> Португалия | E34: =$E$6 -> AKMAN | F34: =$E$5 -> rasval | G34: =SUM(K34) -> 4 | I34: =SUM(L34,O34) -> 5 | K34: 4 | L34: 5 | N34: 3 | S34: 3 | T34: 84 | U34: =TEXT(B34,"h:mm")&" "&($C$1)&" ("&C34&") "&E34&" "&" - ("&D34&") "&F34&"" -> 6:55 Penalty shot cup (Аргентина) AKMAN - (Португалия) rasval | V34: =TEXT(G34,"0")&":"&TEXT(I34,"0") -> 4:5
B35: 0.29166667 | C35: =TRIM($D$6) -> Аргентина | D35: =TRIM($D$4) -> Италия | E35: =$E$6 -> AKMAN | F35: =$E$4 -> Mentill | G35: =SUM(K35) -> 4 | I35: =SUM(L35) -> 5 | K35: 4 | L35: 5 | N35: 1 | S35: 1 | T35: 85 | U35: =TEXT(B35,"h:mm")&" "&($C$1)&" ("&C35&") "&E35&" "&" - ("&D35&") "&F35&"" -> 7:00 Penalty shot cup (Аргентина) AKMAN - (Италия) Mentill | V35: =TEXT(G35,"0")&":"&TEXT(I35,"0") -> 4:5
B36: 0.29513889 | C36: =TRIM($D$6) -> Аргентина | D36: =TRIM($D$4) -> Италия | E36: =$E$6 -> AKMAN | F36: =$E$4 -> Mentill | G36: =SUM(K36) -> 3 | I36: =SUM(L36) -> 4 | K36: 3 | L36: 4 | N36: 2 | S36: 2 | T36: 86 | U36: =TEXT(B36,"h:mm")&" "&($C$1)&" ("&C36&") "&E36&" "&" - ("&D36&") "&F36&"" -> 7:05 Penalty shot cup (Аргентина) AKMAN - (Италия) Mentill | V36: =TEXT(G36,"0")&":"&TEXT(I36,"0") -> 3:4
B37: 0.29861111 | C37: =TRIM($D$6) -> Аргентина | D37: =TRIM($D$4) -> Италия | E37: =$E$6 -> AKMAN | F37: =$E$4 -> Mentill | G37: =SUM(K37) -> 0 | I37: =SUM(L37) -> 0 | K37: - | L37: - | N37: 3 | S37: 3 | T37: 87 | U37: =TEXT(B37,"h:mm")&" "&($C$1)&" ("&C37&") "&E37&" "&" - ("&D37&") "&F37&"" -> 7:10 Penalty shot cup (Аргентина) AKMAN - (Италия) Mentill | V37: =TEXT(G37,"0")&":"&TEXT(I37,"0") -> 0:0
B38: 0.30208333 | C38: =TRIM($D$5) -> Португалия | D38: =TRIM($D$4) -> Италия | E38: =$E$5 -> rasval | F38: =$E$4 -> Mentill | G38: =SUM(K38) -> 4 | I38: =SUM(L38) -> 2 | K38: 4 | L38: 2 | N38: 1 | S38: 1 | T38: 88 | U38: =TEXT(B38,"h:mm")&" "&($C$1)&" ("&C38&") "&E38&" "&" - ("&D38&") "&F38&"" -> 7:15 Penalty shot cup (Португалия) rasval - (Италия) Mentill | V38: =TEXT(G38,"0")&":"&TEXT(I38,"0") -> 4:2
B39: 0.30555556 | C39: =TRIM($D$5) -> Португалия | D39: =TRIM($D$4) -> Италия | E39: =$E$5 -> rasval | F39: =$E$4 -> Mentill | G39: =SUM(K39) -> 3 | I39: =SUM(L39) -> 3 | K39: 3 | L39: 3 | N39: 2 | S39: 2 | T39: 89 | U39: =TEXT(B39,"h:mm")&" "&($C$1)&" ("&C39&") "&E39&" "&" - ("&D39&") "&F39&"" -> 7:20 Penalty shot cup (Португалия) rasval - (Италия) Mentill | V39: =TEXT(G39,"0")&":"&TEXT(I39,"0") -> 3:3
B40: 0.30902778 | C40: =TRIM($D$5) -> Португалия | D40: =TRIM($D$4) -> Италия | E40: =$E$5 -> rasval | F40: =$E$4 -> Mentill | G40: =SUM(K40) -> 4 | I40: =SUM(L40) -> 4 | K40: 4 | L40: 4 | N40: 3 | S40: 3 | T40: 90 | U40: =TEXT(B40,"h:mm")&" "&($C$1)&" ("&C40&") "&E40&" "&" - ("&D40&") "&F40&"" -> 7:25 Penalty shot cup (Португалия) rasval - (Италия) Mentill | V40: =TEXT(G40,"0")&":"&TEXT(I40,"0") -> 4:4
B41: 0.3125 | C41: =TRIM($D$5) -> Португалия | D41: =TRIM($D$6) -> Аргентина | E41: =$E$5 -> rasval | F41: =$E$6 -> AKMAN | G41: =SUM(K41) -> 1 | I41: =SUM(L41) -> 3 | K41: 1 | L41: 3 | N41: 3 | S41: 1 | T41: 91 | U41: =TEXT(B41,"h:mm")&" "&($C$1)&" ("&C41&") "&E41&" "&" - ("&D41&") "&F41&"" -> 7:30 Penalty shot cup (Португалия) rasval - (Аргентина) AKMAN | V41: =TEXT(G41,"0")&":"&TEXT(I41,"0") -> 1:3
B42: 0.31597222 | C42: =TRIM($D$5) -> Португалия | D42: =TRIM($D$6) -> Аргентина | E42: =$E$5 -> rasval | F42: =$E$6 -> AKMAN | G42: =SUM(K42) -> 2 | I42: =SUM(L42) -> 2 | K42: 2 | L42: 2 | N42: 3 | S42: 2 | T42: 92 | U42: =TEXT(B42,"h:mm")&" "&($C$1)&" ("&C42&") "&E42&" "&" - ("&D42&") "&F42&"" -> 7:35 Penalty shot cup (Португалия) rasval - (Аргентина) AKMAN | V42: =TEXT(G42,"0")&":"&TEXT(I42,"0") -> 2:2
B43: 0.31944444 | C43: =TRIM($D$5) -> Португалия | D43: =TRIM($D$6) -> Аргентина | E43: =$E$5 -> rasval | F43: =$E$6 -> AKMAN | G43: =SUM(K43) -> 3 | I43: =SUM(L43) -> 3 | K43: 3 | L43: 3 | N43: 3 | S43: 3 | T43: 93 | U43: =TEXT(B43,"h:mm")&" "&($C$1)&" ("&C43&") "&E43&" "&" - ("&D43&") "&F43&"" -> 7:40 Penalty shot cup (Португалия) rasval - (Аргентина) AKMAN | V43: =TEXT(G43,"0")&":"&TEXT(I43,"0") -> 3:3
B44: 0.32291667 | C44: =TRIM($D$4) -> Италия | D44: =TRIM($D$6) -> Аргентина | E44: =$E$4 -> Mentill | F44: =$E$6 -> AKMAN | G44: =SUM(K44) -> 0 | I44: =SUM(L44) -> 0 | K44: - | L44: - | N44: 3 | S44: 1 | T44: 94 | U44: =TEXT(B44,"h:mm")&" "&($C$1)&" ("&C44&") "&E44&" "&" - ("&D44&") "&F44&"" -> 7:45 Penalty shot cup (Италия) Mentill - (Аргентина) AKMAN | V44: =TEXT(G44,"0")&":"&TEXT(I44,"0") -> 0:0
B45: 0.32638889 | C45: =TRIM($D$4) -> Италия | D45: =TRIM($D$6) -> Аргентина | E45: =$E$4 -> Mentill | F45: =$E$6 -> AKMAN | G45: =SUM(K45) -> 5 | I45: =SUM(L45) -> 3 | K45: 5 | L45: 3 | N45: 3 | S45: 2 | T45: 95 | U45: =TEXT(B45,"h:mm")&" "&($C$1)&" ("&C45&") "&E45&" "&" - ("&D45&") "&F45&"" -> 7:50 Penalty shot cup (Италия) Mentill - (Аргентина) AKMAN | V45: =TEXT(G45,"0")&":"&TEXT(I45,"0") -> 5:3
B46: 0.32986111 | C46: =TRIM($D$4) -> Италия | D46: =TRIM($D$6) -> Аргентина | E46: =$E$4 -> Mentill | F46: =$E$6 -> AKMAN | G46: =SUM(K46) -> 4 | I46: =SUM(L46) -> 4 | K46: 4 | L46: 4 | N46: 3 | S46: 3 | T46: 96 | U46: =TEXT(B46,"h:mm")&" "&($C$1)&" ("&C46&") "&E46&" "&" - ("&D46&") "&F46&"" -> 7:55 Penalty shot cup (Италия) Mentill - (Аргентина) AKMAN | V46: =TEXT(G46,"0")&":"&TEXT(I46,"0") -> 4:4
C48: Гл.Судья - | F48: Ст.Судья -

Sheet Options
A1: Points
A2: points for a win | B2: 3
A3: points for a draw | B3: 1
A4: points for a loss | B4: 0
D11: Penalty shot cup | F11: ТУР1 | G11: ='ТУР1'!$F$1 -> 45719 | I11: Penalty shot cup | K11: ТУР2 | L11: ='ТУР1'!$F$1 -> 45719
D13: Участник | E13: Команда | F13: Никнейм | I13: Участник | J13: Команда | K13: Никнейм
D14: ='ТУР1'!$C$4 -> Эдуард А. | E14: ='ТУР1'!$D$4 -> Италия | F14: ='ТУР1'!$E$4 -> masterp1ece | I14: ='ТУР2'!$C$4 -> Эдуард А. | J14: ='ТУР2'!$D$4 -> Нидерланды | K14: ='ТУР2'!$E$4 -> masterp1ece
D15: ='ТУР1'!$C$5 -> Рим С. | E15: ='ТУР1'!$D$5 -> Германия | F15: ='ТУР1'!$E$5 -> CMEX | I15: ='ТУР2'!$C$5 -> Рим С. | J15: ='ТУР2'!$D$5 -> Англия | K15: ='ТУР2'!$E$5 -> CMEX
D16: ='ТУР1'!$C$6 -> Андрей С. | E16: ='ТУР1'!$D$6 -> Аргентина | F16: ='ТУР1'!$E$6 -> flame | I16: ='ТУР2'!$C$6 -> Андрей С. | J16: ='ТУР2'!$D$6 -> Португалия | K16: ='ТУР2'!$E$6 -> flame
D20: Penalty shot cup | F20: ТУР3 | G20: ='ТУР1'!$F$1 -> 45719 | I20: Penalty shot cup | K20: ТУР4 | L20: ='ТУР1'!$F$1 -> 45719
D22: Участник | E22: Команда | F22: Никнейм | I22: Участник | J22: Команда | K22: Никнейм
D23: ='ТУР3'!$C$4 -> Тимофей Б. | E23: ='ТУР3'!$D$4 -> Испания | F23: ='ТУР3'!$E$4 -> debosch | I23: ='ТУР4'!$C$4 -> Тимофей Б. | J23: ='ТУР4'!$D$4 -> Италия | K23: ='ТУР4'!$E$4 -> debosch
D24: ='ТУР3'!$C$5 -> Азамат Г. | E24: ='ТУР3'!$D$5 -> Нидерланды | F24: ='ТУР3'!$E$5 -> azalazy | I24: ='ТУР4'!$C$5 -> Азамат Г. | J24: ='ТУР4'!$D$5 -> Португалия | K24: ='ТУР4'!$E$5 -> azalazy
D25: ='ТУР3'!$C$6 -> Никита Д. | E25: ='ТУР3'!$D$6 -> Германия | F25: ='ТУР3'!$E$6 -> ⁠nxkitorio | I25: ='ТУР4'!$C$6 -> Никита Д. | J25: ='ТУР4'!$D$6 -> Аргентина | K25: ='ТУР4'!$E$6 -> ⁠nxkitorio
D29: Penalty shot cup | F29: ТУР5 | G29: ='ТУР1'!$F$1 -> 45719 | I29: Penalty shot cup | K29: ТУР6 | L29: ='ТУР1'!$F$1 -> 45719
D31: Участник | E31: Команда | F31: Никнейм | I31: Участник | J31: Команда | K31: Никнейм
D32: ='ТУР5'!$C$4 -> Тимофей Б. | E32: ='ТУР5'!$D$4 -> Италия | F32: ='ТУР5'!$E$4 -> debosch | I32: ='ТУР6'!$C$4 -> Павел Г. | J32: ='ТУР6'!$D$4 -> Нидерланды | K32: ='ТУР6'!$E$4 -> Mentill
D33: ='ТУР5'!$C$5 -> Азамат Г. | E33: ='ТУР5'!$D$5 -> Германия | F33: ='ТУР5'!$E$5 -> azalazy | I33: ='ТУР6'!$C$5 -> Расуль В. | J33: ='ТУР6'!$D$5 -> Англия | K33: ='ТУР6'!$E$5 -> rasval
D34: ='ТУР5'!$C$6 -> Никита Д. | E34: ='ТУР5'!$D$6 -> Аргентина | F34: ='ТУР5'!$E$6 -> ⁠nxkitorio | I34: ='ТУР6'!$C$6 -> Тагир А. | J34: ='ТУР6'!$D$6 -> Португалия | K34: ='ТУР6'!$E$6 -> AKMAN
D38: Penalty shot cup | F38: ТУР7 | G38: ='ТУР1'!$F$1 -> 45719 | I38: Penalty shot cup | K38: ТУР8 | L38: ='ТУР1'!$F$1 -> 45719
D40: Участник | E40: Команда | F40: Никнейм | I40: Участник | J40: Команда | K40: Никнейм
D41: ='ТУР7'!$C$4 -> Павел Г. | E41: ='ТУР7'!$D$4 -> Испания | F41: ='ТУР7'!$E$4 -> Mentill | I41: ='ТУР8'!$C$4 -> Павел Г. | J41: ='ТУР8'!$D$4 -> Италия | K41: ='ТУР8'!$E$4 -> Mentill
D42: ='ТУР7'!$C$5 -> Расуль В. | E42: ='ТУР7'!$D$5 -> Нидерланды | F42: ='ТУР7'!$E$5 -> rasval | I42: ='ТУР8'!$C$5 -> Расуль В. | J42: ='ТУР8'!$D$5 -> Португалия | K42: ='ТУР8'!$E$5 -> rasval
D43: ='ТУР7'!$C$6 -> Тагир А. | E43: ='ТУР7'!$D$6 -> Германия | F43: ='ТУР7'!$E$6 -> AKMAN | I43: ='ТУР8'!$C$6 -> Тагир А. | J43: ='ТУР8'!$D$6 -> Аргентина | K43: ='ТУР8'!$E$6 -> AKMAN
