Workbook
Name visitor: 'ТУР7'!$F$11:$F$46
Name visitor: 'ТУР1'!$F$11:$F$46
Name visitorscore: 'ТУР3'!$I$11:$I$46
Name homescore: 'ТУР5'!$G$11:$G$46
Name homescore: 'ТУР6'!$G$11:$G$46
Name visitor: 'ТУР5'!$F$11:$F$46
Name visitorscore: 'ТУР1'!$I$11:$I$46
Name visitorscore: 'ТУР2'!$I$11:$I$46
Name home: 'ТУР7'!$E$11:$E$46
Name home: 'ТУР1'!$E$11:$E$46
Name home: 'ТУР5'!$E$11:$E$46
Name visitorscore: 'ТУР6'!$I$11:$I$46
Name homescore: 'ТУР1'!$G$11:$G$46
Name homescore: 'ТУР8'!$G$11:$G$46
Name visitorscore: 'ТУР4'!$I$11:$I$46
Name homescore: 'ТУР4'!$G$11:$G$46
Name home: 'ТУР2'!$E$11:$E$46
Name visitorscore: 'ТУР8'!$I$11:$I$46
Name home: 'ТУР3'!$E$11:$E$46
Name visitor: 'ТУР2'!$F$11:$F$46
Name home: 'ТУР4'!$E$11:$E$46
Name visitor: 'ТУР6'!$F$11:$F$46
Name homescore: 'ТУР7'!$G$11:$G$46
Name visitor: 'ТУР8'!$F$11:$F$46
Name visitor: 'ТУР4'!$F$11:$F$46
Name home: 'ТУР6'!$E$11:$E$46
Name homescore: 'ТУР3'!$G$11:$G$46
Name homescore: 'ТУР2'!$G$11:$G$46
Name visitorscore: 'ТУР7'!$I$11:$I$46
Name visitorscore: 'ТУР5'!$I$11:$I$46
Name visitor: 'ТУР3'!$F$11:$F$46
Name home: 'ТУР8'!$E$11:$E$46

Sheet ТУР1
C1: Penalty shot cup | E1: ТУР1 | F1: 45659
U2: =C1 -> Penalty shot cup | V2: =E1 -> ТУР1 | AA2: =$F$1 -> 45659 | AG2: GP | AH2: W | AI2: D | AJ2: L | AK2: GF | AL2: GA | AM2: GD | AN2: PTS | AO2: rank
C3: Участник | D3: Команда | E3: Никнейм | U3: Никнейм | V3: М | W3: В | X3: Н | Y3: П | Z3: ЗГ | AA3: ПГ | AB3: РГ | AC3: Очки | AF3: =E4 -> flame | AG3: {=SUM(($E$11:$E$46=AF3)*(ISNUMBER($G$11:$G$46)),($F$11:$F$46=AF3)*(ISNUMBER($I$11:$I$46)))} -> 24 | AH3: {=SUM((home=AF3)*(homescore>visitorscore),(visitor=AF3)*(visitorscore>homescore))} -> 9 | AI3: {=SUM((home=AF3)*(homescore=visitorscore)*ISNUMBER(visitorscore),(visitor=AF3)*(visitorscore=homescore)*ISNUMBER(homescore))} -> 7 | AJ3: {=SUM((home=AF3)*(homescore<visitorscore),(visitor=AF3)*(visitorscore<homescore))} -> 8 | AK3: {=SUMIF(home,AF3,homescore)+SUMIF(visitor,AF3,visitorscore)} -> 82 | AL3: {=SUMIF(home,AF3,visitorscore)+SUMIF(visitor,AF3,homescore)} -> 80 | AM3: =AK3-AL3 -> 2 | AN3: {=AH3*Options!$B$2+AI3*Options!$B$3+AJ3*Options!$B$4+VLOOKUP(AF3,$E$4:$F$9,2,0)} -> 34 | AO3: =AK3+AM3*10000+AN3*100000000 -> 3400020082
C4: Андрей С. | D4: Италия | E4: flame | U4: {=INDEX($AF$3:$AF$5,MATCH(LARGE($AO$3:$AO$5-ROW($AO$3:$AO$5)/COUNT($AO$3:$AO$5),ROW(U4)-ROW(U$4)+1),$AO$3:$AO$5-ROW($AO$3:$AO$5)/COUNT($AO$3:$AO$5),0))} -> ovoshnoy | V4: {=VLOOKUP($U4,$AF$3:$AN$5,2,0)} -> 24 | W4: {=VLOOKUP($U4,$AF$3:$AN$5,3,0)} -> 9 | X4: {=VLOOKUP($U4,$AF$3:$AN$5,4,0)} -> 10 | Y4: {=VLOOKUP($U4,$AF$3:$AN$5,5,0)} -> 5 | Z4: {=VLOOKUP($U4,$AF$3:$AN$5,6,0)} -> 84 | AA4: {=VLOOKUP($U4,$AF$3:$AN$5,7,0)} -> 80 | AB4: {=VLOOKUP($U4,$AF$3:$AN$5,8,0)} -> 4 | AC4: {=VLOOKUP($U4,$AF$3:$AN$5,9,0)} -> 37 | AF4: =E5 -> bullet | AG4: {=SUM(($E$11:$E$46=AF4)*(ISNUMBER($G$11:$G$46)),($F$11:$F$46=AF4)*(ISNUMBER($I$11:$I$46)))} -> 24 | AH4: {=SUM((home=AF4)*(homescore>visitorscore),(visitor=AF4)*(visitorscore>homescore))} -> 5 | AI4: {=SUM((home=AF4)*(homescore=visitorscore)*ISNUMBER(visitorscore),(visitor=AF4)*(visitorscore=homescore)*ISNUMBER(homescore))} -> 9 | AJ4: {=SUM((home=AF4)*(homescore<visitorscore),(visitor=AF4)*(visitorscore<homescore))} -> 10 | AK4: {=SUMIF(home,AF4,homescore)+SUMIF(visitor,AF4,visitorscore)} -> 80 | AL4: {=SUMIF(home,AF4,visitorscore)+SUMIF(visitor,AF4,homescore)} -> 86 | AM4: =AK4-AL4 -> -6 | AN4: {=AH4*Options!$B$2+AI4*Options!$B$3+AJ4*Options!$B$4+VLOOKUP(AF4,$E$4:$F$9,2,0)} -> 24 | AO4: =AK4+AM4*10000+AN4*100000000 -> 2399940080
C5: Артём И. | D5: Германия | E5: bullet | U5: {=INDEX($AF$3:$AF$5,MATCH(LARGE($AO$3:$AO$5-ROW($AO$3:$AO$5)/COUNT($AO$3:$AO$5),ROW(U5)-ROW(U$4)+1),$AO$3:$AO$5-ROW($AO$3:$AO$5)/COUNT($AO$3:$AO$5),0))} -> flame | V5: {=VLOOKUP($U5,$AF$3:$AN$5,2,0)} -> 24 | W5: {=VLOOKUP($U5,$AF$3:$AN$5,3,0)} -> 9 | X5: {=VLOOKUP($U5,$AF$3:$AN$5,4,0)} -> 7 | Y5: {=VLOOKUP($U5,$AF$3:$AN$5,5,0)} -> 8 | Z5: {=VLOOKUP($U5,$AF$3:$AN$5,6,0)} -> 82 | AA5: {=VLOOKUP($U5,$AF$3:$AN$5,7,0)} -> 80 | AB5: {=VLOOKUP($U5,$AF$3:$AN$5,8,0)} -> 2 | AC5: {=VLOOKUP($U5,$AF$3:$AN$5,9,0)} -> 34 | AF5: =E6 -> ovoshnoy | AG5: {=SUM(($E$11:$E$46=AF5)*(ISNUMBER($G$11:$G$46)),($F$11:$F$46=AF5)*(ISNUMBER($I$11:$I$46)))} -> 24 | AH5: {=SUM((home=AF5)*(homescore>visitorscore),(visitor=AF5)*(visitorscore>homescore))} -> 9 | AI5: {=SUM((home=AF5)*(homescore=visitorscore)*ISNUMBER(visitorscore),(visitor=AF5)*(visitorscore=homescore)*ISNUMBER(homescore))} -> 10 | AJ5: {=SUM((home=AF5)*(homescore<visitorscore),(visitor=AF5)*(visitorscore<homescore))} -> 5 | AK5: {=SUMIF(home,AF5,homescore)+SUMIF(visitor,AF5,visitorscore)} -> 84 | AL5: {=SUMIF(home,AF5,visitorscore)+SUMIF(visitor,AF5,homescore)} -> 80 | AM5: =AK5-AL5 -> 4 | AN5: {=AH5*Options!$B$2+AI5*Options!$B$3+AJ5*Options!$B$4+VLOOKUP(AF5,$E$4:$F$9,2,0)} -> 37 | AO5: =AK5+AM5*10000+AN5*100000000 -> 3700040084
C6: Илья Г. | D6: Аргентина | E6: ovoshnoy | U6: {=INDEX($AF$3:$AF$5,MATCH(LARGE($AO$3:$AO$5-ROW($AO$3:$AO$5)/COUNT($AO$3:$AO$5),ROW(U6)-ROW(U$4)+1),$AO$3:$AO$5-ROW($AO$3:$AO$5)/COUNT($AO$3:$AO$5),0))} -> bullet | V6: {=VLOOKUP($U6,$AF$3:$AN$5,2,0)} -> 24 | W6: {=VLOOKUP($U6,$AF$3:$AN$5,3,0)} -> 5 | X6: {=VLOOKUP($U6,$AF$3:$AN$5,4,0)} -> 9 | Y6: {=VLOOKUP($U6,$AF$3:$AN$5,5,0)} -> 10 | Z6: {=VLOOKUP($U6,$AF$3:$AN$5,6,0)} -> 80 | AA6: {=VLOOKUP($U6,$AF$3:$AN$5,7,0)} -> 86 | AB6: {=VLOOKUP($U6,$AF$3:$AN$5,8,0)} -> -6 | AC6: {=VLOOKUP($U6,$AF$3:$AN$5,9,0)} -> 24
B8: пуск | C8: Команда | D8: Команда | E8: Дом | F8: Гость | G8: Результат | K8: Cчет | N8: PS | S8: PS | T8: № матча | U8: Матч | V8: Счет
B11: 0.33333333 | C11: =TRIM($D$4) -> Италия | D11: =TRIM($D$5) -> Германия | E11: =$E$4 -> flame | F11: =$E$5 -> bullet | G11: =SUM(K11) -> 4 | I11: =SUM(L11) -> 1 | K11: 4 | L11: 1 | M11: 5 | N11: 1 | S11: 1 | T11: 97 | U11: =TEXT(B11,"h:mm")&" "&($C$1)&" ("&C11&") "&E11&" "&" - ("&D11&") "&F11&"" -> 8:00 Penalty shot cup (Италия) flame - (Германия) bullet | V11: =TEXT(G11,"0")&":"&TEXT(I11,"0") -> 4:1
B12: 0.33680556 | C12: =TRIM($D$4) -> Италия | D12: =TRIM($D$5) -> Германия | E12: =$E$4 -> flame | F12: =$E$5 -> bullet | G12: =SUM(K12) -> 4 | I12: =SUM(L12) -> 3 | K12: 4 | L12: 3 | N12: 2 | S12: 2 | T12: 98 | U12: =TEXT(B12,"h:mm")&" "&($C$1)&" ("&C12&") "&E12&" "&" - ("&D12&") "&F12&"" -> 8:05 Penalty shot cup (Италия) flame - (Германия) bullet | V12: =TEXT(G12,"0")&":"&TEXT(I12,"0") -> 4:3
B13: 0.34027778 | C13: =TRIM($D$4) -> Италия | D13: =TRIM($D$5) -> Германия | E13: =$E$4 -> flame | F13: =$E$5 -> bullet | G13: =SUM(K13) -> 4 | I13: =SUM(L13) -> 5 | K13: 4 | L13: 5 | M13: 5 | N13: 3 | S13: 3 | T13: 99 | U13: =TEXT(B13,"h:mm")&" "&($C$1)&" ("&C13&") "&E13&" "&" - ("&D13&") "&F13&"" -> 8:10 Penalty shot cup (Италия) flame - (Германия) bullet | V13: =TEXT(G13,"0")&":"&TEXT(I13,"0") -> 4:5
B14: 0.34375 | C14: =TRIM($D$6) -> Аргентина | D14: =TRIM($D$5) -> Германия | E14: =$E$6 -> ovoshnoy | F14: =$E$5 -> bullet | G14: =SUM(K14) -> 4 | I14: =SUM(L14) -> 4 | K14: 4 | L14: 4 | M14: 0 | N14: 1 | S14: 1 | T14: 100 | U14: =TEXT(B14,"h:mm")&" "&($C$1)&" ("&C14&") "&E14&" "&" - ("&D14&") "&F14&"" -> 8:15 Penalty shot cup (Аргентина) ovoshnoy - (Германия) bullet | V14: =TEXT(G14,"0")&":"&TEXT(I14,"0") -> 4:4
B15: 0.34722222 | C15: =TRIM($D$6) -> Аргентина | D15: =TRIM($D$5) -> Германия | E15: =$E$6 -> ovoshnoy | F15: =$E$5 -> bullet | G15: =SUM(K15) -> 5 | I15: =SUM(L15) -> 5 | K15: 5 | L15: 5 | N15: 2 | S15: 2 | T15: 101 | U15: =TEXT(B15,"h:mm")&" "&($C$1)&" ("&C15&") "&E15&" "&" - ("&D15&") "&F15&"" -> 8:20 Penalty shot cup (Аргентина) ovoshnoy - (Германия) bullet | V15: =TEXT(G15,"0")&":"&TEXT(I15,"0") -> 5:5
B16: 0.35069444 | C16: =TRIM($D$6) -> Аргентина | D16: =TRIM($D$5) -> Германия | E16: =$E$6 -> ovoshnoy | F16: =$E$5 -> bullet | G16: =SUM(K16) -> 5 | I16: =SUM(L16) -> 4 | K16: 5 | L16: 4 | N16: 3 | S16: 3 | T16: 102 | U16: =TEXT(B16,"h:mm")&" "&($C$1)&" ("&C16&") "&E16&" "&" - ("&D16&") "&F16&"" -> 8:25 Penalty shot cup (Аргентина) ovoshnoy - (Германия) bullet | V16: =TEXT(G16,"0")&":"&TEXT(I16,"0") -> 5:4
B17: 0.35416667 | C17: =TRIM($D$6) -> Аргентина | D17: =TRIM($D$4) -> Италия | E17: =$E$6 -> ovoshnoy | F17: =$E$4 -> flame | G17: =SUM(K17) -> 0 | I17: =SUM(L17) -> 0 | K17: - | L17: - | N17: 1 | S17: 1 | T17: 103 | U17: =TEXT(B17,"h:mm")&" "&($C$1)&" ("&C17&") "&E17&" "&" - ("&D17&") "&F17&"" -> 8:30 Penalty shot cup (Аргентина) ovoshnoy - (Италия) flame | V17: =TEXT(G17,"0")&":"&TEXT(I17,"0") -> 0:0
B18: 0.35763889 | C18: =TRIM($D$6) -> Аргентина | D18: =TRIM($D$4) -> Италия | E18: =$E$6 -> ovoshnoy | F18: =$E$4 -> flame | G18: =SUM(K18) -> 4 | I18: =SUM(L18,O18) -> 3 | K18: 4 | L18: 3 | N18: 2 | S18: 2 | T18: 104 | U18: =TEXT(B18,"h:mm")&" "&($C$1)&" ("&C18&") "&E18&" "&" - ("&D18&") "&F18&"" -> 8:35 Penalty shot cup (Аргентина) ovoshnoy - (Италия) flame | V18: =TEXT(G18,"0")&":"&TEXT(I18,"0") -> 4:3
B19: 0.36111111 | C19: =TRIM($D$6) -> Аргентина | D19: =TRIM($D$4) -> Италия | E19: =$E$6 -> ovoshnoy | F19: =$E$4 -> flame | G19: =SUM(K19) -> 3 | I19: =SUM(L19,O19) -> 3 | K19: 3 | L19: 3 | N19: 3 | S19: 3 | T19: 105 | U19: =TEXT(B19,"h:mm")&" "&($C$1)&" ("&C19&") "&E19&" "&" - ("&D19&") "&F19&"" -> 8:40 Penalty shot cup (Аргентина) ovoshnoy - (Италия) flame | V19: =TEXT(G19,"0")&":"&TEXT(I19,"0") -> 3:3
B20: 0.36458333 | C20: =TRIM($D$5) -> Германия | D20: =TRIM($D$4) -> Италия | E20: =$E$5 -> bullet | F20: =$E$4 -> flame | G20: =SUM(K20) -> 5 | I20: =SUM(L20,O20) -> 3 | K20: 5 | L20: 3 | N20: 1 | S20: 1 | T20: 106 | U20: =TEXT(B20,"h:mm")&" "&($C$1)&" ("&C20&") "&E20&" "&" - ("&D20&") "&F20&"" -> 8:45 Penalty shot cup (Германия) bullet - (Италия) flame | V20: =TEXT(G20,"0")&":"&TEXT(I20,"0") -> 5:3
B21: 0.36805556 | C21: =TRIM($D$5) -> Германия | D21: =TRIM($D$4) -> Италия | E21: =$E$5 -> bullet | F21: =$E$4 -> flame | G21: =SUM(K21) -> 4 | I21: =SUM(L21,O21) -> 2 | K21: 4 | L21: 2 | N21: 2 | S21: 2 | T21: 107 | U21: =TEXT(B21,"h:mm")&" "&($C$1)&" ("&C21&") "&E21&" "&" - ("&D21&") "&F21&"" -> 8:50 Penalty shot cup (Германия) bullet - (Италия) flame | V21: =TEXT(G21,"0")&":"&TEXT(I21,"0") -> 4:2
B22: 0.37152778 | C22: =TRIM($D$5) -> Германия | D22: =TRIM($D$4) -> Италия | E22: =$E$5 -> bullet | F22: =$E$4 -> flame | G22: =SUM(K22) -> 4 | I22: =SUM(L22,O22) -> 2 | K22: 4 | L22: 2 | N22: 3 | S22: 3 | T22: 108 | U22: =TEXT(B22,"h:mm")&" "&($C$1)&" ("&C22&") "&E22&" "&" - ("&D22&") "&F22&"" -> 8:55 Penalty shot cup (Германия) bullet - (Италия) flame | V22: =TEXT(G22,"0")&":"&TEXT(I22,"0") -> 4:2
B23: 0.375 | C23: =TRIM($D$5) -> Германия | D23: =TRIM($D$6) -> Аргентина | E23: =$E$5 -> bullet | F23: =$E$6 -> ovoshnoy | G23: =SUM(K23) -> 4 | I23: =SUM(L23) -> 4 | K23: 4 | L23: 4 | N23: 1 | S23: 1 | T23: 109 | U23: =TEXT(B23,"h:mm")&" "&($C$1)&" ("&C23&") "&E23&" "&" - ("&D23&") "&F23&"" -> 9:00 Penalty shot cup (Германия) bullet - (Аргентина) ovoshnoy | V23: =TEXT(G23,"0")&":"&TEXT(I23,"0") -> 4:4
B24: 0.37847222 | C24: =TRIM($D$5) -> Германия | D24: =TRIM($D$6) -> Аргентина | E24: =$E$5 -> bullet | F24: =$E$6 -> ovoshnoy | G24: =SUM(K24) -> 3 | I24: =SUM(L24) -> 3 | K24: 3 | L24: 3 | N24: 2 | S24: 2 | T24: 110 | U24: =TEXT(B24,"h:mm")&" "&($C$1)&" ("&C24&") "&E24&" "&" - ("&D24&") "&F24&"" -> 9:05 Penalty shot cup (Германия) bullet - (Аргентина) ovoshnoy | V24: =TEXT(G24,"0")&":"&TEXT(I24,"0") -> 3:3
B25: 0.38194444 | C25: =TRIM($D$5) -> Германия | D25: =TRIM($D$6) -> Аргентина | E25: =$E$5 -> bullet | F25: =$E$6 -> ovoshnoy | G25: =SUM(K25) -> 2 | I25: =SUM(L25) -> 4 | K25: 2 | L25: 4 | N25: 3 | S25: 3 | T25: 111 | U25: =TEXT(B25,"h:mm")&" "&($C$1)&" ("&C25&") "&E25&" "&" - ("&D25&") "&F25&"" -> 9:10 Penalty shot cup (Германия) bullet - (Аргентина) ovoshnoy | V25: =TEXT(G25,"0")&":"&TEXT(I25,"0") -> 2:4
B26: 0.38541667 | C26: =TRIM($D$4) -> Италия | D26: =TRIM($D$6) -> Аргентина | E26: =$E$4 -> flame | F26: =$E$6 -> ovoshnoy | G26: =SUM(K26) -> 5 | I26: =SUM(L26) -> 3 | K26: 5 | L26: 3 | N26: 1 | S26: 1 | T26: 112 | U26: =TEXT(B26,"h:mm")&" "&($C$1)&" ("&C26&") "&E26&" "&" - ("&D26&") "&F26&"" -> 9:15 Penalty shot cup (Италия) flame - (Аргентина) ovoshnoy | V26: =TEXT(G26,"0")&":"&TEXT(I26,"0") -> 5:3
B27: 0.38888889 | C27: =TRIM($D$4) -> Италия | D27: =TRIM($D$6) -> Аргентина | E27: =$E$4 -> flame | F27: =$E$6 -> ovoshnoy | G27: =SUM(K27) -> 5 | I27: =SUM(L27) -> 3 | K27: 5 | L27: 3 | N27: 2 | S27: 2 | T27: 113 | U27: =TEXT(B27,"h:mm")&" "&($C$1)&" ("&C27&") "&E27&" "&" - ("&D27&") "&F27&"" -> 9:20 Penalty shot cup (Италия) flame - (Аргентина) ovoshnoy | V27: =TEXT(G27,"0")&":"&TEXT(I27,"0") -> 5:3
B28: 0.39236111 | C28: =TRIM($D$4) -> Италия | D28: =TRIM($D$6) -> Аргентина | E28: =$E$4 -> flame | F28: =$E$6 -> ovoshnoy | G28: =SUM(K28) -> 2 | I28: =SUM(L28) -> 4 | K28: 2 | L28: 4 | N28: 3 | S28: 3 | T28: 114 | U28: =TEXT(B28,"h:mm")&" "&($C$1)&" ("&C28&") "&E28&" "&" - ("&D28&") "&F28&"" -> 9:25 Penalty shot cup (Италия) flame - (Аргентина) ovoshnoy | V28: =TEXT(G28,"0")&":"&TEXT(I28,"0") -> 2:4
B29: 0.39583333 | C29: =TRIM($D$4) -> Италия | D29: =TRIM($D$5) -> Германия | E29: =$E$4 -> flame | F29: =$E$5 -> bullet | G29: =SUM(K29) -> 5 | I29: =SUM(L29) -> 3 | K29: 5 | L29: 3 | N29: 1 | S29: 1 | T29: 115 | U29: =TEXT(B29,"h:mm")&" "&($C$1)&" ("&C29&") "&E29&" "&" - ("&D29&") "&F29&"" -> 9:30 Penalty shot cup (Италия) flame - (Германия) bullet | V29: =TEXT(G29,"0")&":"&TEXT(I29,"0") -> 5:3
B30: 0.39930556 | C30: =TRIM($D$4) -> Италия | D30: =TRIM($D$5) -> Германия | E30: =$E$4 -> flame | F30: =$E$5 -> bullet | G30: =SUM(K30) -> 3 | I30: =SUM(L30,O30) -> 3 | K30: 3 | L30: 3 | N30: 2 | S30: 2 | T30: 116 | U30: =TEXT(B30,"h:mm")&" "&($C$1)&" ("&C30&") "&E30&" "&" - ("&D30&") "&F30&"" -> 9:35 Penalty shot cup (Италия) flame - (Германия) bullet | V30: =TEXT(G30,"0")&":"&TEXT(I30,"0") -> 3:3
B31: 0.40277778 | C31: =TRIM($D$4) -> Италия | D31: =TRIM($D$5) -> Германия | E31: =$E$4 -> flame | F31: =$E$5 -> bullet | G31: =SUM(K31) -> 4 | I31: =SUM(L31,O31) -> 4 | K31: 4 | L31: 4 | N31: 3 | S31: 3 | T31: 117 | U31: =TEXT(B31,"h:mm")&" "&($C$1)&" ("&C31&") "&E31&" "&" - ("&D31&") "&F31&"" -> 9:40 Penalty shot cup (Италия) flame - (Германия) bullet | V31: =TEXT(G31,"0")&":"&TEXT(I31,"0") -> 4:4
B32: 0.40625 | C32: =TRIM($D$6) -> Аргентина | D32: =TRIM($D$5) -> Германия | E32: =$E$6 -> ovoshnoy | F32: =$E$5 -> bullet | G32: =SUM(K32) -> 4 | I32: =SUM(L32,O32) -> 3 | K32: 4 | L32: 3 | M32: 3 | N32: 1 | S32: 1 | T32: 118 | U32: =TEXT(B32,"h:mm")&" "&($C$1)&" ("&C32&") "&E32&" "&" - ("&D32&") "&F32&"" -> 9:45 Penalty shot cup (Аргентина) ovoshnoy - (Германия) bullet | V32: =TEXT(G32,"0")&":"&TEXT(I32,"0") -> 4:3
B33: 0.40972222 | C33: =TRIM($D$6) -> Аргентина | D33: =TRIM($D$5) -> Германия | E33: =$E$6 -> ovoshnoy | F33: =$E$5 -> bullet | G33: =SUM(K33) -> 4 | I33: =SUM(L33,O33) -> 4 | J33: 5 | K33: 4 | L33: 4 | N33: 2 | S33: 2 | T33: 119 | U33: =TEXT(B33,"h:mm")&" "&($C$1)&" ("&C33&") "&E33&" "&" - ("&D33&") "&F33&"" -> 9:50 Penalty shot cup (Аргентина) ovoshnoy - (Германия) bullet | V33: =TEXT(G33,"0")&":"&TEXT(I33,"0") -> 4:4
B34: 0.41319444 | C34: =TRIM($D$6) -> Аргентина | D34: =TRIM($D$5) -> Германия | E34: =$E$6 -> ovoshnoy | F34: =$E$5 -> bullet | G34: =SUM(K34) -> 4 | I34: =SUM(L34,O34) -> 2 | J34: 2 | K34: 4 | L34: 2 | N34: 3 | S34: 3 | T34: 120 | U34: =TEXT(B34,"h:mm")&" "&($C$1)&" ("&C34&") "&E34&" "&" - ("&D34&") "&F34&"" -> 9:55 Penalty shot cup (Аргентина) ovoshnoy - (Германия) bullet | V34: =TEXT(G34,"0")&":"&TEXT(I34,"0") -> 4:2
B35: 0.41666667 | C35: =TRIM($D$6) -> Аргентина | D35: =TRIM($D$4) -> Италия | E35: =$E$6 -> ovoshnoy | F35: =$E$4 -> flame | G35: =SUM(K35) -> 5 | I35: =SUM(L35) -> 4 | J35: 3 | K35: 5 | L35: 4 | N35: 1 | S35: 1 | T35: 121 | U35: =TEXT(B35,"h:mm")&" "&($C$1)&" ("&C35&") "&E35&" "&" - ("&D35&") "&F35&"" -> 10:00 Penalty shot cup (Аргентина) ovoshnoy - (Италия) flame | V35: =TEXT(G35,"0")&":"&TEXT(I35,"0") -> 5:4
B36: 0.42013889 | C36: =TRIM($D$6) -> Аргентина | D36: =TRIM($D$4) -> Италия | E36: =$E$6 -> ovoshnoy | F36: =$E$4 -> flame | G36: =SUM(K36) -> 2 | I36: =SUM(L36) -> 3 | K36: 2 | L36: 3 | N36: 2 | S36: 2 | T36: 122 | U36: =TEXT(B36,"h:mm")&" "&($C$1)&" ("&C36&") "&E36&" "&" - ("&D36&") "&F36&"" -> 10:05 Penalty shot cup (Аргентина) ovoshnoy - (Италия) flame | V36: =TEXT(G36,"0")&":"&TEXT(I36,"0") -> 2:3
B37: 0.42361111 | C37: =TRIM($D$6) -> Аргентина | D37: =TRIM($D$4) -> Италия | E37: =$E$6 -> ovoshnoy | F37: =$E$4 -> flame | G37: =SUM(K37) -> 4 | I37: =SUM(L37) -> 1 | K37: 4 | L37: 1 | N37: 3 | S37: 3 | T37: 123 | U37: =TEXT(B37,"h:mm")&" "&($C$1)&" ("&C37&") "&E37&" "&" - ("&D37&") "&F37&"" -> 10:10 Penalty shot cup (Аргентина) ovoshnoy - (Италия) flame | V37: =TEXT(G37,"0")&":"&TEXT(I37,"0") -> 4:1
B38: 0.42708333 | C38: =TRIM($D$5) -> Германия | D38: =TRIM($D$4) -> Италия | E38: =$E$5 -> bullet | F38: =$E$4 -> flame | G38: =SUM(K38) -> 5 | I38: =SUM(L38) -> 5 | K38: 5 | L38: 5 | N38: 1 | S38: 1 | T38: 124 | U38: =TEXT(B38,"h:mm")&" "&($C$1)&" ("&C38&") "&E38&" "&" - ("&D38&") "&F38&"" -> 10:15 Penalty shot cup (Германия) bullet - (Италия) flame | V38: =TEXT(G38,"0")&":"&TEXT(I38,"0") -> 5:5
B39: 0.43055556 | C39: =TRIM($D$5) -> Германия | D39: =TRIM($D$4) -> Италия | E39: =$E$5 -> bullet | F39: =$E$4 -> flame | G39: =SUM(K39) -> 2 | I39: =SUM(L39) -> 3 | K39: 2 | L39: 3 | N39: 2 | S39: 2 | T39: 125 | U39: =TEXT(B39,"h:mm")&" "&($C$1)&" ("&C39&") "&E39&" "&" - ("&D39&") "&F39&"" -> 10:20 Penalty shot cup (Германия) bullet - (Италия) flame | V39: =TEXT(G39,"0")&":"&TEXT(I39,"0") -> 2:3
B40: 0.43402778 | C40: =TRIM($D$5) -> Германия | D40: =TRIM($D$4) -> Италия | E40: =$E$5 -> bullet | F40: =$E$4 -> flame | G40: =SUM(K40) -> 1 | I40: =SUM(L40) -> 3 | K40: 1 | L40: 3 | N40: 3 | S40: 3 | T40: 126 | U40: =TEXT(B40,"h:mm")&" "&($C$1)&" ("&C40&") "&E40&" "&" - ("&D40&") "&F40&"" -> 10:25 Penalty shot cup (Германия) bullet - (Италия) flame | V40: =TEXT(G40,"0")&":"&TEXT(I40,"0") -> 1:3
B41: 0.4375 | C41: =TRIM($D$5) -> Германия | D41: =TRIM($D$6) -> Аргентина | E41: =$E$5 -> bullet | F41: =$E$6 -> ovoshnoy | G41: =SUM(K41) -> 2 | I41: =SUM(L41) -> 3 | K41: 2 | L41: 3 | N41: 3 | S41: 1 | T41: 127 | U41: =TEXT(B41,"h:mm")&" "&($C$1)&" ("&C41&") "&E41&" "&" - ("&D41&") "&F41&"" -> 10:30 Penalty shot cup (Германия) bullet - (Аргентина) ovoshnoy | V41: =TEXT(G41,"0")&":"&TEXT(I41,"0") -> 2:3
B42: 0.44097222 | C42: =TRIM($D$5) -> Германия | D42: =TRIM($D$6) -> Аргентина | E42: =$E$5 -> bullet | F42: =$E$6 -> ovoshnoy | G42: =SUM(K42) -> 3 | I42: =SUM(L42) -> 3 | J42: 3 | K42: 3 | L42: 3 | M42: 4 | N42: 3 | S42: 2 | T42: 128 | U42: =TEXT(B42,"h:mm")&" "&($C$1)&" ("&C42&") "&E42&" "&" - ("&D42&") "&F42&"" -> 10:35 Penalty shot cup (Германия) bullet - (Аргентина) ovoshnoy | V42: =TEXT(G42,"0")&":"&TEXT(I42,"0") -> 3:3
B43: 0.44444444 | C43: =TRIM($D$5) -> Германия | D43: =TRIM($D$6) -> Аргентина | E43: =$E$5 -> bullet | F43: =$E$6 -> ovoshnoy | G43: =SUM(K43) -> 4 | I43: =SUM(L43) -> 1 | K43: 4 | L43: 1 | N43: 3 | S43: 3 | T43: 129 | U43: =TEXT(B43,"h:mm")&" "&($C$1)&" ("&C43&") "&E43&" "&" - ("&D43&") "&F43&"" -> 10:40 Penalty shot cup (Германия) bullet - (Аргентина) ovoshnoy | V43: =TEXT(G43,"0")&":"&TEXT(I43,"0") -> 4:1
...

Sheet ТУР2
C1: ='ТУР1'!$C$1 -> Penalty shot cup | E1: ТУР2 | F1: ='ТУР1'!$F$1 -> 45659
U2: =C1 -> Penalty shot cup | V2: =E1 -> ТУР2 | AA2: =$F$1 -> 45659 | AG2: GP | AH2: W | AI2: D | AJ2: L | AK2: GF | AL2: GA | AM2: GD | AN2: PTS | AO2: rank
C3: Участник | D3: Команда | E3: Никнейм | U3: Никнейм | V3: М | W3: В | X3: Н | Y3: П | Z3: ЗГ | AA3: ПГ | AB3: РГ | AC3: Очки | AF3: =E4 -> flame | AG3: {=SUM(($E$11:$E$46=AF3)*(ISNUMBER($G$11:$G$46)),($F$11:$F$46=AF3)*(ISNUMBER($I$11:$I$46)))} -> 24 | AH3: {=SUM(('ТУР2'!home=AF3)*('ТУР2'!homescore>'ТУР2'!visitorscore),('ТУР2'!visitor=AF3)*('ТУР2'!visitorscore>'ТУР2'!homescore))} -> 10 | AI3: {=SUM(('ТУР2'!home=AF3)*('ТУР2'!homescore='ТУР2'!visitorscore)*ISNUMBER('ТУР2'!visitorscore),('ТУР2'!visitor=AF3)*('ТУР2'!visitorscore='ТУР2'!homescore)*ISNUMBER('ТУР2'!homescore))} -> 8 | AJ3: {=SUM(('ТУР2'!home=AF3)*('ТУР2'!homescore<'ТУР2'!visitorscore),('ТУР2'!visitor=AF3)*('ТУР2'!visitorscore<'ТУР2'!homescore))} -> 6 | AK3: {=SUMIF('ТУР2'!home,AF3,'ТУР2'!homescore)+SUMIF('ТУР2'!visitor,AF3,'ТУР2'!visitorscore)} -> 86 | AL3: {=SUMIF('ТУР2'!home,AF3,'ТУР2'!visitorscore)+SUMIF('ТУР2'!visitor,AF3,'ТУР2'!homescore)} -> 80 | AM3: =AK3-AL3 -> 6 | AN3: {=AH3*Options!$B$2+AI3*Options!$B$3+AJ3*Options!$B$4+VLOOKUP(AF3,$E$4:$F$9,2,0)} -> 38 | AO3: =AK3+AM3*10000+AN3*100000000 -> 3800060086
C4: Андрей С. | D4: Нидерланды | E4: flame | U4: {=INDEX($AF$3:$AF$5,MATCH(LARGE($AO$3:$AO$5-ROW($AO$3:$AO$5)/COUNT($AO$3:$AO$5),ROW(U4)-ROW(U$4)+1),$AO$3:$AO$5-ROW($AO$3:$AO$5)/COUNT($AO$3:$AO$5),0))} -> flame | V4: {=VLOOKUP($U4,$AF$3:$AN$5,2,0)} -> 24 | W4: {=VLOOKUP($U4,$AF$3:$AN$5,3,0)} -> 10 | X4: {=VLOOKUP($U4,$AF$3:$AN$5,4,0)} -> 8 | Y4: {=VLOOKUP($U4,$AF$3:$AN$5,5,0)} -> 6 | Z4: {=VLOOKUP($U4,$AF$3:$AN$5,6,0)} -> 86 | AA4: {=VLOOKUP($U4,$AF$3:$AN$5,7,0)} -> 80 | AB4: {=VLOOKUP($U4,$AF$3:$AN$5,8,0)} -> 6 | AC4: {=VLOOKUP($U4,$AF$3:$AN$5,9,0)} -> 38 | AF4: =E5 -> bullet | AG4: {=SUM(($E$11:$E$46=AF4)*(ISNUMBER($G$11:$G$46)),($F$11:$F$46=AF4)*(ISNUMBER($I$11:$I$46)))} -> 24 | AH4: {=SUM(('ТУР2'!home=AF4)*('ТУР2'!homescore>'ТУР2'!visitorscore),('ТУР2'!visitor=AF4)*('ТУР2'!visitorscore>'ТУР2'!homescore))} -> 9 | AI4: {=SUM(('ТУР2'!home=AF4)*('ТУР2'!homescore='ТУР2'!visitorscore)*ISNUMBER('ТУР2'!visitorscore),('ТУР2'!visitor=AF4)*('ТУР2'!visitorscore='ТУР2'!homescore)*ISNUMBER('ТУР2'!homescore))} -> 10 | AJ4: {=SUM(('ТУР2'!home=AF4)*('ТУР2'!homescore<'ТУР2'!visitorscore),('ТУР2'!visitor=AF4)*('ТУР2'!visitorscore<'ТУР2'!homescore))} -> 5 | AK4: {=SUMIF('ТУР2'!home,AF4,'ТУР2'!homescore)+SUMIF('ТУР2'!visitor,AF4,'ТУР2'!visitorscore)} -> 81 | AL4: {=SUMIF('ТУР2'!home,AF4,'ТУР2'!visitorscore)+SUMIF('ТУР2'!visitor,AF4,'ТУР2'!homescore)} -> 75 | AM4: =AK4-AL4 -> 6 | AN4: {=AH4*Options!$B$2+AI4*Options!$B$3+AJ4*Options!$B$4+VLOOKUP(AF4,$E$4:$F$9,2,0)} -> 37 | AO4: =AK4+AM4*10000+AN4*100000000 -> 3700060081
C5: Артём И. | D5: Англия | E5: bullet | U5: {=INDEX($AF$3:$AF$5,MATCH(LARGE($AO$3:$AO$5-ROW($AO$3:$AO$5)/COUNT($AO$3:$AO$5),ROW(U5)-ROW(U$4)+1),$AO$3:$AO$5-ROW($AO$3:$AO$5)/COUNT($AO$3:$AO$5),0))} -> bullet | V5: {=VLOOKUP($U5,$AF$3:$AN$5,2,0)} -> 24 | W5: {=VLOOKUP($U5,$AF$3:$AN$5,3,0)} -> 9 | X5: {=VLOOKUP($U5,$AF$3:$AN$5,4,0)} -> 10 | Y5: {=VLOOKUP($U5,$AF$3:$AN$5,5,0)} -> 5 | Z5: {=VLOOKUP($U5,$AF$3:$AN$5,6,0)} -> 81 | AA5: {=VLOOKUP($U5,$AF$3:$AN$5,7,0)} -> 75 | AB5: {=VLOOKUP($U5,$AF$3:$AN$5,8,0)} -> 6 | AC5: {=VLOOKUP($U5,$AF$3:$AN$5,9,0)} -> 37 | AF5: =E6 -> ovoshnoy | AG5: {=SUM(($E$11:$E$46=AF5)*(ISNUMBER($G$11:$G$46)),($F$11:$F$46=AF5)*(ISNUMBER($I$11:$I$46)))} -> 24 | AH5: {=SUM(('ТУР2'!home=AF5)*('ТУР2'!homescore>'ТУР2'!visitorscore),('ТУР2'!visitor=AF5)*('ТУР2'!visitorscore>'ТУР2'!homescore))} -> 3 | AI5: {=SUM(('ТУР2'!home=AF5)*('ТУР2'!homescore='ТУР2'!visitorscore)*ISNUMBER('ТУР2'!visitorscore),('ТУР2'!visitor=AF5)*('ТУР2'!visitorscore='ТУР2'!homescore)*ISNUMBER('ТУР2'!homescore))} -> 10 | AJ5: {=SUM(('ТУР2'!home=AF5)*('ТУР2'!homescore<'ТУР2'!visitorscore),('ТУР2'!visitor=AF5)*('ТУР2'!visitorscore<'ТУР2'!homescore))} -> 11 | AK5: {=SUMIF('ТУР2'!home,AF5,'ТУР2'!homescore)+SUMIF('ТУР2'!visitor,AF5,'ТУР2'!visitorscore)} -> 77 | AL5: {=SUMIF('ТУР2'!home,AF5,'ТУР2'!visitorscore)+SUMIF('ТУР2'!visitor,AF5,'ТУР2'!homescore)} -> 89 | AM5: =AK5-AL5 -> -12 | AN5: {=AH5*Options!$B$2+AI5*Options!$B$3+AJ5*Options!$B$4+VLOOKUP(AF5,$E$4:$F$9,2,0)} -> 19 | AO5: =AK5+AM5*10000+AN5*100000000 -> 1899880077
C6: Илья Г. | D6: Португалия | E6: ovoshnoy | U6: {=INDEX($AF$3:$AF$5,MATCH(LARGE($AO$3:$AO$5-ROW($AO$3:$AO$5)/COUNT($AO$3:$AO$5),ROW(U6)-ROW(U$4)+1),$AO$3:$AO$5-ROW($AO$3:$AO$5)/COUNT($AO$3:$AO$5),0))} -> ovoshnoy | V6: {=VLOOKUP($U6,$AF$3:$AN$5,2,0)} -> 24 | W6: {=VLOOKUP($U6,$AF$3:$AN$5,3,0)} -> 3 | X6: {=VLOOKUP($U6,$AF$3:$AN$5,4,0)} -> 10 | Y6: {=VLOOKUP($U6,$AF$3:$AN$5,5,0)} -> 11 | Z6: {=VLOOKUP($U6,$AF$3:$AN$5,6,0)} -> 77 | AA6: {=VLOOKUP($U6,$AF$3:$AN$5,7,0)} -> 89 | AB6: {=VLOOKUP($U6,$AF$3:$AN$5,8,0)} -> -12 | AC6: {=VLOOKUP($U6,$AF$3:$AN$5,9,0)} -> 19
B8: пуск | C8: Команда | D8: Команда | E8: Дом | F8: Гость | G8: Результат | K8: Cчет | N8: PS | S8: PS | T8: № матча | U8: Матч | V8: Счет
B11: 0.45833333 | C11: =TRIM($D$4) -> Нидерланды | D11: =TRIM($D$5) -> Англия | E11: =$E$4 -> flame | F11: =$E$5 -> bullet | G11: =SUM(K11) -> 3 | I11: =SUM(L11) -> 4 | K11: 3 | L11: 4 | M11: 5 | N11: 1 | S11: 1 | T11: 133 | U11: =TEXT(B11,"h:mm")&" "&($C$1)&" ("&C11&") "&E11&" "&" - ("&D11&") "&F11&"" -> 11:00 Penalty shot cup (Нидерланды) flame - (Англия) bullet | V11: =TEXT(G11,"0")&":"&TEXT(I11,"0") -> 3:4
B12: 0.46180556 | C12: =TRIM($D$4) -> Нидерланды | D12: =TRIM($D$5) -> Англия | E12: =$E$4 -> flame | F12: =$E$5 -> bullet | G12: =SUM(K12) -> 3 | I12: =SUM(L12) -> 1 | K12: 3 | L12: 1 | N12: 2 | S12: 2 | T12: 134 | U12: =TEXT(B12,"h:mm")&" "&($C$1)&" ("&C12&") "&E12&" "&" - ("&D12&") "&F12&"" -> 11:05 Penalty shot cup (Нидерланды) flame - (Англия) bullet | V12: =TEXT(G12,"0")&":"&TEXT(I12,"0") -> 3:1
B13: 0.46527778 | C13: =TRIM($D$4) -> Нидерланды | D13: =TRIM($D$5) -> Англия | E13: =$E$4 -> flame | F13: =$E$5 -> bullet | G13: =SUM(K13) -> 4 | I13: =SUM(L13) -> 2 | K13: 4 | L13: 2 | M13: 4 | N13: 3 | S13: 3 | T13: 135 | U13: =TEXT(B13,"h:mm")&" "&($C$1)&" ("&C13&") "&E13&" "&" - ("&D13&") "&F13&"" -> 11:10 Penalty shot cup (Нидерланды) flame - (Англия) bullet | V13: =TEXT(G13,"0")&":"&TEXT(I13,"0") -> 4:2
B14: 0.46875 | C14: =TRIM($D$6) -> Португалия | D14: =TRIM($D$5) -> Англия | E14: =$E$6 -> ovoshnoy | F14: =$E$5 -> bullet | G14: =SUM(K14) -> 4 | I14: =SUM(L14) -> 4 | K14: 4 | L14: 4 | N14: 1 | S14: 1 | T14: 136 | U14: =TEXT(B14,"h:mm")&" "&($C$1)&" ("&C14&") "&E14&" "&" - ("&D14&") "&F14&"" -> 11:15 Penalty shot cup (Португалия) ovoshnoy - (Англия) bullet | V14: =TEXT(G14,"0")&":"&TEXT(I14,"0") -> 4:4
B15: 0.47222222 | C15: =TRIM($D$6) -> Португалия | D15: =TRIM($D$5) -> Англия | E15: =$E$6 -> ovoshnoy | F15: =$E$5 -> bullet | G15: =SUM(K15) -> 2 | I15: =SUM(L15) -> 4 | K15: 2 | L15: 4 | N15: 2 | S15: 2 | T15: 137 | U15: =TEXT(B15,"h:mm")&" "&($C$1)&" ("&C15&") "&E15&" "&" - ("&D15&") "&F15&"" -> 11:20 Penalty shot cup (Португалия) ovoshnoy - (Англия) bullet | V15: =TEXT(G15,"0")&":"&TEXT(I15,"0") -> 2:4
B16: 0.47569444 | C16: =TRIM($D$6) -> Португалия | D16: =TRIM($D$5) -> Англия | E16: =$E$6 -> ovoshnoy | F16: =$E$5 -> bullet | G16: =SUM(K16) -> 3 | I16: =SUM(L16) -> 4 | K16: 3 | L16: 4 | N16: 3 | S16: 3 | T16: 138 | U16: =TEXT(B16,"h:mm")&" "&($C$1)&" ("&C16&") "&E16&" "&" - ("&D16&") "&F16&"" -> 11:25 Penalty shot cup (Португалия) ovoshnoy - (Англия) bullet | V16: =TEXT(G16,"0")&":"&TEXT(I16,"0") -> 3:4
B17: 0.47916667 | C17: =TRIM($D$6) -> Португалия | D17: =TRIM($D$4) -> Нидерланды | E17: =$E$6 -> ovoshnoy | F17: =$E$4 -> flame | G17: =SUM(K17) -> 4 | I17: =SUM(L17) -> 4 | K17: 4 | L17: 4 | N17: 1 | S17: 1 | T17: 139 | U17: =TEXT(B17,"h:mm")&" "&($C$1)&" ("&C17&") "&E17&" "&" - ("&D17&") "&F17&"" -> 11:30 Penalty shot cup (Португалия) ovoshnoy - (Нидерланды) flame | V17: =TEXT(G17,"0")&":"&TEXT(I17,"0") -> 4:4
B18: 0.48263889 | C18: =TRIM($D$6) -> Португалия | D18: =TRIM($D$4) -> Нидерланды | E18: =$E$6 -> ovoshnoy | F18: =$E$4 -> flame | G18: =SUM(K18) -> 4 | I18: =SUM(L18,O18) -> 5 | K18: 4 | L18: 5 | N18: 2 | S18: 2 | T18: 140 | U18: =TEXT(B18,"h:mm")&" "&($C$1)&" ("&C18&") "&E18&" "&" - ("&D18&") "&F18&"" -> 11:35 Penalty shot cup (Португалия) ovoshnoy - (Нидерланды) flame | V18: =TEXT(G18,"0")&":"&TEXT(I18,"0") -> 4:5
B19: 0.48611111 | C19: =TRIM($D$6) -> Португалия | D19: =TRIM($D$4) -> Нидерланды | E19: =$E$6 -> ovoshnoy | F19: =$E$4 -> flame | G19: =SUM(K19) -> 5 | I19: =SUM(L19,O19) -> 3 | K19: 5 | L19: 3 | M19: 2 | N19: 3 | S19: 3 | T19: 141 | U19: =TEXT(B19,"h:mm")&" "&($C$1)&" ("&C19&") "&E19&" "&" - ("&D19&") "&F19&"" -> 11:40 Penalty shot cup (Португалия) ovoshnoy - (Нидерланды) flame | V19: =TEXT(G19,"0")&":"&TEXT(I19,"0") -> 5:3
B20: 0.48958333 | C20: =TRIM($D$5) -> Англия | D20: =TRIM($D$4) -> Нидерланды | E20: =$E$5 -> bullet | F20: =$E$4 -> flame | G20: =SUM(K20) -> 4 | I20: =SUM(L20,O20) -> 5 | K20: 4 | L20: 5 | N20: 1 | S20: 1 | T20: 142 | U20: =TEXT(B20,"h:mm")&" "&($C$1)&" ("&C20&") "&E20&" "&" - ("&D20&") "&F20&"" -> 11:45 Penalty shot cup (Англия) bullet - (Нидерланды) flame | V20: =TEXT(G20,"0")&":"&TEXT(I20,"0") -> 4:5
B21: 0.49305556 | C21: =TRIM($D$5) -> Англия | D21: =TRIM($D$4) -> Нидерланды | E21: =$E$5 -> bullet | F21: =$E$4 -> flame | G21: =SUM(K21) -> 3 | I21: =SUM(L21,O21) -> 4 | K21: 3 | L21: 4 | N21: 2 | S21: 2 | T21: 143 | U21: =TEXT(B21,"h:mm")&" "&($C$1)&" ("&C21&") "&E21&" "&" - ("&D21&") "&F21&"" -> 11:50 Penalty shot cup (Англия) bullet - (Нидерланды) flame | V21: =TEXT(G21,"0")&":"&TEXT(I21,"0") -> 3:4
B22: 0.49652778 | C22: =TRIM($D$5) -> Англия | D22: =TRIM($D$4) -> Нидерланды | E22: =$E$5 -> bullet | F22: =$E$4 -> flame | G22: =SUM(K22) -> 4 | I22: =SUM(L22,O22) -> 4 | K22: 4 | L22: 4 | N22: 3 | S22: 3 | T22: 144 | U22: =TEXT(B22,"h:mm")&" "&($C$1)&" ("&C22&") "&E22&" "&" - ("&D22&") "&F22&"" -> 11:55 Penalty shot cup (Англия) bullet - (Нидерланды) flame | V22: =TEXT(G22,"0")&":"&TEXT(I22,"0") -> 4:4
B23: 0.5 | C23: =TRIM($D$5) -> Англия | D23: =TRIM($D$6) -> Португалия | E23: =$E$5 -> bullet | F23: =$E$6 -> ovoshnoy | G23: =SUM(K23) -> 5 | I23: =SUM(L23) -> 4 | K23: 5 | L23: 4 | N23: 1 | S23: 1 | T23: 145 | U23: =TEXT(B23,"h:mm")&" "&($C$1)&" ("&C23&") "&E23&" "&" - ("&D23&") "&F23&"" -> 12:00 Penalty shot cup (Англия) bullet - (Португалия) ovoshnoy | V23: =TEXT(G23,"0")&":"&TEXT(I23,"0") -> 5:4
B24: 0.50347222 | C24: =TRIM($D$5) -> Англия | D24: =TRIM($D$6) -> Португалия | E24: =$E$5 -> bullet | F24: =$E$6 -> ovoshnoy | G24: =SUM(K24) -> 0 | I24: =SUM(L24) -> 0 | K24: - | L24: - | N24: 2 | S24: 2 | T24: 146 | U24: =TEXT(B24,"h:mm")&" "&($C$1)&" ("&C24&") "&E24&" "&" - ("&D24&") "&F24&"" -> 12:05 Penalty shot cup (Англия) bullet - (Португалия) ovoshnoy | V24: =TEXT(G24,"0")&":"&TEXT(I24,"0") -> 0:0
B25: 0.50694444 | C25: =TRIM($D$5) -> Англия | D25: =TRIM($D$6) -> Португалия | E25: =$E$5 -> bullet | F25: =$E$6 -> ovoshnoy | G25: =SUM(K25) -> 4 | I25: =SUM(L25) -> 2 | K25: 4 | L25: 2 | N25: 3 | S25: 3 | T25: 147 | U25: =TEXT(B25,"h:mm")&" "&($C$1)&" ("&C25&") "&E25&" "&" - ("&D25&") "&F25&"" -> 12:10 Penalty shot cup (Англия) bullet - (Португалия) ovoshnoy | V25: =TEXT(G25,"0")&":"&TEXT(I25,"0") -> 4:2
B26: 0.51041667 | C26: =TRIM($D$4) -> Нидерланды | D26: =TRIM($D$6) -> Португалия | E26: =$E$4 -> flame | F26: =$E$6 -> ovoshnoy | G26: =SUM(K26) -> 4 | I26: =SUM(L26) -> 4 | K26: 4 | L26: 4 | N26: 1 | S26: 1 | T26: 148 | U26: =TEXT(B26,"h:mm")&" "&($C$1)&" ("&C26&") "&E26&" "&" - ("&D26&") "&F26&"" -> 12:15 Penalty shot cup (Нидерланды) flame - (Португалия) ovoshnoy | V26: =TEXT(G26,"0")&":"&TEXT(I26,"0") -> 4:4
B27: 0.51388889 | C27: =TRIM($D$4) -> Нидерланды | D27: =TRIM($D$6) -> Португалия | E27: =$E$4 -> flame | F27: =$E$6 -> ovoshnoy | G27: =SUM(K27) -> 4 | I27: =SUM(L27) -> 3 | K27: 4 | L27: 3 | N27: 2 | S27: 2 | T27: 149 | U27: =TEXT(B27,"h:mm")&" "&($C$1)&" ("&C27&") "&E27&" "&" - ("&D27&") "&F27&"" -> 12:20 Penalty shot cup (Нидерланды) flame - (Португалия) ovoshnoy | V27: =TEXT(G27,"0")&":"&TEXT(I27,"0") -> 4:3
B28: 0.51736111 | C28: =TRIM($D$4) -> Нидерланды | D28: =TRIM($D$6) -> Португалия | E28: =$E$4 -> flame | F28: =$E$6 -> ovoshnoy | G28: =SUM(K28) -> 3 | I28: =SUM(L28) -> 4 | J28: 4 | K28: 3 | L28: 4 | N28: 3 | S28: 3 | T28: 150 | U28: =TEXT(B28,"h:mm")&" "&($C$1)&" ("&C28&") "&E28&" "&" - ("&D28&") "&F28&"" -> 12:25 Penalty shot cup (Нидерланды) flame - (Португалия) ovoshnoy | V28: =TEXT(G28,"0")&":"&TEXT(I28,"0") -> 3:4
B29: 0.52083333 | C29: =TRIM($D$4) -> Нидерланды | D29: =TRIM($D$5) -> Англия | E29: =$E$4 -> flame | F29: =$E$5 -> bullet | G29: =SUM(K29) -> 1 | I29: =SUM(L29) -> 3 | K29: 1 | L29: 3 | N29: 1 | S29: 1 | T29: 151 | U29: =TEXT(B29,"h:mm")&" "&($C$1)&" ("&C29&") "&E29&" "&" - ("&D29&") "&F29&"" -> 12:30 Penalty shot cup (Нидерланды) flame - (Англия) bullet | V29: =TEXT(G29,"0")&":"&TEXT(I29,"0") -> 1:3
B30: 0.52430556 | C30: =TRIM($D$4) -> Нидерланды | D30: =TRIM($D$5) -> Англия | E30: =$E$4 -> flame | F30: =$E$5 -> bullet | G30: =SUM(K30) -> 4 | I30: =SUM(L30,O30) -> 5 | K30: 4 | L30: 5 | N30: 2 | S30: 2 | T30: 152 | U30: =TEXT(B30,"h:mm")&" "&($C$1)&" ("&C30&") "&E30&" "&" - ("&D30&") "&F30&"" -> 12:35 Penalty shot cup (Нидерланды) flame - (Англия) bullet | V30: =TEXT(G30,"0")&":"&TEXT(I30,"0") -> 4:5
B31: 0.52777778 | C31: =TRIM($D$4) -> Нидерланды | D31: =TRIM($D$5) -> Англия | E31: =$E$4 -> flame | F31: =$E$5 -> bullet | G31: =SUM(K31) -> 5 | I31: =SUM(L31,O31) -> 3 | K31: 5 | L31: 3 | N31: 3 | S31: 3 | T31: 153 | U31: =TEXT(B31,"h:mm")&" "&($C$1)&" ("&C31&") "&E31&" "&" - ("&D31&") "&F31&"" -> 12:40 Penalty shot cup (Нидерланды) flame - (Англия) bullet | V31: =TEXT(G31,"0")&":"&TEXT(I31,"0") -> 5:3
B32: 0.53125 | C32: =TRIM($D$6) -> Португалия | D32: =TRIM($D$5) -> Англия | E32: =$E$6 -> ovoshnoy | F32: =$E$5 -> bullet | G32: =SUM(K32) -> 0 | I32: =SUM(L32,O32) -> 0 | K32: - | L32: - | N32: 1 | S32: 1 | T32: 154 | U32: =TEXT(B32,"h:mm")&" "&($C$1)&" ("&C32&") "&E32&" "&" - ("&D32&") "&F32&"" -> 12:45 Penalty shot cup (Португалия) ovoshnoy - (Англия) bullet | V32: =TEXT(G32,"0")&":"&TEXT(I32,"0") -> 0:0
B33: 0.53472222 | C33: =TRIM($D$6) -> Португалия | D33: =TRIM($D$5) -> Англия | E33: =$E$6 -> ovoshnoy | F33: =$E$5 -> bullet | G33: =SUM(K33) -> 2 | I33: =SUM(L33,O33) -> 4 | J33: 5 | K33: 2 | L33: 4 | N33: 2 | S33: 2 | T33: 155 | U33: =TEXT(B33,"h:mm")&" "&($C$1)&" ("&C33&") "&E33&" "&" - ("&D33&") "&F33&"" -> 12:50 Penalty shot cup (Португалия) ovoshnoy - (Англия) bullet | V33: =TEXT(G33,"0")&":"&TEXT(I33,"0") -> 2:4
B34: 0.53819444 | C34: =TRIM($D$6) -> Португалия | D34: =TRIM($D$5) -> Англия | E34: =$E$6 -> ovoshnoy | F34: =$E$5 -> bullet | G34: =SUM(K34) -> 5 | I34: =SUM(L34,O34) -> 5 | K34: 5 | L34: 5 | N34: 3 | S34: 3 | T34: 156 | U34: =TEXT(B34,"h:mm")&" "&($C$1)&" ("&C34&") "&E34&" "&" - ("&D34&") "&F34&"" -> 12:55 Penalty shot cup (Португалия) ovoshnoy - (Англия) bullet | V34: =TEXT(G34,"0")&":"&TEXT(I34,"0") -> 5:5
B35: 0.54166667 | C35: =TRIM($D$6) -> Португалия | D35: =TRIM($D$4) -> Нидерланды | E35: =$E$6 -> ovoshnoy | F35: =$E$4 -> flame | G35: =SUM(K35) -> 3 | I35: =SUM(L35) -> 3 | K35: 3 | L35: 3 | N35: 1 | S35: 1 | T35: 157 | U35: =TEXT(B35,"h:mm")&" "&($C$1)&" ("&C35&") "&E35&" "&" - ("&D35&") "&F35&"" -> 13:00 Penalty shot cup (Португалия) ovoshnoy - (Нидерланды) flame | V35: =TEXT(G35,"0")&":"&TEXT(I35,"0") -> 3:3
B36: 0.54513889 | C36: =TRIM($D$6) -> Португалия | D36: =TRIM($D$4) -> Нидерланды | E36: =$E$6 -> ovoshnoy | F36: =$E$4 -> flame | G36: =SUM(K36) -> 4 | I36: =SUM(L36) -> 5 | K36: 4 | L36: 5 | N36: 2 | S36: 2 | T36: 158 | U36: =TEXT(B36,"h:mm")&" "&($C$1)&" ("&C36&") "&E36&" "&" - ("&D36&") "&F36&"" -> 13:05 Penalty shot cup (Португалия) ovoshnoy - (Нидерланды) flame | V36: =TEXT(G36,"0")&":"&TEXT(I36,"0") -> 4:5
B37: 0.54861111 | C37: =TRIM($D$6) -> Португалия | D37: =TRIM($D$4) -> Нидерланды | E37: =$E$6 -> ovoshnoy | F37: =$E$4 -> flame | G37: =SUM(K37) -> 4 | I37: =SUM(L37) -> 5 | K37: 4 | L37: 5 | N37: 3 | S37: 3 | T37: 159 | U37: =TEXT(B37,"h:mm")&" "&($C$1)&" ("&C37&") "&E37&" "&" - ("&D37&") "&F37&"" -> 13:10 Penalty shot cup (Португалия) ovoshnoy - (Нидерланды) flame | V37: =TEXT(G37,"0")&":"&TEXT(I37,"0") -> 4:5
B38: 0.55208333 | C38: =TRIM($D$5) -> Англия | D38: =TRIM($D$4) -> Нидерланды | E38: =$E$5 -> bullet | F38: =$E$4 -> flame | G38: =SUM(K38) -> 4 | I38: =SUM(L38) -> 4 | K38: 4 | L38: 4 | N38: 1 | S38: 1 | T38: 160 | U38: =TEXT(B38,"h:mm")&" "&($C$1)&" ("&C38&") "&E38&" "&" - ("&D38&") "&F38&"" -> 13:15 Penalty shot cup (Англия) bullet - (Нидерланды) flame | V38: =TEXT(G38,"0")&":"&TEXT(I38,"0") -> 4:4
B39: 0.55555556 | C39: =TRIM($D$5) -> Англия | D39: =TRIM($D$4) -> Нидерланды | E39: =$E$5 -> bullet | F39: =$E$4 -> flame | G39: =SUM(K39) -> 0 | I39: =SUM(L39) -> 0 | K39: - | L39: - | N39: 2 | S39: 2 | T39: 161 | U39: =TEXT(B39,"h:mm")&" "&($C$1)&" ("&C39&") "&E39&" "&" - ("&D39&") "&F39&"" -> 13:20 Penalty shot cup (Англия) bullet - (Нидерланды) flame | V39: =TEXT(G39,"0")&":"&TEXT(I39,"0") -> 0:0
B40: 0.55902778 | C40: =TRIM($D$5) -> Англия | D40: =TRIM($D$4) -> Нидерланды | E40: =$E$5 -> bullet | F40: =$E$4 -> flame | G40: =SUM(K40) -> 4 | I40: =SUM(L40) -> 4 | K40: 4 | L40: 4 | N40: 3 | S40: 3 | T40: 162 | U40: =TEXT(B40,"h:mm")&" "&($C$1)&" ("&C40&") "&E40&" "&" - ("&D40&") "&F40&"" -> 13:25 Penalty shot cup (Англия) bullet - (Нидерланды) flame | V40: =TEXT(G40,"0")&":"&TEXT(I40,"0") -> 4:4
B41: 0.5625 | C41: =TRIM($D$5) -> Англия | D41: =TRIM($D$6) -> Португалия | E41: =$E$5 -> bullet | F41: =$E$6 -> ovoshnoy | G41: =SUM(K41) -> 5 | I41: =SUM(L41) -> 5 | K41: 5 | L41: 5 | M41: 4 | N41: 3 | S41: 1 | T41: 163 | U41: =TEXT(B41,"h:mm")&" "&($C$1)&" ("&C41&") "&E41&" "&" - ("&D41&") "&F41&"" -> 13:30 Penalty shot cup (Англия) bullet - (Португалия) ovoshnoy | V41: =TEXT(G41,"0")&":"&TEXT(I41,"0") -> 5:5
B42: 0.56597222 | C42: =TRIM($D$5) -> Англия | D42: =TRIM($D$6) -> Португалия | E42: =$E$5 -> bullet | F42: =$E$6 -> ovoshnoy | G42: =SUM(K42) -> 4 | I42: =SUM(L42) -> 4 | K42: 4 | L42: 4 | N42: 3 | S42: 2 | T42: 164 | U42: =TEXT(B42,"h:mm")&" "&($C$1)&" ("&C42&") "&E42&" "&" - ("&D42&") "&F42&"" -> 13:35 Penalty shot cup (Англия) bullet - (Португалия) ovoshnoy | V42: =TEXT(G42,"0")&":"&TEXT(I42,"0") -> 4:4
B43: 0.56944444 | C43: =TRIM($D$5) -> Англия | D43: =TRIM($D$6) -> Португалия | E43: =$E$5 -> bullet | F43: =$E$6 -> ovoshnoy | G43: =SUM(K43) -> 5 | I43: =SUM(L43) -> 3 | K43: 5 | L43: 3 | M43: 3 | N43: 3 | S43: 3 | T43: 165 | U43: =TEXT(B43,"h:mm")&" "&($C$1)&" ("&C43&") "&E43&" "&" - ("&D43&") "&F43&"" -> 13:40 Penalty shot cup (Англия) bullet - (Португалия) ovoshnoy | V43: =TEXT(G43,"0")&":"&TEXT(I43,"0") -> 5:3
...

Sheet ТУР3
C1: ='ТУР1'!$C$1 -> Penalty shot cup | E1: ТУР3 | F1: ='ТУР1'!$F$1 -> 45659
U2: =C1 -> Penalty shot cup | V2: =E1 -> ТУР3 | AA2: =$F$1 -> 45659 | AG2: GP | AH2: W | AI2: D | AJ2: L | AK2: GF | AL2: GA | AM2: GD | AN2: PTS | AO2: rank
C3: Участник | D3: Команда | E3: Никнейм | U3: Никнейм | V3: М | W3: В | X3: Н | Y3: П | Z3: ЗГ | AA3: ПГ | AB3: РГ | AC3: Очки | AF3: =E4 -> ⁠Flazen | AG3: {=SUM(($E$11:$E$46=AF3)*(ISNUMBER($G$11:$G$46)),($F$11:$F$46=AF3)*(ISNUMBER($I$11:$I$46)))} -> 24 | AH3: {=SUM(('ТУР3'!home=AF3)*('ТУР3'!homescore>'ТУР3'!visitorscore),('ТУР3'!visitor=AF3)*('ТУР3'!visitorscore>'ТУР3'!homescore))} -> 5 | AI3: {=SUM(('ТУР3'!home=AF3)*('ТУР3'!homescore='ТУР3'!visitorscore)*ISNUMBER('ТУР3'!visitorscore),('ТУР3'!visitor=AF3)*('ТУР3'!visitorscore='ТУР3'!homescore)*ISNUMBER('ТУР3'!homescore))} -> 12 | AJ3: {=SUM(('ТУР3'!home=AF3)*('ТУР3'!homescore<'ТУР3'!visitorscore),('ТУР3'!visitor=AF3)*('ТУР3'!visitorscore<'ТУР3'!homescore))} -> 7 | AK3: {=SUMIF('ТУР3'!home,AF3,'ТУР3'!homescore)+SUMIF('ТУР3'!visitor,AF3,'ТУР3'!visitorscore)} -> 80 | AL3: {=SUMIF('ТУР3'!home,AF3,'ТУР3'!visitorscore)+SUMIF('ТУР3'!visitor,AF3,'ТУР3'!homescore)} -> 82 | AM3: =AK3-AL3 -> -2 | AN3: {=AH3*Options!$B$2+AI3*Options!$B$3+AJ3*Options!$B$4+VLOOKUP(AF3,$E$4:$F$9,2,0)} -> 27 | AO3: =AK3+AM3*10000+AN3*100000000 -> 2699980080
C4: Даниил Н. | D4: Испания | E4: ⁠Flazen | U4: {=INDEX($AF$3:$AF$5,MATCH(LARGE($AO$3:$AO$5-ROW($AO$3:$AO$5)/COUNT($AO$3:$AO$5),ROW(U4)-ROW(U$4)+1),$AO$3:$AO$5-ROW($AO$3:$AO$5)/COUNT($AO$3:$AO$5),0))} -> CMEX | V4: {=VLOOKUP($U4,$AF$3:$AN$5,2,0)} -> 24 | W4: {=VLOOKUP($U4,$AF$3:$AN$5,3,0)} -> 11 | X4: {=VLOOKUP($U4,$AF$3:$AN$5,4,0)} -> 10 | Y4: {=VLOOKUP($U4,$AF$3:$AN$5,5,0)} -> 3 | Z4: {=VLOOKUP($U4,$AF$3:$AN$5,6,0)} -> 85 | AA4: {=VLOOKUP($U4,$AF$3:$AN$5,7,0)} -> 73 | AB4: {=VLOOKUP($U4,$AF$3:$AN$5,8,0)} -> 12 | AC4: {=VLOOKUP($U4,$AF$3:$AN$5,9,0)} -> 43 | AF4: =E5 -> CMEX | AG4: {=SUM(($E$11:$E$46=AF4)*(ISNUMBER($G$11:$G$46)),($F$11:$F$46=AF4)*(ISNUMBER($I$11:$I$46)))} -> 24 | AH4: {=SUM(('ТУР3'!home=AF4)*('ТУР3'!homescore>'ТУР3'!visitorscore),('ТУР3'!visitor=AF4)*('ТУР3'!visitorscore>'ТУР3'!homescore))} -> 11 | AI4: {=SUM(('ТУР3'!home=AF4)*('ТУР3'!homescore='ТУР3'!visitorscore)*ISNUMBER('ТУР3'!visitorscore),('ТУР3'!visitor=AF4)*('ТУР3'!visitorscore='ТУР3'!homescore)*ISNUMBER('ТУР3'!homescore))} -> 10 | AJ4: {=SUM(('ТУР3'!home=AF4)*('ТУР3'!homescore<'ТУР3'!visitorscore),('ТУР3'!visitor=AF4)*('ТУР3'!visitorscore<'ТУР3'!homescore))} -> 3 | AK4: {=SUMIF('ТУР3'!home,AF4,'ТУР3'!homescore)+SUMIF('ТУР3'!visitor,AF4,'ТУР3'!visitorscore)} -> 85 | AL4: {=SUMIF('ТУР3'!home,AF4,'ТУР3'!visitorscore)+SUMIF('ТУР3'!visitor,AF4,'ТУР3'!homescore)} -> 73 | AM4: =AK4-AL4 -> 12 | AN4: {=AH4*Options!$B$2+AI4*Options!$B$3+AJ4*Options!$B$4+VLOOKUP(AF4,$E$4:$F$9,2,0)} -> 43 | AO4: =AK4+AM4*10000+AN4*100000000 -> 4300120085
C5: Рим С. | D5: Нидерланды | E5: CMEX | U5: {=INDEX($AF$3:$AF$5,MATCH(LARGE($AO$3:$AO$5-ROW($AO$3:$AO$5)/COUNT($AO$3:$AO$5),ROW(U5)-ROW(U$4)+1),$AO$3:$AO$5-ROW($AO$3:$AO$5)/COUNT($AO$3:$AO$5),0))} -> ⁠Flazen | V5: {=VLOOKUP($U5,$AF$3:$AN$5,2,0)} -> 24 | W5: {=VLOOKUP($U5,$AF$3:$AN$5,3,0)} -> 5 | X5: {=VLOOKUP($U5,$AF$3:$AN$5,4,0)} -> 12 | Y5: {=VLOOKUP($U5,$AF$3:$AN$5,5,0)} -> 7 | Z5: {=VLOOKUP($U5,$AF$3:$AN$5,6,0)} -> 80 | AA5: {=VLOOKUP($U5,$AF$3:$AN$5,7,0)} -> 82 | AB5: {=VLOOKUP($U5,$AF$3:$AN$5,8,0)} -> -2 | AC5: {=VLOOKUP($U5,$AF$3:$AN$5,9,0)} -> 27 | AF5: =E6 -> fuelon | AG5: {=SUM(($E$11:$E$46=AF5)*(ISNUMBER($G$11:$G$46)),($F$11:$F$46=AF5)*(ISNUMBER($I$11:$I$46)))} -> 24 | AH5: {=SUM(('ТУР3'!home=AF5)*('ТУР3'!homescore>'ТУР3'!visitorscore),('ТУР3'!visitor=AF5)*('ТУР3'!visitorscore>'ТУР3'!homescore))} -> 4 | AI5: {=SUM(('ТУР3'!home=AF5)*('ТУР3'!homescore='ТУР3'!visitorscore)*ISNUMBER('ТУР3'!visitorscore),('ТУР3'!visitor=AF5)*('ТУР3'!visitorscore='ТУР3'!homescore)*ISNUMBER('ТУР3'!homescore))} -> 10 | AJ5: {=SUM(('ТУР3'!home=AF5)*('ТУР3'!homescore<'ТУР3'!visitorscore),('ТУР3'!visitor=AF5)*('ТУР3'!visitorscore<'ТУР3'!homescore))} -> 10 | AK5: {=SUMIF('ТУР3'!home,AF5,'ТУР3'!homescore)+SUMIF('ТУР3'!visitor,AF5,'ТУР3'!visitorscore)} -> 77 | AL5: {=SUMIF('ТУР3'!home,AF5,'ТУР3'!visitorscore)+SUMIF('ТУР3'!visitor,AF5,'ТУР3'!homescore)} -> 87 | AM5: =AK5-AL5 -> -10 | AN5: {=AH5*Options!$B$2+AI5*Options!$B$3+AJ5*Options!$B$4+VLOOKUP(AF5,$E$4:$F$9,2,0)} -> 22 | AO5: =AK5+AM5*10000+AN5*100000000 -> 2199900077
C6: Александр Ш. | D6: Германия | E6: fuelon | U6: {=INDEX($AF$3:$AF$5,MATCH(LARGE($AO$3:$AO$5-ROW($AO$3:$AO$5)/COUNT($AO$3:$AO$5),ROW(U6)-ROW(U$4)+1),$AO$3:$AO$5-ROW($AO$3:$AO$5)/COUNT($AO$3:$AO$5),0))} -> fuelon | V6: {=VLOOKUP($U6,$AF$3:$AN$5,2,0)} -> 24 | W6: {=VLOOKUP($U6,$AF$3:$AN$5,3,0)} -> 4 | X6: {=VLOOKUP($U6,$AF$3:$AN$5,4,0)} -> 10 | Y6: {=VLOOKUP($U6,$AF$3:$AN$5,5,0)} -> 10 | Z6: {=VLOOKUP($U6,$AF$3:$AN$5,6,0)} -> 77 | AA6: {=VLOOKUP($U6,$AF$3:$AN$5,7,0)} -> 87 | AB6: {=VLOOKUP($U6,$AF$3:$AN$5,8,0)} -> -10 | AC6: {=VLOOKUP($U6,$AF$3:$AN$5,9,0)} -> 22
B8: пуск | C8: Команда | D8: Команда | E8: Дом | F8: Гость | G8: Результат | K8: Cчет | N8: PS | S8: PS | T8: № матча | U8: Матч | V8: Счет
B11: 0.58333333 | C11: =TRIM($D$4) -> Испания | D11: =TRIM($D$5) -> Нидерланды | E11: =$E$4 -> ⁠Flazen | F11: =$E$5 -> CMEX | G11: =SUM(K11) -> 4 | I11: =SUM(L11) -> 4 | K11: 4 | L11: 4 | S11: 1 | T11: 169 | U11: =TEXT(B11,"h:mm")&" "&($C$1)&" ("&C11&") "&E11&" "&" - ("&D11&") "&F11&"" -> 14:00 Penalty shot cup (Испания) ⁠Flazen - (Нидерланды) CMEX | V11: =TEXT(G11,"0")&":"&TEXT(I11,"0") -> 4:4
B12: 0.58680556 | C12: =TRIM($D$4) -> Испания | D12: =TRIM($D$5) -> Нидерланды | E12: =$E$4 -> ⁠Flazen | F12: =$E$5 -> CMEX | G12: =SUM(K12) -> 3 | I12: =SUM(L12) -> 4 | K12: 3 | L12: 4 | S12: 2 | T12: 170 | U12: =TEXT(B12,"h:mm")&" "&($C$1)&" ("&C12&") "&E12&" "&" - ("&D12&") "&F12&"" -> 14:05 Penalty shot cup (Испания) ⁠Flazen - (Нидерланды) CMEX | V12: =TEXT(G12,"0")&":"&TEXT(I12,"0") -> 3:4
B13: 0.59027778 | C13: =TRIM($D$4) -> Испания | D13: =TRIM($D$5) -> Нидерланды | E13: =$E$4 -> ⁠Flazen | F13: =$E$5 -> CMEX | G13: =SUM(K13) -> 5 | I13: =SUM(L13) -> 5 | K13: 5 | L13: 5 | S13: 3 | T13: 171 | U13: =TEXT(B13,"h:mm")&" "&($C$1)&" ("&C13&") "&E13&" "&" - ("&D13&") "&F13&"" -> 14:10 Penalty shot cup (Испания) ⁠Flazen - (Нидерланды) CMEX | V13: =TEXT(G13,"0")&":"&TEXT(I13,"0") -> 5:5
B14: 0.59375 | C14: =TRIM($D$6) -> Германия | D14: =TRIM($D$5) -> Нидерланды | E14: =$E$6 -> fuelon | F14: =$E$5 -> CMEX | G14: =SUM(K14) -> 0 | I14: =SUM(L14) -> 0 | K14: - | L14: - | S14: 1 | T14: 172 | U14: =TEXT(B14,"h:mm")&" "&($C$1)&" ("&C14&") "&E14&" "&" - ("&D14&") "&F14&"" -> 14:15 Penalty shot cup (Германия) fuelon - (Нидерланды) CMEX | V14: =TEXT(G14,"0")&":"&TEXT(I14,"0") -> 0:0
B15: 0.59722222 | C15: =TRIM($D$6) -> Германия | D15: =TRIM($D$5) -> Нидерланды | E15: =$E$6 -> fuelon | F15: =$E$5 -> CMEX | G15: =SUM(K15) -> 1 | I15: =SUM(L15) -> 3 | K15: 1 | L15: 3 | S15: 2 | T15: 173 | U15: =TEXT(B15,"h:mm")&" "&($C$1)&" ("&C15&") "&E15&" "&" - ("&D15&") "&F15&"" -> 14:20 Penalty shot cup (Германия) fuelon - (Нидерланды) CMEX | V15: =TEXT(G15,"0")&":"&TEXT(I15,"0") -> 1:3
B16: 0.60069444 | C16: =TRIM($D$6) -> Германия | D16: =TRIM($D$5) -> Нидерланды | E16: =$E$6 -> fuelon | F16: =$E$5 -> CMEX | G16: =SUM(K16) -> 5 | I16: =SUM(L16) -> 4 | K16: 5 | L16: 4 | S16: 3 | T16: 174 | U16: =TEXT(B16,"h:mm")&" "&($C$1)&" ("&C16&") "&E16&" "&" - ("&D16&") "&F16&"" -> 14:25 Penalty shot cup (Германия) fuelon - (Нидерланды) CMEX | V16: =TEXT(G16,"0")&":"&TEXT(I16,"0") -> 5:4
B17: 0.60416667 | C17: =TRIM($D$6) -> Германия | D17: =TRIM($D$4) -> Испания | E17: =$E$6 -> fuelon | F17: =$E$4 -> ⁠Flazen | G17: =SUM(K17) -> 3 | I17: =SUM(L17) -> 4 | K17: 3 | L17: 4 | S17: 1 | T17: 175 | U17: =TEXT(B17,"h:mm")&" "&($C$1)&" ("&C17&") "&E17&" "&" - ("&D17&") "&F17&"" -> 14:30 Penalty shot cup (Германия) fuelon - (Испания) ⁠Flazen | V17: =TEXT(G17,"0")&":"&TEXT(I17,"0") -> 3:4
B18: 0.60763889 | C18: =TRIM($D$6) -> Германия | D18: =TRIM($D$4) -> Испания | E18: =$E$6 -> fuelon | F18: =$E$4 -> ⁠Flazen | G18: =SUM(K18) -> 5 | I18: =SUM(L18,O18) -> 5 | K18: 5 | L18: 5 | S18: 2 | T18: 176 | U18: =TEXT(B18,"h:mm")&" "&($C$1)&" ("&C18&") "&E18&" "&" - ("&D18&") "&F18&"" -> 14:35 Penalty shot cup (Германия) fuelon - (Испания) ⁠Flazen | V18: =TEXT(G18,"0")&":"&TEXT(I18,"0") -> 5:5
B19: 0.61111111 | C19: =TRIM($D$6) -> Германия | D19: =TRIM($D$4) -> Испания | E19: =$E$6 -> fuelon | F19: =$E$4 -> ⁠Flazen | G19: =SUM(K19) -> 4 | I19: =SUM(L19,O19) -> 3 | K19: 4 | L19: 3 | S19: 3 | T19: 177 | U19: =TEXT(B19,"h:mm")&" "&($C$1)&" ("&C19&") "&E19&" "&" - ("&D19&") "&F19&"" -> 14:40 Penalty shot cup (Германия) fuelon - (Испания) ⁠Flazen | V19: =TEXT(G19,"0")&":"&TEXT(I19,"0") -> 4:3
B20: 0.61458333 | C20: =TRIM($D$5) -> Нидерланды | D20: =TRIM($D$4) -> Испания | E20: =$E$5 -> CMEX | F20: =$E$4 -> ⁠Flazen | G20: =SUM(K20) -> 4 | I20: =SUM(L20,O20) -> 5 | K20: 4 | L20: 5 | S20: 1 | T20: 178 | U20: =TEXT(B20,"h:mm")&" "&($C$1)&" ("&C20&") "&E20&" "&" - ("&D20&") "&F20&"" -> 14:45 Penalty shot cup (Нидерланды) CMEX - (Испания) ⁠Flazen | V20: =TEXT(G20,"0")&":"&TEXT(I20,"0") -> 4:5
B21: 0.61805556 | C21: =TRIM($D$5) -> Нидерланды | D21: =TRIM($D$4) -> Испания | E21: =$E$5 -> CMEX | F21: =$E$4 -> ⁠Flazen | G21: =SUM(K21) -> 0 | I21: =SUM(L21,O21) -> 0 | K21: - | L21: - | S21: 2 | T21: 179 | U21: =TEXT(B21,"h:mm")&" "&($C$1)&" ("&C21&") "&E21&" "&" - ("&D21&") "&F21&"" -> 14:50 Penalty shot cup (Нидерланды) CMEX - (Испания) ⁠Flazen | V21: =TEXT(G21,"0")&":"&TEXT(I21,"0") -> 0:0
B22: 0.62152778 | C22: =TRIM($D$5) -> Нидерланды | D22: =TRIM($D$4) -> Испания | E22: =$E$5 -> CMEX | F22: =$E$4 -> ⁠Flazen | G22: =SUM(K22) -> 4 | I22: =SUM(L22,O22) -> 4 | K22: 4 | L22: 4 | M22: 4 | S22: 3 | T22: 180 | U22: =TEXT(B22,"h:mm")&" "&($C$1)&" ("&C22&") "&E22&" "&" - ("&D22&") "&F22&"" -> 14:55 Penalty shot cup (Нидерланды) CMEX - (Испания) ⁠Flazen | V22: =TEXT(G22,"0")&":"&TEXT(I22,"0") -> 4:4
B23: 0.625 | C23: =TRIM($D$5) -> Нидерланды | D23: =TRIM($D$6) -> Германия | E23: =$E$5 -> CMEX | F23: =$E$6 -> fuelon | G23: =SUM(K23) -> 5 | I23: =SUM(L23) -> 5 | K23: 5 | L23: 5 | S23: 1 | T23: 181 | U23: =TEXT(B23,"h:mm")&" "&($C$1)&" ("&C23&") "&E23&" "&" - ("&D23&") "&F23&"" -> 15:00 Penalty shot cup (Нидерланды) CMEX - (Германия) fuelon | V23: =TEXT(G23,"0")&":"&TEXT(I23,"0") -> 5:5
B24: 0.62847222 | C24: =TRIM($D$5) -> Нидерланды | D24: =TRIM($D$6) -> Германия | E24: =$E$5 -> CMEX | F24: =$E$6 -> fuelon | G24: =SUM(K24) -> 4 | I24: =SUM(L24) -> 3 | K24: 4 | L24: 3 | S24: 2 | T24: 182 | U24: =TEXT(B24,"h:mm")&" "&($C$1)&" ("&C24&") "&E24&" "&" - ("&D24&") "&F24&"" -> 15:05 Penalty shot cup (Нидерланды) CMEX - (Германия) fuelon | V24: =TEXT(G24,"0")&":"&TEXT(I24,"0") -> 4:3
B25: 0.63194444 | C25: =TRIM($D$5) -> Нидерланды | D25: =TRIM($D$6) -> Германия | E25: =$E$5 -> CMEX | F25: =$E$6 -> fuelon | G25: =SUM(K25) -> 5 | I25: =SUM(L25) -> 3 | K25: 5 | L25: 3 | S25: 3 | T25: 183 | U25: =TEXT(B25,"h:mm")&" "&($C$1)&" ("&C25&") "&E25&" "&" - ("&D25&") "&F25&"" -> 15:10 Penalty shot cup (Нидерланды) CMEX - (Германия) fuelon | V25: =TEXT(G25,"0")&":"&TEXT(I25,"0") -> 5:3
B26: 0.63541667 | C26: =TRIM($D$4) -> Испания | D26: =TRIM($D$6) -> Германия | E26: =$E$4 -> ⁠Flazen | F26: =$E$6 -> fuelon | G26: =SUM(K26) -> 5 | I26: =SUM(L26) -> 3 | K26: 5 | L26: 3 | N26: 1 | S26: 1 | T26: 184 | U26: =TEXT(B26,"h:mm")&" "&($C$1)&" ("&C26&") "&E26&" "&" - ("&D26&") "&F26&"" -> 15:15 Penalty shot cup (Испания) ⁠Flazen - (Германия) fuelon | V26: =TEXT(G26,"0")&":"&TEXT(I26,"0") -> 5:3
B27: 0.63888889 | C27: =TRIM($D$4) -> Испания | D27: =TRIM($D$6) -> Германия | E27: =$E$4 -> ⁠Flazen | F27: =$E$6 -> fuelon | G27: =SUM(K27) -> 3 | I27: =SUM(L27) -> 4 | K27: 3 | L27: 4 | N27: 2 | S27: 2 | T27: 185 | U27: =TEXT(B27,"h:mm")&" "&($C$1)&" ("&C27&") "&E27&" "&" - ("&D27&") "&F27&"" -> 15:20 Penalty shot cup (Испания) ⁠Flazen - (Германия) fuelon | V27: =TEXT(G27,"0")&":"&TEXT(I27,"0") -> 3:4
B28: 0.64236111 | C28: =TRIM($D$4) -> Испания | D28: =TRIM($D$6) -> Германия | E28: =$E$4 -> ⁠Flazen | F28: =$E$6 -> fuelon | G28: =SUM(K28) -> 4 | I28: =SUM(L28) -> 5 | K28: 4 | L28: 5 | N28: 3 | S28: 3 | T28: 186 | U28: =TEXT(B28,"h:mm")&" "&($C$1)&" ("&C28&") "&E28&" "&" - ("&D28&") "&F28&"" -> 15:25 Penalty shot cup (Испания) ⁠Flazen - (Германия) fuelon | V28: =TEXT(G28,"0")&":"&TEXT(I28,"0") -> 4:5
B29: 0.64583333 | C29: =TRIM($D$4) -> Испания | D29: =TRIM($D$5) -> Нидерланды | E29: =$E$4 -> ⁠Flazen | F29: =$E$5 -> CMEX | G29: =SUM(K29) -> 3 | I29: =SUM(L29) -> 3 | K29: 3 | L29: 3 | N29: 1 | S29: 1 | T29: 187 | U29: =TEXT(B29,"h:mm")&" "&($C$1)&" ("&C29&") "&E29&" "&" - ("&D29&") "&F29&"" -> 15:30 Penalty shot cup (Испания) ⁠Flazen - (Нидерланды) CMEX | V29: =TEXT(G29,"0")&":"&TEXT(I29,"0") -> 3:3
B30: 0.64930556 | C30: =TRIM($D$4) -> Испания | D30: =TRIM($D$5) -> Нидерланды | E30: =$E$4 -> ⁠Flazen | F30: =$E$5 -> CMEX | G30: =SUM(K30) -> 4 | I30: =SUM(L30,O30) -> 5 | K30: 4 | L30: 5 | N30: 2 | S30: 2 | T30: 188 | U30: =TEXT(B30,"h:mm")&" "&($C$1)&" ("&C30&") "&E30&" "&" - ("&D30&") "&F30&"" -> 15:35 Penalty shot cup (Испания) ⁠Flazen - (Нидерланды) CMEX | V30: =TEXT(G30,"0")&":"&TEXT(I30,"0") -> 4:5
B31: 0.65277778 | C31: =TRIM($D$4) -> Испания | D31: =TRIM($D$5) -> Нидерланды | E31: =$E$4 -> ⁠Flazen | F31: =$E$5 -> CMEX | G31: =SUM(K31) -> 0 | I31: =SUM(L31,O31) -> 0 | K31: - | L31: - | N31: 3 | S31: 3 | T31: 189 | U31: =TEXT(B31,"h:mm")&" "&($C$1)&" ("&C31&") "&E31&" "&" - ("&D31&") "&F31&"" -> 15:40 Penalty shot cup (Испания) ⁠Flazen - (Нидерланды) CMEX | V31: =TEXT(G31,"0")&":"&TEXT(I31,"0") -> 0:0
B32: 0.65625 | C32: =TRIM($D$6) -> Германия | D32: =TRIM($D$5) -> Нидерланды | E32: =$E$6 -> fuelon | F32: =$E$5 -> CMEX | G32: =SUM(K32) -> 4 | I32: =SUM(L32,O32) -> 5 | K32: 4 | L32: 5 | N32: 1 | S32: 1 | T32: 190 | U32: =TEXT(B32,"h:mm")&" "&($C$1)&" ("&C32&") "&E32&" "&" - ("&D32&") "&F32&"" -> 15:45 Penalty shot cup (Германия) fuelon - (Нидерланды) CMEX | V32: =TEXT(G32,"0")&":"&TEXT(I32,"0") -> 4:5
B33: 0.65972222 | C33: =TRIM($D$6) -> Германия | D33: =TRIM($D$5) -> Нидерланды | E33: =$E$6 -> fuelon | F33: =$E$5 -> CMEX | G33: =SUM(K33) -> 4 | I33: =SUM(L33,O33) -> 5 | J33: 5 | K33: 4 | L33: 5 | M33: 3 | N33: 2 | S33: 2 | T33: 191 | U33: =TEXT(B33,"h:mm")&" "&($C$1)&" ("&C33&") "&E33&" "&" - ("&D33&") "&F33&"" -> 15:50 Penalty shot cup (Германия) fuelon - (Нидерланды) CMEX | V33: =TEXT(G33,"0")&":"&TEXT(I33,"0") -> 4:5
B34: 0.66319444 | C34: =TRIM($D$6) -> Германия | D34: =TRIM($D$5) -> Нидерланды | E34: =$E$6 -> fuelon | F34: =$E$5 -> CMEX | G34: =SUM(K34) -> 4 | I34: =SUM(L34,O34) -> 4 | K34: 4 | L34: 4 | N34: 3 | S34: 3 | T34: 192 | U34: =TEXT(B34,"h:mm")&" "&($C$1)&" ("&C34&") "&E34&" "&" - ("&D34&") "&F34&"" -> 15:55 Penalty shot cup (Германия) fuelon - (Нидерланды) CMEX | V34: =TEXT(G34,"0")&":"&TEXT(I34,"0") -> 4:4
B35: 0.66666667 | C35: =TRIM($D$6) -> Германия | D35: =TRIM($D$4) -> Испания | E35: =$E$6 -> fuelon | F35: =$E$4 -> ⁠Flazen | G35: =SUM(K35) -> 1 | I35: =SUM(L35) -> 3 | K35: 1 | L35: 3 | N35: 1 | S35: 1 | T35: 193 | U35: =TEXT(B35,"h:mm")&" "&($C$1)&" ("&C35&") "&E35&" "&" - ("&D35&") "&F35&"" -> 16:00 Penalty shot cup (Германия) fuelon - (Испания) ⁠Flazen | V35: =TEXT(G35,"0")&":"&TEXT(I35,"0") -> 1:3
B36: 0.67013889 | C36: =TRIM($D$6) -> Германия | D36: =TRIM($D$4) -> Испания | E36: =$E$6 -> fuelon | F36: =$E$4 -> ⁠Flazen | G36: =SUM(K36) -> 3 | I36: =SUM(L36) -> 3 | K36: 3 | L36: 3 | N36: 2 | S36: 2 | T36: 194 | U36: =TEXT(B36,"h:mm")&" "&($C$1)&" ("&C36&") "&E36&" "&" - ("&D36&") "&F36&"" -> 16:05 Penalty shot cup (Германия) fuelon - (Испания) ⁠Flazen | V36: =TEXT(G36,"0")&":"&TEXT(I36,"0") -> 3:3
B37: 0.67361111 | C37: =TRIM($D$6) -> Германия | D37: =TRIM($D$4) -> Испания | E37: =$E$6 -> fuelon | F37: =$E$4 -> ⁠Flazen | G37: =SUM(K37) -> 5 | I37: =SUM(L37) -> 5 | K37: 5 | L37: 5 | N37: 3 | S37: 3 | T37: 195 | U37: =TEXT(B37,"h:mm")&" "&($C$1)&" ("&C37&") "&E37&" "&" - ("&D37&") "&F37&"" -> 16:10 Penalty shot cup (Германия) fuelon - (Испания) ⁠Flazen | V37: =TEXT(G37,"0")&":"&TEXT(I37,"0") -> 5:5
B38: 0.67708333 | C38: =TRIM($D$5) -> Нидерланды | D38: =TRIM($D$4) -> Испания | E38: =$E$5 -> CMEX | F38: =$E$4 -> ⁠Flazen | G38: =SUM(K38) -> 5 | I38: =SUM(L38) -> 3 | K38: 5 | L38: 3 | N38: 1 | S38: 1 | T38: 196 | U38: =TEXT(B38,"h:mm")&" "&($C$1)&" ("&C38&") "&E38&" "&" - ("&D38&") "&F38&"" -> 16:15 Penalty shot cup (Нидерланды) CMEX - (Испания) ⁠Flazen | V38: =TEXT(G38,"0")&":"&TEXT(I38,"0") -> 5:3
B39: 0.68055556 | C39: =TRIM($D$5) -> Нидерланды | D39: =TRIM($D$4) -> Испания | E39: =$E$5 -> CMEX | F39: =$E$4 -> ⁠Flazen | G39: =SUM(K39) -> 5 | I39: =SUM(L39) -> 3 | K39: 5 | L39: 3 | N39: 2 | S39: 2 | T39: 197 | U39: =TEXT(B39,"h:mm")&" "&($C$1)&" ("&C39&") "&E39&" "&" - ("&D39&") "&F39&"" -> 16:20 Penalty shot cup (Нидерланды) CMEX - (Испания) ⁠Flazen | V39: =TEXT(G39,"0")&":"&TEXT(I39,"0") -> 5:3
B40: 0.68402778 | C40: =TRIM($D$5) -> Нидерланды | D40: =TRIM($D$4) -> Испания | E40: =$E$5 -> CMEX | F40: =$E$4 -> ⁠Flazen | G40: =SUM(K40) -> 2 | I40: =SUM(L40) -> 3 | K40: 2 | L40: 3 | N40: 3 | S40: 3 | T40: 198 | U40: =TEXT(B40,"h:mm")&" "&($C$1)&" ("&C40&") "&E40&" "&" - ("&D40&") "&F40&"" -> 16:25 Penalty shot cup (Нидерланды) CMEX - (Испания) ⁠Flazen | V40: =TEXT(G40,"0")&":"&TEXT(I40,"0") -> 2:3
B41: 0.6875 | C41: =TRIM($D$5) -> Нидерланды | D41: =TRIM($D$6) -> Германия | E41: =$E$5 -> CMEX | F41: =$E$6 -> fuelon | G41: =SUM(K41) -> 4 | I41: =SUM(L41) -> 3 | K41: 4 | L41: 3 | N41: 3 | S41: 1 | T41: 199 | U41: =TEXT(B41,"h:mm")&" "&($C$1)&" ("&C41&") "&E41&" "&" - ("&D41&") "&F41&"" -> 16:30 Penalty shot cup (Нидерланды) CMEX - (Германия) fuelon | V41: =TEXT(G41,"0")&":"&TEXT(I41,"0") -> 4:3
B42: 0.69097222 | C42: =TRIM($D$5) -> Нидерланды | D42: =TRIM($D$6) -> Германия | E42: =$E$5 -> CMEX | F42: =$E$6 -> fuelon | G42: =SUM(K42) -> 5 | I42: =SUM(L42) -> 4 | K42: 5 | L42: 4 | N42: 3 | S42: 2 | T42: 200 | U42: =TEXT(B42,"h:mm")&" "&($C$1)&" ("&C42&") "&E42&" "&" - ("&D42&") "&F42&"" -> 16:35 Penalty shot cup (Нидерланды) CMEX - (Германия) fuelon | V42: =TEXT(G42,"0")&":"&TEXT(I42,"0") -> 5:4
B43: 0.69444444 | C43: =TRIM($D$5) -> Нидерланды | D43: =TRIM($D$6) -> Германия | E43: =$E$5 -> CMEX | F43: =$E$6 -> fuelon | G43: =SUM(K43) -> 0 | I43: =SUM(L43) -> 0 | K43: - | L43: - | N43: 3 | S43: 3 | T43: 201 | U43: =TEXT(B43,"h:mm")&" "&($C$1)&" ("&C43&") "&E43&" "&" - ("&D43&") "&F43&"" -> 16:40 Penalty shot cup (Нидерланды) CMEX - (Германия) fuelon | V43: =TEXT(G43,"0")&":"&TEXT(I43,"0") -> 0:0
...

Sheet ТУР4
C1: ='ТУР1'!$C$1 -> Penalty shot cup | E1: ТУР4 | F1: ='ТУР1'!$F$1 -> 45659
U2: =C1 -> Penalty shot cup | V2: =E1 -> ТУР4 | AA2: =$F$1 -> 45659 | AG2: GP | AH2: W | AI2: D | AJ2: L | AK2: GF | AL2: GA | AM2: GD | AN2: PTS | AO2: rank
C3: Участник | D3: Команда | E3: Никнейм | U3: Никнейм | V3: М | W3: В | X3: Н | Y3: П | Z3: ЗГ | AA3: ПГ | AB3: РГ | AC3: Очки | AF3: =E4 -> ⁠Flazen | AG3: {=SUM(($E$11:$E$46=AF3)*(ISNUMBER($G$11:$G$46)),($F$11:$F$46=AF3)*(ISNUMBER($I$11:$I$46)))} -> 24 | AH3: {=SUM(('ТУР4'!home=AF3)*('ТУР4'!homescore>'ТУР4'!visitorscore),('ТУР4'!visitor=AF3)*('ТУР4'!visitorscore>'ТУР4'!homescore))} -> 7 | AI3: {=SUM(('ТУР4'!home=AF3)*('ТУР4'!homescore='ТУР4'!visitorscore)*ISNUMBER('ТУР4'!visitorscore),('ТУР4'!visitor=AF3)*('ТУР4'!visitorscore='ТУР4'!homescore)*ISNUMBER('ТУР4'!homescore))} -> 11 | AJ3: {=SUM(('ТУР4'!home=AF3)*('ТУР4'!homescore<'ТУР4'!visitorscore),('ТУР4'!visitor=AF3)*('ТУР4'!visitorscore<'ТУР4'!homescore))} -> 6 | AK3: {=SUMIF('ТУР4'!home,AF3,'ТУР4'!homescore)+SUMIF('ТУР4'!visitor,AF3,'ТУР4'!visitorscore)} -> 76 | AL3: {=SUMIF('ТУР4'!home,AF3,'ТУР4'!visitorscore)+SUMIF('ТУР4'!visitor,AF3,'ТУР4'!homescore)} -> 77 | AM3: =AK3-AL3 -> -1 | AN3: {=AH3*Options!$B$2+AI3*Options!$B$3+AJ3*Options!$B$4+VLOOKUP(AF3,$E$4:$F$9,2,0)} -> 32 | AO3: =AK3+AM3*10000+AN3*100000000 -> 3199990076
C4: Даниил Н. | D4: Италия | E4: ⁠Flazen | U4: {=INDEX($AF$3:$AF$5,MATCH(LARGE($AO$3:$AO$5-ROW($AO$3:$AO$5)/COUNT($AO$3:$AO$5),ROW(U4)-ROW(U$4)+1),$AO$3:$AO$5-ROW($AO$3:$AO$5)/COUNT($AO$3:$AO$5),0))} -> CMEX | V4: {=VLOOKUP($U4,$AF$3:$AN$5,2,0)} -> 24 | W4: {=VLOOKUP($U4,$AF$3:$AN$5,3,0)} -> 11 | X4: {=VLOOKUP($U4,$AF$3:$AN$5,4,0)} -> 8 | Y4: {=VLOOKUP($U4,$AF$3:$AN$5,5,0)} -> 5 | Z4: {=VLOOKUP($U4,$AF$3:$AN$5,6,0)} -> 83 | AA4: {=VLOOKUP($U4,$AF$3:$AN$5,7,0)} -> 73 | AB4: {=VLOOKUP($U4,$AF$3:$AN$5,8,0)} -> 10 | AC4: {=VLOOKUP($U4,$AF$3:$AN$5,9,0)} -> 41 | AF4: =E5 -> CMEX | AG4: {=SUM(($E$11:$E$46=AF4)*(ISNUMBER($G$11:$G$46)),($F$11:$F$46=AF4)*(ISNUMBER($I$11:$I$46)))} -> 24 | AH4: {=SUM(('ТУР4'!home=AF4)*('ТУР4'!homescore>'ТУР4'!visitorscore),('ТУР4'!visitor=AF4)*('ТУР4'!visitorscore>'ТУР4'!homescore))} -> 11 | AI4: {=SUM(('ТУР4'!home=AF4)*('ТУР4'!homescore='ТУР4'!visitorscore)*ISNUMBER('ТУР4'!visitorscore),('ТУР4'!visitor=AF4)*('ТУР4'!visitorscore='ТУР4'!homescore)*ISNUMBER('ТУР4'!homescore))} -> 8 | AJ4: {=SUM(('ТУР4'!home=AF4)*('ТУР4'!homescore<'ТУР4'!visitorscore),('ТУР4'!visitor=AF4)*('ТУР4'!visitorscore<'ТУР4'!homescore))} -> 5 | AK4: {=SUMIF('ТУР4'!home,AF4,'ТУР4'!homescore)+SUMIF('ТУР4'!visitor,AF4,'ТУР4'!visitorscore)} -> 83 | AL4: {=SUMIF('ТУР4'!home,AF4,'ТУР4'!visitorscore)+SUMIF('ТУР4'!visitor,AF4,'ТУР4'!homescore)} -> 73 | AM4: =AK4-AL4 -> 10 | AN4: {=AH4*Options!$B$2+AI4*Options!$B$3+AJ4*Options!$B$4+VLOOKUP(AF4,$E$4:$F$9,2,0)} -> 41 | AO4: =AK4+AM4*10000+AN4*100000000 -> 4100100083
