Workbook
Name home3: #REF!
Name homescore: 'ТУР3'!$G$12:$G$58
Name visitor: 'ТУР5'!$F$12:$F$58
Name homescore: 'ТУР4'!$G$12:$G$56
Name homescore: 'ТУР6'!$G$12:$G$58
Name visitor2: #REF!
Name visitorscore: 'ТУР1'!$I$12:$I$58
Name visitor: 'ТУР7'!$F$12:$F$58
Name visitorscore: 'ТУР2'!$I$12:$I$58
Name visitor: 'ТУР6'!$F$12:$F$58
Name home: 'ТУР5'!$E$12:$E$58
Name visitor: 'ТУР1'!$F$12:$F$58
Name visitorscore: 'ТУР6'!$I$12:$I$58
Name homescore: 'ТУР8'!$G$12:$G$56
Name visitorscore: 'ТУР8'!$I$12:$I$56
Name home: 'ТУР4'!$E$12:$E$56
Name homescore: 'ТУР5'!$G$12:$G$58
Name home: 'ТУР2'!$E$12:$E$58
Name homescore: 'ТУР1'!$G$12:$G$58
Name home: 'ТУР1'!$E$12:$E$58
Name home2: #REF!
Name visitorscore: 'ТУР3'!$I$12:$I$58
Name home: 'ТУР4'!$E$12:$E$56
Name visitorscore: 'ТУР7'!$I$12:$I$58
Name homescore: 'ТУР2'!$G$12:$G$58
Name homescore3: #REF!
Name homescore2: #REF!
Name home: 'ТУР8'!$E$12:$E$56
Name visitor: 'ТУР4'!$F$12:$F$56
Name home: 'ТУР3'!$E$12:$E$58
Name visitor: 'ТУР8'!$F$12:$F$56
Name visitorscore3: #REF!
Name homescore: 'ТУР7'!$G$12:$G$58
Name visitorscore: 'ТУР5'!$I$12:$I$58
Name visitor: 'ТУР2'!$F$12:$F$58
Name visitorscore2: #REF!
Name home: 'ТУР6'!$E$12:$E$58
Name visitor: 'ТУР3'!$F$12:$F$58
Name visitorscore: 'ТУР4'!$I$12:$I$56
Name visitor3: #REF!
Name home: 'ТУР7'!$E$12:$E$58

Sheet ТУР1
C1: Bullet shot Cup | E1: ТУР1 | F1: 45697
U2: =C1 -> Bullet shot Cup | V2: =E1 -> ТУР1 | AA2: =$F$1 -> 45697 | AG2: GP | AH2: W | AI2: D | AJ2: L | AK2: GF | AL2: GA | AM2: GD | AN2: PTS | AO2: rank
C3: Участник | D3: Команда | E3: Никнейм | U3: Никнейм | V3: М | W3: В | X3: Н | Y3: П | Z3: ЗГ | AA3: ПГ | AB3: РГ | AC3: Очки | AF3: =E4 -> Emqa | AG3: {=SUM(($E$12:$E$54=AF3)*(ISNUMBER($G$12:$G$54)),($F$12:$F$54=AF3)*(ISNUMBER($I$12:$I$54)))} -> 28 | AH3: {=SUM(('ТУР1'!home=AF3)*(homescore>visitorscore),(visitor=AF3)*(visitorscore>homescore))} -> 12 | AI3: {=SUM(('ТУР1'!home=AF3)*(homescore=visitorscore)*ISNUMBER(visitorscore),(visitor=AF3)*(visitorscore=homescore)*ISNUMBER(homescore))} -> 12 | AJ3: {=SUM(('ТУР1'!home=AF3)*(homescore<visitorscore),(visitor=AF3)*(visitorscore<homescore))} -> 4 | AK3: {=SUMIF('ТУР1'!home,AF3,homescore)+SUMIF(visitor,AF3,visitorscore)} -> 40 | AL3: {=SUMIF('ТУР1'!home,AF3,visitorscore)+SUMIF(visitor,AF3,homescore)} -> 26 | AM3: =AK3-AL3 -> 14 | AN3: {=AH3*Options!$B$2+AI3*Options!$B$3+AJ3*Options!$B$4+VLOOKUP(AF3,$E$4:$F$8,2,0)} -> 48 | AO3: =AK3+AM3*10000+AN3*100000000 -> 4800140040
C4: Эмиль С. | D4: Канада | E4: Emqa | U4: {=INDEX($AF$3:$AF$5,MATCH(LARGE($AO$3:$AO$5-ROW($AO$3:$AO$5)/COUNT($AO$3:$AO$5),ROW(U4)-ROW(U$4)+1),$AO$3:$AO$5-ROW($AO$3:$AO$5)/COUNT($AO$3:$AO$5),0))} -> Emqa | V4: {=VLOOKUP($U4,$AF$3:$AN$5,2,0)} -> 28 | W4: {=VLOOKUP($U4,$AF$3:$AN$5,3,0)} -> 12 | X4: {=VLOOKUP($U4,$AF$3:$AN$5,4,0)} -> 12 | Y4: {=VLOOKUP($U4,$AF$3:$AN$5,5,0)} -> 4 | Z4: {=VLOOKUP($U4,$AF$3:$AN$5,6,0)} -> 40 | AA4: {=VLOOKUP($U4,$AF$3:$AN$5,7,0)} -> 26 | AB4: {=VLOOKUP($U4,$AF$3:$AN$5,8,0)} -> 14 | AC4: {=VLOOKUP($U4,$AF$3:$AN$5,9,0)} -> 48 | AF4: =E5 -> Adisey95 | AG4: {=SUM(($E$12:$E$54=AF4)*(ISNUMBER($G$12:$G$54)),($F$12:$F$54=AF4)*(ISNUMBER($I$12:$I$54)))} -> 28 | AH4: {=SUM(('ТУР1'!home=AF4)*(homescore>visitorscore),(visitor=AF4)*(visitorscore>homescore))} -> 8 | AI4: {=SUM(('ТУР1'!home=AF4)*(homescore=visitorscore)*ISNUMBER(visitorscore),(visitor=AF4)*(visitorscore=homescore)*ISNUMBER(homescore))} -> 9 | AJ4: {=SUM(('ТУР1'!home=AF4)*(homescore<visitorscore),(visitor=AF4)*(visitorscore<homescore))} -> 11 | AK4: {=SUMIF('ТУР1'!home,AF4,homescore)+SUMIF(visitor,AF4,visitorscore)} -> 26 | AL4: {=SUMIF('ТУР1'!home,AF4,visitorscore)+SUMIF(visitor,AF4,homescore)} -> 30 | AM4: =AK4-AL4 -> -4 | AN4: {=AH4*Options!$B$2+AI4*Options!$B$3+AJ4*Options!$B$4+VLOOKUP(AF4,$E$4:$F$8,2,0)} -> 33 | AO4: =AK4+AM4*10000+AN4*100000000 -> 3299960026
C5: Адис А. | D5: США | E5: Adisey95 | U5: {=INDEX($AF$3:$AF$5,MATCH(LARGE($AO$3:$AO$5-ROW($AO$3:$AO$5)/COUNT($AO$3:$AO$5),ROW(U5)-ROW(U$4)+1),$AO$3:$AO$5-ROW($AO$3:$AO$5)/COUNT($AO$3:$AO$5),0))} -> Adisey95 | V5: {=VLOOKUP($U5,$AF$3:$AN$5,2,0)} -> 28 | W5: {=VLOOKUP($U5,$AF$3:$AN$5,3,0)} -> 8 | X5: {=VLOOKUP($U5,$AF$3:$AN$5,4,0)} -> 9 | Y5: {=VLOOKUP($U5,$AF$3:$AN$5,5,0)} -> 11 | Z5: {=VLOOKUP($U5,$AF$3:$AN$5,6,0)} -> 26 | AA5: {=VLOOKUP($U5,$AF$3:$AN$5,7,0)} -> 30 | AB5: {=VLOOKUP($U5,$AF$3:$AN$5,8,0)} -> -4 | AC5: {=VLOOKUP($U5,$AF$3:$AN$5,9,0)} -> 33 | AF5: =E6 -> Slippers | AG5: {=SUM(($E$12:$E$54=AF5)*(ISNUMBER($G$12:$G$54)),($F$12:$F$54=AF5)*(ISNUMBER($I$12:$I$54)))} -> 28 | AH5: {=SUM(('ТУР1'!home=AF5)*(homescore>visitorscore),(visitor=AF5)*(visitorscore>homescore))} -> 8 | AI5: {=SUM(('ТУР1'!home=AF5)*(homescore=visitorscore)*ISNUMBER(visitorscore),(visitor=AF5)*(visitorscore=homescore)*ISNUMBER(homescore))} -> 7 | AJ5: {=SUM(('ТУР1'!home=AF5)*(homescore<visitorscore),(visitor=AF5)*(visitorscore<homescore))} -> 13 | AK5: {=SUMIF('ТУР1'!home,AF5,homescore)+SUMIF(visitor,AF5,visitorscore)} -> 27 | AL5: {=SUMIF('ТУР1'!home,AF5,visitorscore)+SUMIF(visitor,AF5,homescore)} -> 37 | AM5: =AK5-AL5 -> -10 | AN5: {=AH5*Options!$B$2+AI5*Options!$B$3+AJ5*Options!$B$4+VLOOKUP(AF5,$E$4:$F$8,2,0)} -> 31 | AO5: =AK5+AM5*10000+AN5*100000000 -> 3099900027
C6: Ренат И. | D6: Швеция | E6: Slippers | U6: {=INDEX($AF$3:$AF$5,MATCH(LARGE($AO$3:$AO$5-ROW($AO$3:$AO$5)/COUNT($AO$3:$AO$5),ROW(U6)-ROW(U$4)+1),$AO$3:$AO$5-ROW($AO$3:$AO$5)/COUNT($AO$3:$AO$5),0))} -> Slippers | V6: {=VLOOKUP($U6,$AF$3:$AN$5,2,0)} -> 28 | W6: {=VLOOKUP($U6,$AF$3:$AN$5,3,0)} -> 8 | X6: {=VLOOKUP($U6,$AF$3:$AN$5,4,0)} -> 7 | Y6: {=VLOOKUP($U6,$AF$3:$AN$5,5,0)} -> 13 | Z6: {=VLOOKUP($U6,$AF$3:$AN$5,6,0)} -> 27 | AA6: {=VLOOKUP($U6,$AF$3:$AN$5,7,0)} -> 37 | AB6: {=VLOOKUP($U6,$AF$3:$AN$5,8,0)} -> -10 | AC6: {=VLOOKUP($U6,$AF$3:$AN$5,9,0)} -> 31
B10: Старт
C11: Команда | D11: Команда | E11: Дом | F11: Гость | G11: Результат | K11: Cчет | N11: PS | S11: PS | T11: № матча | U11: Матч | V11: Счет
B12: 0.33333333 | C12: =TRIM($D$4) -> Канада | D12: =TRIM($D$5) -> США | E12: =$E$4 -> Emqa | F12: =$E$5 -> Adisey95 | G12: =SUM(K12) -> 2 | I12: =SUM(L12) -> 1 | K12: 2 | L12: 1 | T12: 115 | U12: =TEXT(B12,"h:mm")&" "&($C$1)&" ("&C12&") "&E12&" "&" - ("&D12&") "&F12&"" -> 8:00 Bullet shot Cup (Канада) Emqa - (США) Adisey95 | V12: =TEXT(G12,"0")&":"&TEXT(I12,"0") -> 2:1
B13: 0.33611111 | C13: =TRIM($D$4) -> Канада | D13: =TRIM($D$5) -> США | E13: =$E$4 -> Emqa | F13: =$E$5 -> Adisey95 | G13: =SUM(K13) -> 1 | I13: =SUM(L13) -> 1 | K13: 1 | L13: 1 | T13: 116 | U13: =TEXT(B13,"h:mm")&" "&($C$1)&" ("&C13&") "&E13&" "&" - ("&D13&") "&F13&"" -> 8:04 Bullet shot Cup (Канада) Emqa - (США) Adisey95 | V13: =TEXT(G13,"0")&":"&TEXT(I13,"0") -> 1:1
B14: 0.33888889 | C14: =TRIM($D$4) -> Канада | D14: =TRIM($D$5) -> США | E14: =$E$4 -> Emqa | F14: =$E$5 -> Adisey95 | G14: =SUM(K14) -> 1 | I14: =SUM(L14) -> 1 | K14: 1 | L14: 1 | T14: 117 | U14: =TEXT(B14,"h:mm")&" "&($C$1)&" ("&C14&") "&E14&" "&" - ("&D14&") "&F14&"" -> 8:08 Bullet shot Cup (Канада) Emqa - (США) Adisey95 | V14: =TEXT(G14,"0")&":"&TEXT(I14,"0") -> 1:1
B15: 0.34166667 | C15: =TRIM($D$6) -> Швеция | D15: =TRIM($D$5) -> США | E15: =$E$6 -> Slippers | F15: =$E$5 -> Adisey95 | G15: =SUM(K15) -> 0 | I15: =SUM(L15) -> 2 | K15: 0 | L15: 2 | T15: 118 | U15: =TEXT(B15,"h:mm")&" "&($C$1)&" ("&C15&") "&E15&" "&" - ("&D15&") "&F15&"" -> 8:12 Bullet shot Cup (Швеция) Slippers - (США) Adisey95 | V15: =TEXT(G15,"0")&":"&TEXT(I15,"0") -> 0:2
B16: 0.34444444 | C16: =TRIM($D$6) -> Швеция | D16: =TRIM($D$5) -> США | E16: =$E$6 -> Slippers | F16: =$E$5 -> Adisey95 | G16: =SUM(K16) -> 1 | I16: =SUM(L16) -> 0 | K16: 1 | L16: 0 | T16: 119 | U16: =TEXT(B16,"h:mm")&" "&($C$1)&" ("&C16&") "&E16&" "&" - ("&D16&") "&F16&"" -> 8:16 Bullet shot Cup (Швеция) Slippers - (США) Adisey95 | V16: =TEXT(G16,"0")&":"&TEXT(I16,"0") -> 1:0
B17: 0.34722222 | C17: =TRIM($D$6) -> Швеция | D17: =TRIM($D$5) -> США | E17: =$E$6 -> Slippers | F17: =$E$5 -> Adisey95 | G17: =SUM(K17) -> 1 | I17: =SUM(L17) -> 0 | K17: 1 | L17: 0 | T17: 120 | U17: =TEXT(B17,"h:mm")&" "&($C$1)&" ("&C17&") "&E17&" "&" - ("&D17&") "&F17&"" -> 8:20 Bullet shot Cup (Швеция) Slippers - (США) Adisey95 | V17: =TEXT(G17,"0")&":"&TEXT(I17,"0") -> 1:0
B18: 0.35 | C18: =TRIM($D$6) -> Швеция | D18: =TRIM($D$4) -> Канада | E18: =$E$6 -> Slippers | F18: =$E$4 -> Emqa | G18: =SUM(K18) -> 2 | I18: =SUM(L18) -> 0 | K18: 2 | L18: 0 | T18: 121 | U18: =TEXT(B18,"h:mm")&" "&($C$1)&" ("&C18&") "&E18&" "&" - ("&D18&") "&F18&"" -> 8:24 Bullet shot Cup (Швеция) Slippers - (Канада) Emqa | V18: =TEXT(G18,"0")&":"&TEXT(I18,"0") -> 2:0
B19: 0.35277778 | C19: =TRIM($D$6) -> Швеция | D19: =TRIM($D$4) -> Канада | E19: =$E$6 -> Slippers | F19: =$E$4 -> Emqa | G19: =SUM(K19) -> 0 | I19: =SUM(L19,O19) -> 0 | K19: 0 | L19: 0 | T19: 122 | U19: =TEXT(B19,"h:mm")&" "&($C$1)&" ("&C19&") "&E19&" "&" - ("&D19&") "&F19&"" -> 8:28 Bullet shot Cup (Швеция) Slippers - (Канада) Emqa | V19: =TEXT(G19,"0")&":"&TEXT(I19,"0") -> 0:0
B20: 0.35555556 | C20: =TRIM($D$6) -> Швеция | D20: =TRIM($D$4) -> Канада | E20: =$E$6 -> Slippers | F20: =$E$4 -> Emqa | G20: =SUM(K20) -> 2 | I20: =SUM(L20,O20) -> 3 | K20: 2 | L20: 3 | T20: 123 | U20: =TEXT(B20,"h:mm")&" "&($C$1)&" ("&C20&") "&E20&" "&" - ("&D20&") "&F20&"" -> 8:32 Bullet shot Cup (Швеция) Slippers - (Канада) Emqa | V20: =TEXT(G20,"0")&":"&TEXT(I20,"0") -> 2:3
B21: 0.35833333 | C21: =TRIM($D$5) -> США | D21: =TRIM($D$4) -> Канада | E21: =$E$5 -> Adisey95 | F21: =$E$4 -> Emqa | G21: =SUM(K21) -> 2 | I21: =SUM(L21,O21) -> 1 | K21: 2 | L21: 1 | T21: 124 | U21: =TEXT(B21,"h:mm")&" "&($C$1)&" ("&C21&") "&E21&" "&" - ("&D21&") "&F21&"" -> 8:36 Bullet shot Cup (США) Adisey95 - (Канада) Emqa | V21: =TEXT(G21,"0")&":"&TEXT(I21,"0") -> 2:1
B22: 0.36111111 | C22: =TRIM($D$5) -> США | D22: =TRIM($D$4) -> Канада | E22: =$E$5 -> Adisey95 | F22: =$E$4 -> Emqa | G22: =SUM(K22) -> 0 | I22: =SUM(L22,O22) -> 2 | K22: 0 | L22: 2 | T22: 125 | U22: =TEXT(B22,"h:mm")&" "&($C$1)&" ("&C22&") "&E22&" "&" - ("&D22&") "&F22&"" -> 8:40 Bullet shot Cup (США) Adisey95 - (Канада) Emqa | V22: =TEXT(G22,"0")&":"&TEXT(I22,"0") -> 0:2
B23: 0.36388889 | C23: =TRIM($D$5) -> США | D23: =TRIM($D$4) -> Канада | E23: =$E$5 -> Adisey95 | F23: =$E$4 -> Emqa | G23: =SUM(K23) -> 0 | I23: =SUM(L23,O23) -> 1 | K23: 0 | L23: 1 | T23: 126 | U23: =TEXT(B23,"h:mm")&" "&($C$1)&" ("&C23&") "&E23&" "&" - ("&D23&") "&F23&"" -> 8:44 Bullet shot Cup (США) Adisey95 - (Канада) Emqa | V23: =TEXT(G23,"0")&":"&TEXT(I23,"0") -> 0:1
B24: 0.36666667 | C24: =TRIM($D$5) -> США | D24: =TRIM($D$6) -> Швеция | E24: =$E$5 -> Adisey95 | F24: =$E$6 -> Slippers | G24: =SUM(K24) -> 1 | I24: =SUM(L24) -> 2 | K24: 1 | L24: 2 | T24: 127 | U24: =TEXT(B24,"h:mm")&" "&($C$1)&" ("&C24&") "&E24&" "&" - ("&D24&") "&F24&"" -> 8:48 Bullet shot Cup (США) Adisey95 - (Швеция) Slippers | V24: =TEXT(G24,"0")&":"&TEXT(I24,"0") -> 1:2
B25: 0.36944444 | C25: =TRIM($D$5) -> США | D25: =TRIM($D$6) -> Швеция | E25: =$E$5 -> Adisey95 | F25: =$E$6 -> Slippers | G25: =SUM(K25) -> 3 | I25: =SUM(L25) -> 2 | K25: 3 | L25: 2 | T25: 128 | U25: =TEXT(B25,"h:mm")&" "&($C$1)&" ("&C25&") "&E25&" "&" - ("&D25&") "&F25&"" -> 8:52 Bullet shot Cup (США) Adisey95 - (Швеция) Slippers | V25: =TEXT(G25,"0")&":"&TEXT(I25,"0") -> 3:2
B26: 0.37222222 | C26: =TRIM($D$5) -> США | D26: =TRIM($D$6) -> Швеция | E26: =$E$5 -> Adisey95 | F26: =$E$6 -> Slippers | G26: =SUM(K26) -> 1 | I26: =SUM(L26) -> 1 | K26: 1 | L26: 1 | T26: 129 | U26: =TEXT(B26,"h:mm")&" "&($C$1)&" ("&C26&") "&E26&" "&" - ("&D26&") "&F26&"" -> 8:56 Bullet shot Cup (США) Adisey95 - (Швеция) Slippers | V26: =TEXT(G26,"0")&":"&TEXT(I26,"0") -> 1:1
B27: 0.375 | C27: =TRIM($D$4) -> Канада | D27: =TRIM($D$6) -> Швеция | E27: =$E$4 -> Emqa | F27: =$E$6 -> Slippers | G27: =SUM(K27) -> 3 | I27: =SUM(L27) -> 1 | K27: 3 | L27: 1 | T27: 130 | U27: =TEXT(B27,"h:mm")&" "&($C$1)&" ("&C27&") "&E27&" "&" - ("&D27&") "&F27&"" -> 9:00 Bullet shot Cup (Канада) Emqa - (Швеция) Slippers | V27: =TEXT(G27,"0")&":"&TEXT(I27,"0") -> 3:1
B28: 0.37777778 | C28: =TRIM($D$4) -> Канада | D28: =TRIM($D$6) -> Швеция | E28: =$E$4 -> Emqa | F28: =$E$6 -> Slippers | G28: =SUM(K28) -> 1 | I28: =SUM(L28) -> 1 | K28: 1 | L28: 1 | T28: 131 | U28: =TEXT(B28,"h:mm")&" "&($C$1)&" ("&C28&") "&E28&" "&" - ("&D28&") "&F28&"" -> 9:04 Bullet shot Cup (Канада) Emqa - (Швеция) Slippers | V28: =TEXT(G28,"0")&":"&TEXT(I28,"0") -> 1:1
B29: 0.38055556 | C29: =TRIM($D$4) -> Канада | D29: =TRIM($D$6) -> Швеция | E29: =$E$4 -> Emqa | F29: =$E$6 -> Slippers | G29: =SUM(K29) -> 2 | I29: =SUM(L29) -> 0 | K29: 2 | L29: 0 | T29: 132 | U29: =TEXT(B29,"h:mm")&" "&($C$1)&" ("&C29&") "&E29&" "&" - ("&D29&") "&F29&"" -> 9:08 Bullet shot Cup (Канада) Emqa - (Швеция) Slippers | V29: =TEXT(G29,"0")&":"&TEXT(I29,"0") -> 2:0
B30: 0.38333333 | C30: =TRIM($D$4) -> Канада | D30: =TRIM($D$5) -> США | E30: =$E$4 -> Emqa | F30: =$E$5 -> Adisey95 | G30: =SUM(K30) -> 0 | I30: =SUM(L30) -> 0 | K30: 0 | L30: 0 | T30: 133 | U30: =TEXT(B30,"h:mm")&" "&($C$1)&" ("&C30&") "&E30&" "&" - ("&D30&") "&F30&"" -> 9:12 Bullet shot Cup (Канада) Emqa - (США) Adisey95 | V30: =TEXT(G30,"0")&":"&TEXT(I30,"0") -> 0:0
B31: 0.38611111 | C31: =TRIM($D$4) -> Канада | D31: =TRIM($D$5) -> США | E31: =$E$4 -> Emqa | F31: =$E$5 -> Adisey95 | G31: =SUM(K31) -> 2 | I31: =SUM(L31,O31) -> 0 | K31: 2 | L31: 0 | T31: 134 | U31: =TEXT(B31,"h:mm")&" "&($C$1)&" ("&C31&") "&E31&" "&" - ("&D31&") "&F31&"" -> 9:16 Bullet shot Cup (Канада) Emqa - (США) Adisey95 | V31: =TEXT(G31,"0")&":"&TEXT(I31,"0") -> 2:0
B32: 0.38888889 | C32: =TRIM($D$4) -> Канада | D32: =TRIM($D$5) -> США | E32: =$E$4 -> Emqa | F32: =$E$5 -> Adisey95 | G32: =SUM(K32) -> 0 | I32: =SUM(L32,O32) -> 0 | K32: 0 | L32: 0 | T32: 135 | U32: =TEXT(B32,"h:mm")&" "&($C$1)&" ("&C32&") "&E32&" "&" - ("&D32&") "&F32&"" -> 9:20 Bullet shot Cup (Канада) Emqa - (США) Adisey95 | V32: =TEXT(G32,"0")&":"&TEXT(I32,"0") -> 0:0
B33: 0.39166667 | C33: =TRIM($D$6) -> Швеция | D33: =TRIM($D$5) -> США | E33: =$E$6 -> Slippers | F33: =$E$5 -> Adisey95 | G33: =SUM(K33) -> 1 | I33: =SUM(L33,O33) -> 0 | K33: 1 | L33: 0 | T33: 136 | U33: =TEXT(B33,"h:mm")&" "&($C$1)&" ("&C33&") "&E33&" "&" - ("&D33&") "&F33&"" -> 9:24 Bullet shot Cup (Швеция) Slippers - (США) Adisey95 | V33: =TEXT(G33,"0")&":"&TEXT(I33,"0") -> 1:0
B34: 0.39444444 | C34: =TRIM($D$6) -> Швеция | D34: =TRIM($D$5) -> США | E34: =$E$6 -> Slippers | F34: =$E$5 -> Adisey95 | G34: =SUM(K34) -> 2 | I34: =SUM(L34,O34) -> 0 | K34: 2 | L34: 0 | T34: 137 | U34: =TEXT(B34,"h:mm")&" "&($C$1)&" ("&C34&") "&E34&" "&" - ("&D34&") "&F34&"" -> 9:28 Bullet shot Cup (Швеция) Slippers - (США) Adisey95 | V34: =TEXT(G34,"0")&":"&TEXT(I34,"0") -> 2:0
B35: 0.39722222 | C35: =TRIM($D$6) -> Швеция | D35: =TRIM($D$5) -> США | E35: =$E$6 -> Slippers | F35: =$E$5 -> Adisey95 | G35: =SUM(K35) -> 2 | I35: =SUM(L35,O35) -> 1 | K35: 2 | L35: 1 | T35: 138 | U35: =TEXT(B35,"h:mm")&" "&($C$1)&" ("&C35&") "&E35&" "&" - ("&D35&") "&F35&"" -> 9:32 Bullet shot Cup (Швеция) Slippers - (США) Adisey95 | V35: =TEXT(G35,"0")&":"&TEXT(I35,"0") -> 2:1
B36: 0.4 | C36: =TRIM($D$6) -> Швеция | D36: =TRIM($D$4) -> Канада | E36: =$E$6 -> Slippers | F36: =$E$4 -> Emqa | G36: =SUM(K36) -> 0 | I36: =SUM(L36) -> 2 | K36: 0 | L36: 2 | T36: 139 | U36: =TEXT(B36,"h:mm")&" "&($C$1)&" ("&C36&") "&E36&" "&" - ("&D36&") "&F36&"" -> 9:36 Bullet shot Cup (Швеция) Slippers - (Канада) Emqa | V36: =TEXT(G36,"0")&":"&TEXT(I36,"0") -> 0:2
B37: 0.40277778 | C37: =TRIM($D$6) -> Швеция | D37: =TRIM($D$4) -> Канада | E37: =$E$6 -> Slippers | F37: =$E$4 -> Emqa | G37: =SUM(K37) -> 1 | I37: =SUM(L37) -> 0 | K37: 1 | L37: 0 | T37: 140 | U37: =TEXT(B37,"h:mm")&" "&($C$1)&" ("&C37&") "&E37&" "&" - ("&D37&") "&F37&"" -> 9:40 Bullet shot Cup (Швеция) Slippers - (Канада) Emqa | V37: =TEXT(G37,"0")&":"&TEXT(I37,"0") -> 1:0
B38: 0.40555556 | C38: =TRIM($D$6) -> Швеция | D38: =TRIM($D$4) -> Канада | E38: =$E$6 -> Slippers | F38: =$E$4 -> Emqa | G38: =SUM(K38) -> 2 | I38: =SUM(L38) -> 2 | K38: 2 | L38: 2 | T38: 141 | U38: =TEXT(B38,"h:mm")&" "&($C$1)&" ("&C38&") "&E38&" "&" - ("&D38&") "&F38&"" -> 9:44 Bullet shot Cup (Швеция) Slippers - (Канада) Emqa | V38: =TEXT(G38,"0")&":"&TEXT(I38,"0") -> 2:2
B39: 0.40833333 | C39: =TRIM($D$5) -> США | D39: =TRIM($D$4) -> Канада | E39: =$E$5 -> Adisey95 | F39: =$E$4 -> Emqa | G39: =SUM(K39) -> 2 | I39: =SUM(L39) -> 2 | K39: 2 | L39: 2 | T39: 142 | U39: =TEXT(B39,"h:mm")&" "&($C$1)&" ("&C39&") "&E39&" "&" - ("&D39&") "&F39&"" -> 9:48 Bullet shot Cup (США) Adisey95 - (Канада) Emqa | V39: =TEXT(G39,"0")&":"&TEXT(I39,"0") -> 2:2
B40: 0.41111111 | C40: =TRIM($D$5) -> США | D40: =TRIM($D$4) -> Канада | E40: =$E$5 -> Adisey95 | F40: =$E$4 -> Emqa | G40: =SUM(K40) -> 2 | I40: =SUM(L40) -> 2 | K40: 2 | L40: 2 | T40: 143 | U40: =TEXT(B40,"h:mm")&" "&($C$1)&" ("&C40&") "&E40&" "&" - ("&D40&") "&F40&"" -> 9:52 Bullet shot Cup (США) Adisey95 - (Канада) Emqa | V40: =TEXT(G40,"0")&":"&TEXT(I40,"0") -> 2:2
B41: 0.41388889 | C41: =TRIM($D$5) -> США | D41: =TRIM($D$4) -> Канада | E41: =$E$5 -> Adisey95 | F41: =$E$4 -> Emqa | G41: =SUM(K41) -> 0 | I41: =SUM(L41) -> 1 | K41: 0 | L41: 1 | T41: 144 | U41: =TEXT(B41,"h:mm")&" "&($C$1)&" ("&C41&") "&E41&" "&" - ("&D41&") "&F41&"" -> 9:56 Bullet shot Cup (США) Adisey95 - (Канада) Emqa | V41: =TEXT(G41,"0")&":"&TEXT(I41,"0") -> 0:1
B42: 0.41666667 | C42: =TRIM($D$5) -> США | D42: =TRIM($D$6) -> Швеция | E42: =$E$5 -> Adisey95 | F42: =$E$6 -> Slippers | G42: =SUM(K42) -> 1 | I42: =SUM(L42) -> 0 | K42: 1 | L42: 0 | T42: 145 | U42: =TEXT(B42,"h:mm")&" "&($C$1)&" ("&C42&") "&E42&" "&" - ("&D42&") "&F42&"" -> 10:00 Bullet shot Cup (США) Adisey95 - (Швеция) Slippers | V42: =TEXT(G42,"0")&":"&TEXT(I42,"0") -> 1:0
B43: 0.41944444 | C43: =TRIM($D$5) -> США | D43: =TRIM($D$6) -> Швеция | E43: =$E$5 -> Adisey95 | F43: =$E$6 -> Slippers | G43: =SUM(K43) -> 1 | I43: =SUM(L43,O43) -> 1 | K43: 1 | L43: 1 | T43: 146 | U43: =TEXT(B43,"h:mm")&" "&($C$1)&" ("&C43&") "&E43&" "&" - ("&D43&") "&F43&"" -> 10:04 Bullet shot Cup (США) Adisey95 - (Швеция) Slippers | V43: =TEXT(G43,"0")&":"&TEXT(I43,"0") -> 1:1
...

Sheet ТУР2
C1: ='ТУР1'!$C$1 -> Bullet shot Cup | E1: ТУР2 | F1: ='ТУР1'!$F$1 -> 45697
U2: =C1 -> Bullet shot Cup | V2: =E1 -> ТУР2 | AA2: =$F$1 -> 45697 | AG2: GP | AH2: W | AI2: D | AJ2: L | AK2: GF | AL2: GA | AM2: GD | AN2: PTS | AO2: rank
C3: Участник | D3: Команда | E3: Никнейм | U3: Никнейм | V3: М | W3: В | X3: Н | Y3: П | Z3: ЗГ | AA3: ПГ | AB3: РГ | AC3: Очки | AF3: =E4 -> Emqa | AG3: {=SUM(($E$12:$E$54=AF3)*(ISNUMBER($G$12:$G$54)),($F$12:$F$54=AF3)*(ISNUMBER($I$12:$I$54)))} -> 28 | AH3: {=SUM(('ТУР1'!home=AF3)*('ТУР2'!homescore>'ТУР2'!visitorscore),('ТУР2'!visitor=AF3)*('ТУР2'!visitorscore>'ТУР2'!homescore))} -> 9 | AI3: {=SUM(('ТУР1'!home=AF3)*('ТУР2'!homescore='ТУР2'!visitorscore)*ISNUMBER('ТУР2'!visitorscore),('ТУР2'!visitor=AF3)*('ТУР2'!visitorscore='ТУР2'!homescore)*ISNUMBER('ТУР2'!homescore))} -> 13 | AJ3: {=SUM(('ТУР1'!home=AF3)*('ТУР2'!homescore<'ТУР2'!visitorscore),('ТУР2'!visitor=AF3)*('ТУР2'!visitorscore<'ТУР2'!homescore))} -> 6 | AK3: {=SUMIF('ТУР1'!home,AF3,'ТУР2'!homescore)+SUMIF('ТУР2'!visitor,AF3,'ТУР2'!visitorscore)} -> 38 | AL3: {=SUMIF('ТУР1'!home,AF3,'ТУР2'!visitorscore)+SUMIF('ТУР2'!visitor,AF3,'ТУР2'!homescore)} -> 34 | AM3: =AK3-AL3 -> 4 | AN3: {=AH3*Options!$B$2+AI3*Options!$B$3+AJ3*Options!$B$4+VLOOKUP(AF3,$E$4:$F$8,2,0)} -> 40 | AO3: =AK3+AM3*10000+AN3*100000000 -> 4000040038
C4: ='ТУР1'!$C$4 -> Эмиль С. | D4: Финляндия | E4: ='ТУР1'!$E$4 -> Emqa | U4: {=INDEX($AF$3:$AF$5,MATCH(LARGE($AO$3:$AO$5-ROW($AO$3:$AO$5)/COUNT($AO$3:$AO$5),ROW(U4)-ROW(U$4)+1),$AO$3:$AO$5-ROW($AO$3:$AO$5)/COUNT($AO$3:$AO$5),0))} -> Emqa | V4: {=VLOOKUP($U4,$AF$3:$AN$5,2,0)} -> 28 | W4: {=VLOOKUP($U4,$AF$3:$AN$5,3,0)} -> 9 | X4: {=VLOOKUP($U4,$AF$3:$AN$5,4,0)} -> 13 | Y4: {=VLOOKUP($U4,$AF$3:$AN$5,5,0)} -> 6 | Z4: {=VLOOKUP($U4,$AF$3:$AN$5,6,0)} -> 38 | AA4: {=VLOOKUP($U4,$AF$3:$AN$5,7,0)} -> 34 | AB4: {=VLOOKUP($U4,$AF$3:$AN$5,8,0)} -> 4 | AC4: {=VLOOKUP($U4,$AF$3:$AN$5,9,0)} -> 40 | AF4: =E5 -> Adisey95 | AG4: {=SUM(($E$12:$E$54=AF4)*(ISNUMBER($G$12:$G$54)),($F$12:$F$54=AF4)*(ISNUMBER($I$12:$I$54)))} -> 28 | AH4: {=SUM(('ТУР1'!home=AF4)*('ТУР2'!homescore>'ТУР2'!visitorscore),('ТУР2'!visitor=AF4)*('ТУР2'!visitorscore>'ТУР2'!homescore))} -> 6 | AI4: {=SUM(('ТУР1'!home=AF4)*('ТУР2'!homescore='ТУР2'!visitorscore)*ISNUMBER('ТУР2'!visitorscore),('ТУР2'!visitor=AF4)*('ТУР2'!visitorscore='ТУР2'!homescore)*ISNUMBER('ТУР2'!homescore))} -> 14 | AJ4: {=SUM(('ТУР1'!home=AF4)*('ТУР2'!homescore<'ТУР2'!visitorscore),('ТУР2'!visitor=AF4)*('ТУР2'!visitorscore<'ТУР2'!homescore))} -> 8 | AK4: {=SUMIF('ТУР1'!home,AF4,'ТУР2'!homescore)+SUMIF('ТУР2'!visitor,AF4,'ТУР2'!visitorscore)} -> 34 | AL4: {=SUMIF('ТУР1'!home,AF4,'ТУР2'!visitorscore)+SUMIF('ТУР2'!visitor,AF4,'ТУР2'!homescore)} -> 36 | AM4: =AK4-AL4 -> -2 | AN4: {=AH4*Options!$B$2+AI4*Options!$B$3+AJ4*Options!$B$4+VLOOKUP(AF4,$E$4:$F$8,2,0)} -> 32 | AO4: =AK4+AM4*10000+AN4*100000000 -> 3199980034
C5: ='ТУР1'!$C$5 -> Адис А. | D5: Чехия | E5: ='ТУР1'!$E$5 -> Adisey95 | U5: {=INDEX($AF$3:$AF$5,MATCH(LARGE($AO$3:$AO$5-ROW($AO$3:$AO$5)/COUNT($AO$3:$AO$5),ROW(U5)-ROW(U$4)+1),$AO$3:$AO$5-ROW($AO$3:$AO$5)/COUNT($AO$3:$AO$5),0))} -> Slippers | V5: {=VLOOKUP($U5,$AF$3:$AN$5,2,0)} -> 28 | W5: {=VLOOKUP($U5,$AF$3:$AN$5,3,0)} -> 6 | X5: {=VLOOKUP($U5,$AF$3:$AN$5,4,0)} -> 15 | Y5: {=VLOOKUP($U5,$AF$3:$AN$5,5,0)} -> 7 | Z5: {=VLOOKUP($U5,$AF$3:$AN$5,6,0)} -> 35 | AA5: {=VLOOKUP($U5,$AF$3:$AN$5,7,0)} -> 37 | AB5: {=VLOOKUP($U5,$AF$3:$AN$5,8,0)} -> -2 | AC5: {=VLOOKUP($U5,$AF$3:$AN$5,9,0)} -> 33 | AF5: =E6 -> Slippers | AG5: {=SUM(($E$12:$E$54=AF5)*(ISNUMBER($G$12:$G$54)),($F$12:$F$54=AF5)*(ISNUMBER($I$12:$I$54)))} -> 28 | AH5: {=SUM(('ТУР1'!home=AF5)*('ТУР2'!homescore>'ТУР2'!visitorscore),('ТУР2'!visitor=AF5)*('ТУР2'!visitorscore>'ТУР2'!homescore))} -> 6 | AI5: {=SUM(('ТУР1'!home=AF5)*('ТУР2'!homescore='ТУР2'!visitorscore)*ISNUMBER('ТУР2'!visitorscore),('ТУР2'!visitor=AF5)*('ТУР2'!visitorscore='ТУР2'!homescore)*ISNUMBER('ТУР2'!homescore))} -> 15 | AJ5: {=SUM(('ТУР1'!home=AF5)*('ТУР2'!homescore<'ТУР2'!visitorscore),('ТУР2'!visitor=AF5)*('ТУР2'!visitorscore<'ТУР2'!homescore))} -> 7 | AK5: {=SUMIF('ТУР1'!home,AF5,'ТУР2'!homescore)+SUMIF('ТУР2'!visitor,AF5,'ТУР2'!visitorscore)} -> 35 | AL5: {=SUMIF('ТУР1'!home,AF5,'ТУР2'!visitorscore)+SUMIF('ТУР2'!visitor,AF5,'ТУР2'!homescore)} -> 37 | AM5: =AK5-AL5 -> -2 | AN5: {=AH5*Options!$B$2+AI5*Options!$B$3+AJ5*Options!$B$4+VLOOKUP(AF5,$E$4:$F$8,2,0)} -> 33 | AO5: =AK5+AM5*10000+AN5*100000000 -> 3299980035
C6: ='ТУР1'!$C$6 -> Ренат И. | D6: Германия | E6: ='ТУР1'!$E$6 -> Slippers | U6: {=INDEX($AF$3:$AF$5,MATCH(LARGE($AO$3:$AO$5-ROW($AO$3:$AO$5)/COUNT($AO$3:$AO$5),ROW(U6)-ROW(U$4)+1),$AO$3:$AO$5-ROW($AO$3:$AO$5)/COUNT($AO$3:$AO$5),0))} -> Adisey95 | V6: {=VLOOKUP($U6,$AF$3:$AN$5,2,0)} -> 28 | W6: {=VLOOKUP($U6,$AF$3:$AN$5,3,0)} -> 6 | X6: {=VLOOKUP($U6,$AF$3:$AN$5,4,0)} -> 14 | Y6: {=VLOOKUP($U6,$AF$3:$AN$5,5,0)} -> 8 | Z6: {=VLOOKUP($U6,$AF$3:$AN$5,6,0)} -> 34 | AA6: {=VLOOKUP($U6,$AF$3:$AN$5,7,0)} -> 36 | AB6: {=VLOOKUP($U6,$AF$3:$AN$5,8,0)} -> -2 | AC6: {=VLOOKUP($U6,$AF$3:$AN$5,9,0)} -> 32
B10: Старт
C11: Команда | D11: Команда | E11: Дом | F11: Гость | G11: Результат | K11: Cчет | N11: PS | S11: PS | T11: № матча | U11: Матч | V11: Счет
B12: 0.45833333 | C12: =TRIM($D$4) -> Финляндия | D12: =TRIM($D$5) -> Чехия | E12: =$E$4 -> Emqa | F12: =$E$5 -> Adisey95 | G12: =SUM(K12) -> 2 | I12: =SUM(L12) -> 2 | K12: 2 | L12: 2 | T12: 157 | U12: =TEXT(B12,"h:mm")&" "&($C$1)&" ("&C12&") "&E12&" "&" - ("&D12&") "&F12&"" -> 11:00 Bullet shot Cup (Финляндия) Emqa - (Чехия) Adisey95 | V12: =TEXT(G12,"0")&":"&TEXT(I12,"0") -> 2:2
B13: 0.46111111 | C13: =TRIM($D$4) -> Финляндия | D13: =TRIM($D$5) -> Чехия | E13: =$E$4 -> Emqa | F13: =$E$5 -> Adisey95 | G13: =SUM(K13) -> 3 | I13: =SUM(L13) -> 1 | K13: 3 | L13: 1 | T13: 158 | U13: =TEXT(B13,"h:mm")&" "&($C$1)&" ("&C13&") "&E13&" "&" - ("&D13&") "&F13&"" -> 11:04 Bullet shot Cup (Финляндия) Emqa - (Чехия) Adisey95 | V13: =TEXT(G13,"0")&":"&TEXT(I13,"0") -> 3:1
B14: 0.46388889 | C14: =TRIM($D$4) -> Финляндия | D14: =TRIM($D$5) -> Чехия | E14: =$E$4 -> Emqa | F14: =$E$5 -> Adisey95 | G14: =SUM(K14) -> 3 | I14: =SUM(L14) -> 1 | K14: 3 | L14: 1 | T14: 159 | U14: =TEXT(B14,"h:mm")&" "&($C$1)&" ("&C14&") "&E14&" "&" - ("&D14&") "&F14&"" -> 11:08 Bullet shot Cup (Финляндия) Emqa - (Чехия) Adisey95 | V14: =TEXT(G14,"0")&":"&TEXT(I14,"0") -> 3:1
B15: 0.46666667 | C15: =TRIM($D$6) -> Германия | D15: =TRIM($D$5) -> Чехия | E15: =$E$6 -> Slippers | F15: =$E$5 -> Adisey95 | G15: =SUM(K15) -> 0 | I15: =SUM(L15) -> 0 | K15: 0 | L15: 0 | T15: 160 | U15: =TEXT(B15,"h:mm")&" "&($C$1)&" ("&C15&") "&E15&" "&" - ("&D15&") "&F15&"" -> 11:12 Bullet shot Cup (Германия) Slippers - (Чехия) Adisey95 | V15: =TEXT(G15,"0")&":"&TEXT(I15,"0") -> 0:0
B16: 0.46944444 | C16: =TRIM($D$6) -> Германия | D16: =TRIM($D$5) -> Чехия | E16: =$E$6 -> Slippers | F16: =$E$5 -> Adisey95 | G16: =SUM(K16) -> 1 | I16: =SUM(L16) -> 1 | K16: 1 | L16: 1 | T16: 161 | U16: =TEXT(B16,"h:mm")&" "&($C$1)&" ("&C16&") "&E16&" "&" - ("&D16&") "&F16&"" -> 11:16 Bullet shot Cup (Германия) Slippers - (Чехия) Adisey95 | V16: =TEXT(G16,"0")&":"&TEXT(I16,"0") -> 1:1
B17: 0.47222222 | C17: =TRIM($D$6) -> Германия | D17: =TRIM($D$5) -> Чехия | E17: =$E$6 -> Slippers | F17: =$E$5 -> Adisey95 | G17: =SUM(K17) -> 2 | I17: =SUM(L17) -> 2 | K17: 2 | L17: 2 | T17: 162 | U17: =TEXT(B17,"h:mm")&" "&($C$1)&" ("&C17&") "&E17&" "&" - ("&D17&") "&F17&"" -> 11:20 Bullet shot Cup (Германия) Slippers - (Чехия) Adisey95 | V17: =TEXT(G17,"0")&":"&TEXT(I17,"0") -> 2:2
B18: 0.475 | C18: =TRIM($D$6) -> Германия | D18: =TRIM($D$4) -> Финляндия | E18: =$E$6 -> Slippers | F18: =$E$4 -> Emqa | G18: =SUM(K18) -> 2 | I18: =SUM(L18) -> 2 | K18: 2 | L18: 2 | T18: 163 | U18: =TEXT(B18,"h:mm")&" "&($C$1)&" ("&C18&") "&E18&" "&" - ("&D18&") "&F18&"" -> 11:24 Bullet shot Cup (Германия) Slippers - (Финляндия) Emqa | V18: =TEXT(G18,"0")&":"&TEXT(I18,"0") -> 2:2
B19: 0.47777778 | C19: =TRIM($D$6) -> Германия | D19: =TRIM($D$4) -> Финляндия | E19: =$E$6 -> Slippers | F19: =$E$4 -> Emqa | G19: =SUM(K19) -> 1 | I19: =SUM(L19,O19) -> 1 | K19: 1 | L19: 1 | T19: 164 | U19: =TEXT(B19,"h:mm")&" "&($C$1)&" ("&C19&") "&E19&" "&" - ("&D19&") "&F19&"" -> 11:28 Bullet shot Cup (Германия) Slippers - (Финляндия) Emqa | V19: =TEXT(G19,"0")&":"&TEXT(I19,"0") -> 1:1
B20: 0.48055556 | C20: =TRIM($D$6) -> Германия | D20: =TRIM($D$4) -> Финляндия | E20: =$E$6 -> Slippers | F20: =$E$4 -> Emqa | G20: =SUM(K20) -> 1 | I20: =SUM(L20,O20) -> 2 | K20: 1 | L20: 2 | T20: 165 | U20: =TEXT(B20,"h:mm")&" "&($C$1)&" ("&C20&") "&E20&" "&" - ("&D20&") "&F20&"" -> 11:32 Bullet shot Cup (Германия) Slippers - (Финляндия) Emqa | V20: =TEXT(G20,"0")&":"&TEXT(I20,"0") -> 1:2
B21: 0.48333333 | C21: =TRIM($D$5) -> Чехия | D21: =TRIM($D$4) -> Финляндия | E21: =$E$5 -> Adisey95 | F21: =$E$4 -> Emqa | G21: =SUM(K21) -> 0 | I21: =SUM(L21,O21) -> 0 | K21: 0 | L21: 0 | T21: 166 | U21: =TEXT(B21,"h:mm")&" "&($C$1)&" ("&C21&") "&E21&" "&" - ("&D21&") "&F21&"" -> 11:36 Bullet shot Cup (Чехия) Adisey95 - (Финляндия) Emqa | V21: =TEXT(G21,"0")&":"&TEXT(I21,"0") -> 0:0
B22: 0.48611111 | C22: =TRIM($D$5) -> Чехия | D22: =TRIM($D$4) -> Финляндия | E22: =$E$5 -> Adisey95 | F22: =$E$4 -> Emqa | G22: =SUM(K22) -> 2 | I22: =SUM(L22,O22) -> 2 | K22: 2 | L22: 2 | T22: 167 | U22: =TEXT(B22,"h:mm")&" "&($C$1)&" ("&C22&") "&E22&" "&" - ("&D22&") "&F22&"" -> 11:40 Bullet shot Cup (Чехия) Adisey95 - (Финляндия) Emqa | V22: =TEXT(G22,"0")&":"&TEXT(I22,"0") -> 2:2
B23: 0.48888889 | C23: =TRIM($D$5) -> Чехия | D23: =TRIM($D$4) -> Финляндия | E23: =$E$5 -> Adisey95 | F23: =$E$4 -> Emqa | G23: =SUM(K23) -> 0 | I23: =SUM(L23,O23) -> 1 | K23: 0 | L23: 1 | T23: 168 | U23: =TEXT(B23,"h:mm")&" "&($C$1)&" ("&C23&") "&E23&" "&" - ("&D23&") "&F23&"" -> 11:44 Bullet shot Cup (Чехия) Adisey95 - (Финляндия) Emqa | V23: =TEXT(G23,"0")&":"&TEXT(I23,"0") -> 0:1
B24: 0.49166667 | C24: =TRIM($D$5) -> Чехия | D24: =TRIM($D$6) -> Германия | E24: =$E$5 -> Adisey95 | F24: =$E$6 -> Slippers | G24: =SUM(K24) -> 2 | I24: =SUM(L24) -> 1 | K24: 2 | L24: 1 | T24: 169 | U24: =TEXT(B24,"h:mm")&" "&($C$1)&" ("&C24&") "&E24&" "&" - ("&D24&") "&F24&"" -> 11:48 Bullet shot Cup (Чехия) Adisey95 - (Германия) Slippers | V24: =TEXT(G24,"0")&":"&TEXT(I24,"0") -> 2:1
B25: 0.49444444 | C25: =TRIM($D$5) -> Чехия | D25: =TRIM($D$6) -> Германия | E25: =$E$5 -> Adisey95 | F25: =$E$6 -> Slippers | G25: =SUM(K25) -> 2 | I25: =SUM(L25) -> 0 | K25: 2 | L25: 0 | T25: 170 | U25: =TEXT(B25,"h:mm")&" "&($C$1)&" ("&C25&") "&E25&" "&" - ("&D25&") "&F25&"" -> 11:52 Bullet shot Cup (Чехия) Adisey95 - (Германия) Slippers | V25: =TEXT(G25,"0")&":"&TEXT(I25,"0") -> 2:0
B26: 0.49722222 | C26: =TRIM($D$5) -> Чехия | D26: =TRIM($D$6) -> Германия | E26: =$E$5 -> Adisey95 | F26: =$E$6 -> Slippers | G26: =SUM(K26) -> 2 | I26: =SUM(L26) -> 2 | K26: 2 | L26: 2 | T26: 171 | U26: =TEXT(B26,"h:mm")&" "&($C$1)&" ("&C26&") "&E26&" "&" - ("&D26&") "&F26&"" -> 11:56 Bullet shot Cup (Чехия) Adisey95 - (Германия) Slippers | V26: =TEXT(G26,"0")&":"&TEXT(I26,"0") -> 2:2
B27: 0.5 | C27: =TRIM($D$4) -> Финляндия | D27: =TRIM($D$6) -> Германия | E27: =$E$4 -> Emqa | F27: =$E$6 -> Slippers | G27: =SUM(K27) -> 1 | I27: =SUM(L27) -> 2 | K27: 1 | L27: 2 | T27: 172 | U27: =TEXT(B27,"h:mm")&" "&($C$1)&" ("&C27&") "&E27&" "&" - ("&D27&") "&F27&"" -> 12:00 Bullet shot Cup (Финляндия) Emqa - (Германия) Slippers | V27: =TEXT(G27,"0")&":"&TEXT(I27,"0") -> 1:2
B28: 0.50277778 | C28: =TRIM($D$4) -> Финляндия | D28: =TRIM($D$6) -> Германия | E28: =$E$4 -> Emqa | F28: =$E$6 -> Slippers | G28: =SUM(K28) -> 1 | I28: =SUM(L28) -> 1 | K28: 1 | L28: 1 | T28: 173 | U28: =TEXT(B28,"h:mm")&" "&($C$1)&" ("&C28&") "&E28&" "&" - ("&D28&") "&F28&"" -> 12:04 Bullet shot Cup (Финляндия) Emqa - (Германия) Slippers | V28: =TEXT(G28,"0")&":"&TEXT(I28,"0") -> 1:1
B29: 0.50555556 | C29: =TRIM($D$4) -> Финляндия | D29: =TRIM($D$6) -> Германия | E29: =$E$4 -> Emqa | F29: =$E$6 -> Slippers | G29: =SUM(K29) -> 1 | I29: =SUM(L29) -> 1 | K29: 1 | L29: 1 | T29: 174 | U29: =TEXT(B29,"h:mm")&" "&($C$1)&" ("&C29&") "&E29&" "&" - ("&D29&") "&F29&"" -> 12:08 Bullet shot Cup (Финляндия) Emqa - (Германия) Slippers | V29: =TEXT(G29,"0")&":"&TEXT(I29,"0") -> 1:1
B30: 0.50833333 | C30: =TRIM($D$4) -> Финляндия | D30: =TRIM($D$5) -> Чехия | E30: =$E$4 -> Emqa | F30: =$E$5 -> Adisey95 | G30: =SUM(K30) -> 2 | I30: =SUM(L30) -> 1 | K30: 2 | L30: 1 | T30: 175 | U30: =TEXT(B30,"h:mm")&" "&($C$1)&" ("&C30&") "&E30&" "&" - ("&D30&") "&F30&"" -> 12:12 Bullet shot Cup (Финляндия) Emqa - (Чехия) Adisey95 | V30: =TEXT(G30,"0")&":"&TEXT(I30,"0") -> 2:1
B31: 0.51111111 | C31: =TRIM($D$4) -> Финляндия | D31: =TRIM($D$5) -> Чехия | E31: =$E$4 -> Emqa | F31: =$E$5 -> Adisey95 | G31: =SUM(K31) -> 1 | I31: =SUM(L31,O31) -> 2 | K31: 1 | L31: 2 | T31: 176 | U31: =TEXT(B31,"h:mm")&" "&($C$1)&" ("&C31&") "&E31&" "&" - ("&D31&") "&F31&"" -> 12:16 Bullet shot Cup (Финляндия) Emqa - (Чехия) Adisey95 | V31: =TEXT(G31,"0")&":"&TEXT(I31,"0") -> 1:2
B32: 0.51388889 | C32: =TRIM($D$4) -> Финляндия | D32: =TRIM($D$5) -> Чехия | E32: =$E$4 -> Emqa | F32: =$E$5 -> Adisey95 | G32: =SUM(K32) -> 2 | I32: =SUM(L32,O32) -> 2 | K32: 2 | L32: 2 | T32: 177 | U32: =TEXT(B32,"h:mm")&" "&($C$1)&" ("&C32&") "&E32&" "&" - ("&D32&") "&F32&"" -> 12:20 Bullet shot Cup (Финляндия) Emqa - (Чехия) Adisey95 | V32: =TEXT(G32,"0")&":"&TEXT(I32,"0") -> 2:2
B33: 0.51666667 | C33: =TRIM($D$6) -> Германия | D33: =TRIM($D$5) -> Чехия | E33: =$E$6 -> Slippers | F33: =$E$5 -> Adisey95 | G33: =SUM(K33) -> 2 | I33: =SUM(L33,O33) -> 2 | K33: 2 | L33: 2 | T33: 178 | U33: =TEXT(B33,"h:mm")&" "&($C$1)&" ("&C33&") "&E33&" "&" - ("&D33&") "&F33&"" -> 12:24 Bullet shot Cup (Германия) Slippers - (Чехия) Adisey95 | V33: =TEXT(G33,"0")&":"&TEXT(I33,"0") -> 2:2
B34: 0.51944444 | C34: =TRIM($D$6) -> Германия | D34: =TRIM($D$5) -> Чехия | E34: =$E$6 -> Slippers | F34: =$E$5 -> Adisey95 | G34: =SUM(K34) -> 1 | I34: =SUM(L34,O34) -> 1 | K34: 1 | L34: 1 | T34: 179 | U34: =TEXT(B34,"h:mm")&" "&($C$1)&" ("&C34&") "&E34&" "&" - ("&D34&") "&F34&"" -> 12:28 Bullet shot Cup (Германия) Slippers - (Чехия) Adisey95 | V34: =TEXT(G34,"0")&":"&TEXT(I34,"0") -> 1:1
B35: 0.52222222 | C35: =TRIM($D$6) -> Германия | D35: =TRIM($D$5) -> Чехия | E35: =$E$6 -> Slippers | F35: =$E$5 -> Adisey95 | G35: =SUM(K35) -> 1 | I35: =SUM(L35,O35) -> 1 | K35: 1 | L35: 1 | T35: 180 | U35: =TEXT(B35,"h:mm")&" "&($C$1)&" ("&C35&") "&E35&" "&" - ("&D35&") "&F35&"" -> 12:32 Bullet shot Cup (Германия) Slippers - (Чехия) Adisey95 | V35: =TEXT(G35,"0")&":"&TEXT(I35,"0") -> 1:1
B36: 0.525 | C36: =TRIM($D$6) -> Германия | D36: =TRIM($D$4) -> Финляндия | E36: =$E$6 -> Slippers | F36: =$E$4 -> Emqa | G36: =SUM(K36) -> 0 | I36: =SUM(L36) -> 1 | K36: 0 | L36: 1 | T36: 181 | U36: =TEXT(B36,"h:mm")&" "&($C$1)&" ("&C36&") "&E36&" "&" - ("&D36&") "&F36&"" -> 12:36 Bullet shot Cup (Германия) Slippers - (Финляндия) Emqa | V36: =TEXT(G36,"0")&":"&TEXT(I36,"0") -> 0:1
B37: 0.52777778 | C37: =TRIM($D$6) -> Германия | D37: =TRIM($D$4) -> Финляндия | E37: =$E$6 -> Slippers | F37: =$E$4 -> Emqa | G37: =SUM(K37) -> 1 | I37: =SUM(L37) -> 1 | K37: 1 | L37: 1 | T37: 182 | U37: =TEXT(B37,"h:mm")&" "&($C$1)&" ("&C37&") "&E37&" "&" - ("&D37&") "&F37&"" -> 12:40 Bullet shot Cup (Германия) Slippers - (Финляндия) Emqa | V37: =TEXT(G37,"0")&":"&TEXT(I37,"0") -> 1:1
B38: 0.53055556 | C38: =TRIM($D$6) -> Германия | D38: =TRIM($D$4) -> Финляндия | E38: =$E$6 -> Slippers | F38: =$E$4 -> Emqa | G38: =SUM(K38) -> 3 | I38: =SUM(L38) -> 1 | K38: 3 | L38: 1 | T38: 183 | U38: =TEXT(B38,"h:mm")&" "&($C$1)&" ("&C38&") "&E38&" "&" - ("&D38&") "&F38&"" -> 12:44 Bullet shot Cup (Германия) Slippers - (Финляндия) Emqa | V38: =TEXT(G38,"0")&":"&TEXT(I38,"0") -> 3:1
B39: 0.53333333 | C39: =TRIM($D$5) -> Чехия | D39: =TRIM($D$4) -> Финляндия | E39: =$E$5 -> Adisey95 | F39: =$E$4 -> Emqa | G39: =SUM(K39) -> 1 | I39: =SUM(L39) -> 1 | K39: 1 | L39: 1 | T39: 184 | U39: =TEXT(B39,"h:mm")&" "&($C$1)&" ("&C39&") "&E39&" "&" - ("&D39&") "&F39&"" -> 12:48 Bullet shot Cup (Чехия) Adisey95 - (Финляндия) Emqa | V39: =TEXT(G39,"0")&":"&TEXT(I39,"0") -> 1:1
B40: 0.53611111 | C40: =TRIM($D$5) -> Чехия | D40: =TRIM($D$4) -> Финляндия | E40: =$E$5 -> Adisey95 | F40: =$E$4 -> Emqa | G40: =SUM(K40) -> 2 | I40: =SUM(L40) -> 0 | K40: 2 | L40: 0 | T40: 185 | U40: =TEXT(B40,"h:mm")&" "&($C$1)&" ("&C40&") "&E40&" "&" - ("&D40&") "&F40&"" -> 12:52 Bullet shot Cup (Чехия) Adisey95 - (Финляндия) Emqa | V40: =TEXT(G40,"0")&":"&TEXT(I40,"0") -> 2:0
B41: 0.53888889 | C41: =TRIM($D$5) -> Чехия | D41: =TRIM($D$4) -> Финляндия | E41: =$E$5 -> Adisey95 | F41: =$E$4 -> Emqa | G41: =SUM(K41) -> 1 | I41: =SUM(L41) -> 1 | K41: 1 | L41: 1 | T41: 186 | U41: =TEXT(B41,"h:mm")&" "&($C$1)&" ("&C41&") "&E41&" "&" - ("&D41&") "&F41&"" -> 12:56 Bullet shot Cup (Чехия) Adisey95 - (Финляндия) Emqa | V41: =TEXT(G41,"0")&":"&TEXT(I41,"0") -> 1:1
B42: 0.54166667 | C42: =TRIM($D$5) -> Чехия | D42: =TRIM($D$6) -> Германия | E42: =$E$5 -> Adisey95 | F42: =$E$6 -> Slippers | G42: =SUM(K42) -> 0 | I42: =SUM(L42) -> 0 | K42: 0 | L42: 0 | T42: 187 | U42: =TEXT(B42,"h:mm")&" "&($C$1)&" ("&C42&") "&E42&" "&" - ("&D42&") "&F42&"" -> 13:00 Bullet shot Cup (Чехия) Adisey95 - (Германия) Slippers | V42: =TEXT(G42,"0")&":"&TEXT(I42,"0") -> 0:0
B43: 0.54444444 | C43: =TRIM($D$5) -> Чехия | D43: =TRIM($D$6) -> Германия | E43: =$E$5 -> Adisey95 | F43: =$E$6 -> Slippers | G43: =SUM(K43) -> 1 | I43: =SUM(L43,O43) -> 2 | K43: 1 | L43: 2 | T43: 188 | U43: =TEXT(B43,"h:mm")&" "&($C$1)&" ("&C43&") "&E43&" "&" - ("&D43&") "&F43&"" -> 13:04 Bullet shot Cup (Чехия) Adisey95 - (Германия) Slippers | V43: =TEXT(G43,"0")&":"&TEXT(I43,"0") -> 1:2
...

Sheet ТУР3
C1: ='ТУР1'!$C$1 -> Bullet shot Cup | E1: ТУР3 | F1: ='ТУР1'!$F$1 -> 45697
U2: =C1 -> Bullet shot Cup | V2: =E1 -> ТУР3 | AA2: =$F$1 -> 45697 | AG2: GP | AH2: W | AI2: D | AJ2: L | AK2: GF | AL2: GA | AM2: GD | AN2: PTS | AO2: rank
C3: Участник | D3: Команда | E3: Никнейм | U3: Никнейм | V3: М | W3: В | X3: Н | Y3: П | Z3: ЗГ | AA3: ПГ | AB3: РГ | AC3: Очки | AF3: =E4 -> rio2k | AG3: {=SUM(($E$12:$E$54=AF3)*(ISNUMBER($G$12:$G$54)),($F$12:$F$54=AF3)*(ISNUMBER($I$12:$I$54)))} -> 28 | AH3: {=SUM(('ТУР3'!home=AF3)*('ТУР3'!homescore>'ТУР3'!visitorscore),('ТУР3'!visitor=AF3)*('ТУР3'!visitorscore>'ТУР3'!homescore))} -> 7 | AI3: {=SUM(('ТУР3'!home=AF3)*('ТУР3'!homescore='ТУР3'!visitorscore)*ISNUMBER('ТУР3'!visitorscore),('ТУР3'!visitor=AF3)*('ТУР3'!visitorscore='ТУР3'!homescore)*ISNUMBER('ТУР3'!homescore))} -> 7 | AJ3: {=SUM(('ТУР3'!home=AF3)*('ТУР3'!homescore<'ТУР3'!visitorscore),('ТУР3'!visitor=AF3)*('ТУР3'!visitorscore<'ТУР3'!homescore))} -> 14 | AK3: {=SUMIF('ТУР3'!home,AF3,'ТУР3'!homescore)+SUMIF('ТУР3'!visitor,AF3,'ТУР3'!visitorscore)} -> 33 | AL3: {=SUMIF('ТУР3'!home,AF3,'ТУР3'!visitorscore)+SUMIF('ТУР3'!visitor,AF3,'ТУР3'!homescore)} -> 44 | AM3: =AK3-AL3 -> -11 | AN3: {=AH3*Options!$B$2+AI3*Options!$B$3+AJ3*Options!$B$4+VLOOKUP(AF3,$E$4:$F$8,2,0)} -> 28 | AO3: =AK3+AM3*10000+AN3*100000000 -> 2799890033
C4: Руслан С. | D4: Швейцария | E4: rio2k | U4: {=INDEX($AF$3:$AF$5,MATCH(LARGE($AO$3:$AO$5-ROW($AO$3:$AO$5)/COUNT($AO$3:$AO$5),ROW(U4)-ROW(U$4)+1),$AO$3:$AO$5-ROW($AO$3:$AO$5)/COUNT($AO$3:$AO$5),0))} -> MBK | V4: {=VLOOKUP($U4,$AF$3:$AN$5,2,0)} -> 28 | W4: {=VLOOKUP($U4,$AF$3:$AN$5,3,0)} -> 16 | X4: {=VLOOKUP($U4,$AF$3:$AN$5,4,0)} -> 6 | Y4: {=VLOOKUP($U4,$AF$3:$AN$5,5,0)} -> 6 | Z4: {=VLOOKUP($U4,$AF$3:$AN$5,6,0)} -> 46 | AA4: {=VLOOKUP($U4,$AF$3:$AN$5,7,0)} -> 31 | AB4: {=VLOOKUP($U4,$AF$3:$AN$5,8,0)} -> 15 | AC4: {=VLOOKUP($U4,$AF$3:$AN$5,9,0)} -> 54 | AF4: =E5 -> MBK | AG4: {=SUM(($E$12:$E$54=AF4)*(ISNUMBER($G$12:$G$54)),($F$12:$F$54=AF4)*(ISNUMBER($I$12:$I$54)))} -> 28 | AH4: {=SUM(('ТУР3'!home=AF4)*('ТУР3'!homescore>'ТУР3'!visitorscore),('ТУР3'!visitor=AF4)*('ТУР3'!visitorscore>'ТУР3'!homescore))} -> 16 | AI4: {=SUM(('ТУР3'!home=AF4)*('ТУР3'!homescore='ТУР3'!visitorscore)*ISNUMBER('ТУР3'!visitorscore),('ТУР3'!visitor=AF4)*('ТУР3'!visitorscore='ТУР3'!homescore)*ISNUMBER('ТУР3'!homescore))} -> 6 | AJ4: {=SUM(('ТУР3'!home=AF4)*('ТУР3'!homescore<'ТУР3'!visitorscore),('ТУР3'!visitor=AF4)*('ТУР3'!visitorscore<'ТУР3'!homescore))} -> 6 | AK4: {=SUMIF('ТУР3'!home,AF4,'ТУР3'!homescore)+SUMIF('ТУР3'!visitor,AF4,'ТУР3'!visitorscore)} -> 46 | AL4: {=SUMIF('ТУР3'!home,AF4,'ТУР3'!visitorscore)+SUMIF('ТУР3'!visitor,AF4,'ТУР3'!homescore)} -> 31 | AM4: =AK4-AL4 -> 15 | AN4: {=AH4*Options!$B$2+AI4*Options!$B$3+AJ4*Options!$B$4+VLOOKUP(AF4,$E$4:$F$8,2,0)} -> 54 | AO4: =AK4+AM4*10000+AN4*100000000 -> 5400150046
C5: Дмитрий П. | D5: Канада | E5: MBK | U5: {=INDEX($AF$3:$AF$5,MATCH(LARGE($AO$3:$AO$5-ROW($AO$3:$AO$5)/COUNT($AO$3:$AO$5),ROW(U5)-ROW(U$4)+1),$AO$3:$AO$5-ROW($AO$3:$AO$5)/COUNT($AO$3:$AO$5),0))} -> Deqim | V5: {=VLOOKUP($U5,$AF$3:$AN$5,2,0)} -> 28 | W5: {=VLOOKUP($U5,$AF$3:$AN$5,3,0)} -> 10 | X5: {=VLOOKUP($U5,$AF$3:$AN$5,4,0)} -> 5 | Y5: {=VLOOKUP($U5,$AF$3:$AN$5,5,0)} -> 13 | Z5: {=VLOOKUP($U5,$AF$3:$AN$5,6,0)} -> 41 | AA5: {=VLOOKUP($U5,$AF$3:$AN$5,7,0)} -> 45 | AB5: {=VLOOKUP($U5,$AF$3:$AN$5,8,0)} -> -4 | AC5: {=VLOOKUP($U5,$AF$3:$AN$5,9,0)} -> 35 | AF5: =E6 -> Deqim | AG5: {=SUM(($E$12:$E$54=AF5)*(ISNUMBER($G$12:$G$54)),($F$12:$F$54=AF5)*(ISNUMBER($I$12:$I$54)))} -> 28 | AH5: {=SUM(('ТУР3'!home=AF5)*('ТУР3'!homescore>'ТУР3'!visitorscore),('ТУР3'!visitor=AF5)*('ТУР3'!visitorscore>'ТУР3'!homescore))} -> 10 | AI5: {=SUM(('ТУР3'!home=AF5)*('ТУР3'!homescore='ТУР3'!visitorscore)*ISNUMBER('ТУР3'!visitorscore),('ТУР3'!visitor=AF5)*('ТУР3'!visitorscore='ТУР3'!homescore)*ISNUMBER('ТУР3'!homescore))} -> 5 | AJ5: {=SUM(('ТУР3'!home=AF5)*('ТУР3'!homescore<'ТУР3'!visitorscore),('ТУР3'!visitor=AF5)*('ТУР3'!visitorscore<'ТУР3'!homescore))} -> 13 | AK5: {=SUMIF('ТУР3'!home,AF5,'ТУР3'!homescore)+SUMIF('ТУР3'!visitor,AF5,'ТУР3'!visitorscore)} -> 41 | AL5: {=SUMIF('ТУР3'!home,AF5,'ТУР3'!visitorscore)+SUMIF('ТУР3'!visitor,AF5,'ТУР3'!homescore)} -> 45 | AM5: =AK5-AL5 -> -4 | AN5: {=AH5*Options!$B$2+AI5*Options!$B$3+AJ5*Options!$B$4+VLOOKUP(AF5,$E$4:$F$8,2,0)} -> 35 | AO5: =AK5+AM5*10000+AN5*100000000 -> 3499960041
C6: Илья Я. | D6: США | E6: Deqim | U6: {=INDEX($AF$3:$AF$5,MATCH(LARGE($AO$3:$AO$5-ROW($AO$3:$AO$5)/COUNT($AO$3:$AO$5),ROW(U6)-ROW(U$4)+1),$AO$3:$AO$5-ROW($AO$3:$AO$5)/COUNT($AO$3:$AO$5),0))} -> rio2k | V6: {=VLOOKUP($U6,$AF$3:$AN$5,2,0)} -> 28 | W6: {=VLOOKUP($U6,$AF$3:$AN$5,3,0)} -> 7 | X6: {=VLOOKUP($U6,$AF$3:$AN$5,4,0)} -> 7 | Y6: {=VLOOKUP($U6,$AF$3:$AN$5,5,0)} -> 14 | Z6: {=VLOOKUP($U6,$AF$3:$AN$5,6,0)} -> 33 | AA6: {=VLOOKUP($U6,$AF$3:$AN$5,7,0)} -> 44 | AB6: {=VLOOKUP($U6,$AF$3:$AN$5,8,0)} -> -11 | AC6: {=VLOOKUP($U6,$AF$3:$AN$5,9,0)} -> 28
B10: Старт
C11: Команда | D11: Команда | E11: Дом | F11: Гость | G11: Результат | K11: Cчет | N11: PS | S11: PS | T11: № матча | U11: Матч | V11: Счет
B12: 0.58333333 | C12: =TRIM($D$4) -> Швейцария | D12: =TRIM($D$5) -> Канада | E12: =$E$4 -> rio2k | F12: =$E$5 -> MBK | G12: =SUM(K12) -> 0 | I12: =SUM(L12) -> 2 | K12: 0 | L12: 2 | T12: 199 | U12: =TEXT(B12,"h:mm")&" "&($C$1)&" ("&C12&") "&E12&" "&" - ("&D12&") "&F12&"" -> 14:00 Bullet shot Cup (Швейцария) rio2k - (Канада) MBK | V12: =TEXT(G12,"0")&":"&TEXT(I12,"0") -> 0:2
B13: 0.58611111 | C13: =TRIM($D$4) -> Швейцария | D13: =TRIM($D$5) -> Канада | E13: =$E$4 -> rio2k | F13: =$E$5 -> MBK | G13: =SUM(K13) -> 2 | I13: =SUM(L13) -> 1 | K13: 2 | L13: 1 | T13: 200 | U13: =TEXT(B13,"h:mm")&" "&($C$1)&" ("&C13&") "&E13&" "&" - ("&D13&") "&F13&"" -> 14:04 Bullet shot Cup (Швейцария) rio2k - (Канада) MBK | V13: =TEXT(G13,"0")&":"&TEXT(I13,"0") -> 2:1
B14: 0.58888889 | C14: =TRIM($D$4) -> Швейцария | D14: =TRIM($D$5) -> Канада | E14: =$E$4 -> rio2k | F14: =$E$5 -> MBK | G14: =SUM(K14) -> 1 | I14: =SUM(L14) -> 2 | K14: 1 | L14: 2 | T14: 201 | U14: =TEXT(B14,"h:mm")&" "&($C$1)&" ("&C14&") "&E14&" "&" - ("&D14&") "&F14&"" -> 14:08 Bullet shot Cup (Швейцария) rio2k - (Канада) MBK | V14: =TEXT(G14,"0")&":"&TEXT(I14,"0") -> 1:2
B15: 0.59166667 | C15: =TRIM($D$6) -> США | D15: =TRIM($D$5) -> Канада | E15: =$E$6 -> Deqim | F15: =$E$5 -> MBK | G15: =SUM(K15) -> 2 | I15: =SUM(L15) -> 2 | K15: 2 | L15: 2 | T15: 202 | U15: =TEXT(B15,"h:mm")&" "&($C$1)&" ("&C15&") "&E15&" "&" - ("&D15&") "&F15&"" -> 14:12 Bullet shot Cup (США) Deqim - (Канада) MBK | V15: =TEXT(G15,"0")&":"&TEXT(I15,"0") -> 2:2
B16: 0.59444444 | C16: =TRIM($D$6) -> США | D16: =TRIM($D$5) -> Канада | E16: =$E$6 -> Deqim | F16: =$E$5 -> MBK | G16: =SUM(K16) -> 2 | I16: =SUM(L16) -> 1 | K16: 2 | L16: 1 | T16: 203 | U16: =TEXT(B16,"h:mm")&" "&($C$1)&" ("&C16&") "&E16&" "&" - ("&D16&") "&F16&"" -> 14:16 Bullet shot Cup (США) Deqim - (Канада) MBK | V16: =TEXT(G16,"0")&":"&TEXT(I16,"0") -> 2:1
B17: 0.59722222 | C17: =TRIM($D$6) -> США | D17: =TRIM($D$5) -> Канада | E17: =$E$6 -> Deqim | F17: =$E$5 -> MBK | G17: =SUM(K17) -> 1 | I17: =SUM(L17) -> 2 | K17: 1 | L17: 2 | T17: 204 | U17: =TEXT(B17,"h:mm")&" "&($C$1)&" ("&C17&") "&E17&" "&" - ("&D17&") "&F17&"" -> 14:20 Bullet shot Cup (США) Deqim - (Канада) MBK | V17: =TEXT(G17,"0")&":"&TEXT(I17,"0") -> 1:2
B18: 0.6 | C18: =TRIM($D$6) -> США | D18: =TRIM($D$4) -> Швейцария | E18: =$E$6 -> Deqim | F18: =$E$4 -> rio2k | G18: =SUM(K18) -> 2 | I18: =SUM(L18) -> 3 | K18: 2 | L18: 3 | T18: 205 | U18: =TEXT(B18,"h:mm")&" "&($C$1)&" ("&C18&") "&E18&" "&" - ("&D18&") "&F18&"" -> 14:24 Bullet shot Cup (США) Deqim - (Швейцария) rio2k | V18: =TEXT(G18,"0")&":"&TEXT(I18,"0") -> 2:3
B19: 0.60277778 | C19: =TRIM($D$6) -> США | D19: =TRIM($D$4) -> Швейцария | E19: =$E$6 -> Deqim | F19: =$E$4 -> rio2k | G19: =SUM(K19) -> 2 | I19: =SUM(L19,O19) -> 2 | K19: 2 | L19: 2 | T19: 206 | U19: =TEXT(B19,"h:mm")&" "&($C$1)&" ("&C19&") "&E19&" "&" - ("&D19&") "&F19&"" -> 14:28 Bullet shot Cup (США) Deqim - (Швейцария) rio2k | V19: =TEXT(G19,"0")&":"&TEXT(I19,"0") -> 2:2
B20: 0.60555556 | C20: =TRIM($D$6) -> США | D20: =TRIM($D$4) -> Швейцария | E20: =$E$6 -> Deqim | F20: =$E$4 -> rio2k | G20: =SUM(K20) -> 1 | I20: =SUM(L20,O20) -> 0 | K20: 1 | L20: 0 | T20: 207 | U20: =TEXT(B20,"h:mm")&" "&($C$1)&" ("&C20&") "&E20&" "&" - ("&D20&") "&F20&"" -> 14:32 Bullet shot Cup (США) Deqim - (Швейцария) rio2k | V20: =TEXT(G20,"0")&":"&TEXT(I20,"0") -> 1:0
B21: 0.60833333 | C21: =TRIM($D$5) -> Канада | D21: =TRIM($D$4) -> Швейцария | E21: =$E$5 -> MBK | F21: =$E$4 -> rio2k | G21: =SUM(K21) -> 2 | I21: =SUM(L21,O21) -> 0 | K21: 2 | L21: 0 | T21: 208 | U21: =TEXT(B21,"h:mm")&" "&($C$1)&" ("&C21&") "&E21&" "&" - ("&D21&") "&F21&"" -> 14:36 Bullet shot Cup (Канада) MBK - (Швейцария) rio2k | V21: =TEXT(G21,"0")&":"&TEXT(I21,"0") -> 2:0
B22: 0.61111111 | C22: =TRIM($D$5) -> Канада | D22: =TRIM($D$4) -> Швейцария | E22: =$E$5 -> MBK | F22: =$E$4 -> rio2k | G22: =SUM(K22) -> 2 | I22: =SUM(L22,O22) -> 1 | K22: 2 | L22: 1 | T22: 209 | U22: =TEXT(B22,"h:mm")&" "&($C$1)&" ("&C22&") "&E22&" "&" - ("&D22&") "&F22&"" -> 14:40 Bullet shot Cup (Канада) MBK - (Швейцария) rio2k | V22: =TEXT(G22,"0")&":"&TEXT(I22,"0") -> 2:1
B23: 0.61388889 | C23: =TRIM($D$5) -> Канада | D23: =TRIM($D$4) -> Швейцария | E23: =$E$5 -> MBK | F23: =$E$4 -> rio2k | G23: =SUM(K23) -> 2 | I23: =SUM(L23,O23) -> 2 | K23: 2 | L23: 2 | T23: 210 | U23: =TEXT(B23,"h:mm")&" "&($C$1)&" ("&C23&") "&E23&" "&" - ("&D23&") "&F23&"" -> 14:44 Bullet shot Cup (Канада) MBK - (Швейцария) rio2k | V23: =TEXT(G23,"0")&":"&TEXT(I23,"0") -> 2:2
B24: 0.61666667 | C24: =TRIM($D$5) -> Канада | D24: =TRIM($D$6) -> США | E24: =$E$5 -> MBK | F24: =$E$6 -> Deqim | G24: =SUM(K24) -> 2 | I24: =SUM(L24) -> 0 | K24: 2 | L24: 0 | T24: 211 | U24: =TEXT(B24,"h:mm")&" "&($C$1)&" ("&C24&") "&E24&" "&" - ("&D24&") "&F24&"" -> 14:48 Bullet shot Cup (Канада) MBK - (США) Deqim | V24: =TEXT(G24,"0")&":"&TEXT(I24,"0") -> 2:0
B25: 0.61944444 | C25: =TRIM($D$5) -> Канада | D25: =TRIM($D$6) -> США | E25: =$E$5 -> MBK | F25: =$E$6 -> Deqim | G25: =SUM(K25) -> 2 | I25: =SUM(L25) -> 2 | K25: 2 | L25: 2 | T25: 212 | U25: =TEXT(B25,"h:mm")&" "&($C$1)&" ("&C25&") "&E25&" "&" - ("&D25&") "&F25&"" -> 14:52 Bullet shot Cup (Канада) MBK - (США) Deqim | V25: =TEXT(G25,"0")&":"&TEXT(I25,"0") -> 2:2
B26: 0.62222222 | C26: =TRIM($D$5) -> Канада | D26: =TRIM($D$6) -> США | E26: =$E$5 -> MBK | F26: =$E$6 -> Deqim | G26: =SUM(K26) -> 2 | I26: =SUM(L26) -> 1 | K26: 2 | L26: 1 | T26: 213 | U26: =TEXT(B26,"h:mm")&" "&($C$1)&" ("&C26&") "&E26&" "&" - ("&D26&") "&F26&"" -> 14:56 Bullet shot Cup (Канада) MBK - (США) Deqim | V26: =TEXT(G26,"0")&":"&TEXT(I26,"0") -> 2:1
B27: 0.625 | C27: =TRIM($D$4) -> Швейцария | D27: =TRIM($D$6) -> США | E27: =$E$4 -> rio2k | F27: =$E$6 -> Deqim | G27: =SUM(K27) -> 3 | I27: =SUM(L27) -> 1 | K27: 3 | L27: 1 | T27: 214 | U27: =TEXT(B27,"h:mm")&" "&($C$1)&" ("&C27&") "&E27&" "&" - ("&D27&") "&F27&"" -> 15:00 Bullet shot Cup (Швейцария) rio2k - (США) Deqim | V27: =TEXT(G27,"0")&":"&TEXT(I27,"0") -> 3:1
B28: 0.62777778 | C28: =TRIM($D$4) -> Швейцария | D28: =TRIM($D$6) -> США | E28: =$E$4 -> rio2k | F28: =$E$6 -> Deqim | G28: =SUM(K28) -> 1 | I28: =SUM(L28) -> 1 | K28: 1 | L28: 1 | T28: 215 | U28: =TEXT(B28,"h:mm")&" "&($C$1)&" ("&C28&") "&E28&" "&" - ("&D28&") "&F28&"" -> 15:04 Bullet shot Cup (Швейцария) rio2k - (США) Deqim | V28: =TEXT(G28,"0")&":"&TEXT(I28,"0") -> 1:1
B29: 0.63055556 | C29: =TRIM($D$4) -> Швейцария | D29: =TRIM($D$6) -> США | E29: =$E$4 -> rio2k | F29: =$E$6 -> Deqim | G29: =SUM(K29) -> 2 | I29: =SUM(L29) -> 3 | K29: 2 | L29: 3 | T29: 216 | U29: =TEXT(B29,"h:mm")&" "&($C$1)&" ("&C29&") "&E29&" "&" - ("&D29&") "&F29&"" -> 15:08 Bullet shot Cup (Швейцария) rio2k - (США) Deqim | V29: =TEXT(G29,"0")&":"&TEXT(I29,"0") -> 2:3
B30: 0.63333333 | C30: =TRIM($D$4) -> Швейцария | D30: =TRIM($D$5) -> Канада | E30: =$E$4 -> rio2k | F30: =$E$5 -> MBK | G30: =SUM(K30) -> 1 | I30: =SUM(L30) -> 1 | K30: 1 | L30: 1 | T30: 217 | U30: =TEXT(B30,"h:mm")&" "&($C$1)&" ("&C30&") "&E30&" "&" - ("&D30&") "&F30&"" -> 15:12 Bullet shot Cup (Швейцария) rio2k - (Канада) MBK | V30: =TEXT(G30,"0")&":"&TEXT(I30,"0") -> 1:1
B31: 0.63611111 | C31: =TRIM($D$4) -> Швейцария | D31: =TRIM($D$5) -> Канада | E31: =$E$4 -> rio2k | F31: =$E$5 -> MBK | G31: =SUM(K31) -> 1 | I31: =SUM(L31,O31) -> 1 | K31: 1 | L31: 1 | T31: 218 | U31: =TEXT(B31,"h:mm")&" "&($C$1)&" ("&C31&") "&E31&" "&" - ("&D31&") "&F31&"" -> 15:16 Bullet shot Cup (Швейцария) rio2k - (Канада) MBK | V31: =TEXT(G31,"0")&":"&TEXT(I31,"0") -> 1:1
B32: 0.63888889 | C32: =TRIM($D$4) -> Швейцария | D32: =TRIM($D$5) -> Канада | E32: =$E$4 -> rio2k | F32: =$E$5 -> MBK | G32: =SUM(K32) -> 1 | I32: =SUM(L32,O32) -> 2 | K32: 1 | L32: 2 | T32: 219 | U32: =TEXT(B32,"h:mm")&" "&($C$1)&" ("&C32&") "&E32&" "&" - ("&D32&") "&F32&"" -> 15:20 Bullet shot Cup (Швейцария) rio2k - (Канада) MBK | V32: =TEXT(G32,"0")&":"&TEXT(I32,"0") -> 1:2
B33: 0.64166667 | C33: =TRIM($D$6) -> США | D33: =TRIM($D$5) -> Канада | E33: =$E$6 -> Deqim | F33: =$E$5 -> MBK | G33: =SUM(K33) -> 2 | I33: =SUM(L33,O33) -> 0 | K33: 2 | L33: 0 | T33: 220 | U33: =TEXT(B33,"h:mm")&" "&($C$1)&" ("&C33&") "&E33&" "&" - ("&D33&") "&F33&"" -> 15:24 Bullet shot Cup (США) Deqim - (Канада) MBK | V33: =TEXT(G33,"0")&":"&TEXT(I33,"0") -> 2:0
B34: 0.64444444 | C34: =TRIM($D$6) -> США | D34: =TRIM($D$5) -> Канада | E34: =$E$6 -> Deqim | F34: =$E$5 -> MBK | G34: =SUM(K34) -> 1 | I34: =SUM(L34,O34) -> 2 | K34: 1 | L34: 2 | T34: 221 | U34: =TEXT(B34,"h:mm")&" "&($C$1)&" ("&C34&") "&E34&" "&" - ("&D34&") "&F34&"" -> 15:28 Bullet shot Cup (США) Deqim - (Канада) MBK | V34: =TEXT(G34,"0")&":"&TEXT(I34,"0") -> 1:2
B35: 0.64722222 | C35: =TRIM($D$6) -> США | D35: =TRIM($D$5) -> Канада | E35: =$E$6 -> Deqim | F35: =$E$5 -> MBK | G35: =SUM(K35) -> 0 | I35: =SUM(L35,O35) -> 1 | K35: 0 | L35: 1 | T35: 222 | U35: =TEXT(B35,"h:mm")&" "&($C$1)&" ("&C35&") "&E35&" "&" - ("&D35&") "&F35&"" -> 15:32 Bullet shot Cup (США) Deqim - (Канада) MBK | V35: =TEXT(G35,"0")&":"&TEXT(I35,"0") -> 0:1
B36: 0.65 | C36: =TRIM($D$6) -> США | D36: =TRIM($D$4) -> Швейцария | E36: =$E$6 -> Deqim | F36: =$E$4 -> rio2k | G36: =SUM(K36) -> 1 | I36: =SUM(L36) -> 2 | K36: 1 | L36: 2 | T36: 223 | U36: =TEXT(B36,"h:mm")&" "&($C$1)&" ("&C36&") "&E36&" "&" - ("&D36&") "&F36&"" -> 15:36 Bullet shot Cup (США) Deqim - (Швейцария) rio2k | V36: =TEXT(G36,"0")&":"&TEXT(I36,"0") -> 1:2
B37: 0.65277778 | C37: =TRIM($D$6) -> США | D37: =TRIM($D$4) -> Швейцария | E37: =$E$6 -> Deqim | F37: =$E$4 -> rio2k | G37: =SUM(K37) -> 0 | I37: =SUM(L37) -> 1 | K37: 0 | L37: 1 | T37: 224 | U37: =TEXT(B37,"h:mm")&" "&($C$1)&" ("&C37&") "&E37&" "&" - ("&D37&") "&F37&"" -> 15:40 Bullet shot Cup (США) Deqim - (Швейцария) rio2k | V37: =TEXT(G37,"0")&":"&TEXT(I37,"0") -> 0:1
B38: 0.65555556 | C38: =TRIM($D$6) -> США | D38: =TRIM($D$4) -> Швейцария | E38: =$E$6 -> Deqim | F38: =$E$4 -> rio2k | G38: =SUM(K38) -> 2 | I38: =SUM(L38) -> 0 | K38: 2 | L38: 0 | T38: 225 | U38: =TEXT(B38,"h:mm")&" "&($C$1)&" ("&C38&") "&E38&" "&" - ("&D38&") "&F38&"" -> 15:44 Bullet shot Cup (США) Deqim - (Швейцария) rio2k | V38: =TEXT(G38,"0")&":"&TEXT(I38,"0") -> 2:0
B39: 0.65833333 | C39: =TRIM($D$5) -> Канада | D39: =TRIM($D$4) -> Швейцария | E39: =$E$5 -> MBK | F39: =$E$4 -> rio2k | G39: =SUM(K39) -> 1 | I39: =SUM(L39) -> 1 | K39: 1 | L39: 1 | T39: 226 | U39: =TEXT(B39,"h:mm")&" "&($C$1)&" ("&C39&") "&E39&" "&" - ("&D39&") "&F39&"" -> 15:48 Bullet shot Cup (Канада) MBK - (Швейцария) rio2k | V39: =TEXT(G39,"0")&":"&TEXT(I39,"0") -> 1:1
B40: 0.66111111 | C40: =TRIM($D$5) -> Канада | D40: =TRIM($D$4) -> Швейцария | E40: =$E$5 -> MBK | F40: =$E$4 -> rio2k | G40: =SUM(K40) -> 2 | I40: =SUM(L40) -> 0 | K40: 2 | L40: 0 | T40: 227 | U40: =TEXT(B40,"h:mm")&" "&($C$1)&" ("&C40&") "&E40&" "&" - ("&D40&") "&F40&"" -> 15:52 Bullet shot Cup (Канада) MBK - (Швейцария) rio2k | V40: =TEXT(G40,"0")&":"&TEXT(I40,"0") -> 2:0
B41: 0.66388889 | C41: =TRIM($D$5) -> Канада | D41: =TRIM($D$4) -> Швейцария | E41: =$E$5 -> MBK | F41: =$E$4 -> rio2k | G41: =SUM(K41) -> 2 | I41: =SUM(L41) -> 0 | K41: 2 | L41: 0 | T41: 228 | U41: =TEXT(B41,"h:mm")&" "&($C$1)&" ("&C41&") "&E41&" "&" - ("&D41&") "&F41&"" -> 15:56 Bullet shot Cup (Канада) MBK - (Швейцария) rio2k | V41: =TEXT(G41,"0")&":"&TEXT(I41,"0") -> 2:0
B42: 0.66666667 | C42: =TRIM($D$5) -> Канада | D42: =TRIM($D$6) -> США | E42: =$E$5 -> MBK | F42: =$E$6 -> Deqim | G42: =SUM(K42) -> 1 | I42: =SUM(L42) -> 2 | K42: 1 | L42: 2 | T42: 229 | U42: =TEXT(B42,"h:mm")&" "&($C$1)&" ("&C42&") "&E42&" "&" - ("&D42&") "&F42&"" -> 16:00 Bullet shot Cup (Канада) MBK - (США) Deqim | V42: =TEXT(G42,"0")&":"&TEXT(I42,"0") -> 1:2
B43: 0.66944444 | C43: =TRIM($D$5) -> Канада | D43: =TRIM($D$6) -> США | E43: =$E$5 -> MBK | F43: =$E$6 -> Deqim | G43: =SUM(K43) -> 3 | I43: =SUM(L43,O43) -> 2 | K43: 3 | L43: 2 | T43: 230 | U43: =TEXT(B43,"h:mm")&" "&($C$1)&" ("&C43&") "&E43&" "&" - ("&D43&") "&F43&"" -> 16:04 Bullet shot Cup (Канада) MBK - (США) Deqim | V43: =TEXT(G43,"0")&":"&TEXT(I43,"0") -> 3:2
...

Sheet ТУР4
C1: ='ТУР1'!$C$1 -> Bullet shot Cup | E1: ТУР4 | F1: ='ТУР1'!$F$1 -> 45697
U2: =C1 -> Bullet shot Cup | V2: =E1 -> ТУР4 | AA2: =$F$1 -> 45697 | AG2: GP | AH2: W | AI2: D | AJ2: L | AK2: GF | AL2: GA | AM2: GD | AN2: PTS | AO2: rank
C3: Участник | D3: Команда | E3: Никнейм | U3: Никнейм | V3: М | W3: В | X3: Н | Y3: П | Z3: ЗГ | AA3: ПГ | AB3: РГ | AC3: Очки | AF3: =E4 -> rio2k | AG3: {=SUM(($E$12:$E$56=AF3)*(ISNUMBER($G$12:$G$56)),($F$12:$F$56=AF3)*(ISNUMBER($I$12:$I$56)))} -> 30 | AH3: {=SUM(('ТУР4'!home=AF3)*('ТУР4'!homescore>'ТУР4'!visitorscore),('ТУР4'!visitor=AF3)*('ТУР4'!visitorscore>'ТУР4'!homescore))} -> 7 | AI3: {=SUM(('ТУР4'!home=AF3)*('ТУР4'!homescore='ТУР4'!visitorscore)*ISNUMBER('ТУР4'!visitorscore),('ТУР4'!visitor=AF3)*('ТУР4'!visitorscore='ТУР4'!homescore)*ISNUMBER('ТУР4'!homescore))} -> 10 | AJ3: {=SUM(('ТУР4'!home=AF3)*('ТУР4'!homescore<'ТУР4'!visitorscore),('ТУР4'!visitor=AF3)*('ТУР4'!visitorscore<'ТУР4'!homescore))} -> 13 | AK3: {=SUMIF('ТУР4'!home,AF3,'ТУР4'!homescore)+SUMIF('ТУР4'!visitor,AF3,'ТУР4'!visitorscore)} -> 35 | AL3: {=SUMIF('ТУР4'!home,AF3,'ТУР4'!visitorscore)+SUMIF('ТУР4'!visitor,AF3,'ТУР4'!homescore)} -> 44 | AM3: =AK3-AL3 -> -9 | AN3: {=AH3*Options!$B$2+AI3*Options!$B$3+AJ3*Options!$B$4+VLOOKUP(AF3,$E$4:$F$8,2,0)} -> 31 | AO3: =AK3+AM3*10000+AN3*100000000 -> 3099910035
C4: ='ТУР3'!$C$4 -> Руслан С. | D4: Швеция | E4: ='ТУР3'!$E$4 -> rio2k | U4: {=INDEX($AF$3:$AF$5,MATCH(LARGE($AO$3:$AO$5-ROW($AO$3:$AO$5)/COUNT($AO$3:$AO$5),ROW(U4)-ROW(U$4)+1),$AO$3:$AO$5-ROW($AO$3:$AO$5)/COUNT($AO$3:$AO$5),0))} -> MBK | V4: {=VLOOKUP($U4,$AF$3:$AN$5,2,0)} -> 30 | W4: {=VLOOKUP($U4,$AF$3:$AN$5,3,0)} -> 17 | X4: {=VLOOKUP($U4,$AF$3:$AN$5,4,0)} -> 9 | Y4: {=VLOOKUP($U4,$AF$3:$AN$5,5,0)} -> 4 | Z4: {=VLOOKUP($U4,$AF$3:$AN$5,6,0)} -> 46 | AA4: {=VLOOKUP($U4,$AF$3:$AN$5,7,0)} -> 27 | AB4: {=VLOOKUP($U4,$AF$3:$AN$5,8,0)} -> 19 | AC4: {=VLOOKUP($U4,$AF$3:$AN$5,9,0)} -> 60 | AF4: =E5 -> MBK | AG4: {=SUM(($E$12:$E$56=AF4)*(ISNUMBER($G$12:$G$56)),($F$12:$F$56=AF4)*(ISNUMBER($I$12:$I$56)))} -> 30 | AH4: {=SUM(('ТУР4'!home=AF4)*('ТУР4'!homescore>'ТУР4'!visitorscore),('ТУР4'!visitor=AF4)*('ТУР4'!visitorscore>'ТУР4'!homescore))} -> 17 | AI4: {=SUM(('ТУР4'!home=AF4)*('ТУР4'!homescore='ТУР4'!visitorscore)*ISNUMBER('ТУР4'!visitorscore),('ТУР4'!visitor=AF4)*('ТУР4'!visitorscore='ТУР4'!homescore)*ISNUMBER('ТУР4'!homescore))} -> 9 | AJ4: {=SUM(('ТУР4'!home=AF4)*('ТУР4'!homescore<'ТУР4'!visitorscore),('ТУР4'!visitor=AF4)*('ТУР4'!visitorscore<'ТУР4'!homescore))} -> 4 | AK4: {=SUMIF('ТУР4'!home,AF4,'ТУР4'!homescore)+SUMIF('ТУР4'!visitor,AF4,'ТУР4'!visitorscore)} -> 46 | AL4: {=SUMIF('ТУР4'!home,AF4,'ТУР4'!visitorscore)+SUMIF('ТУР4'!visitor,AF4,'ТУР4'!homescore)} -> 27 | AM4: =AK4-AL4 -> 19 | AN4: {=AH4*Options!$B$2+AI4*Options!$B$3+AJ4*Options!$B$4+VLOOKUP(AF4,$E$4:$F$8,2,0)} -> 60 | AO4: =AK4+AM4*10000+AN4*100000000 -> 6000190046
C5: ='ТУР3'!$C$5 -> Дмитрий П. | D5: Финляндия | E5: ='ТУР3'!$E$5 -> MBK | U5: {=INDEX($AF$3:$AF$5,MATCH(LARGE($AO$3:$AO$5-ROW($AO$3:$AO$5)/COUNT($AO$3:$AO$5),ROW(U5)-ROW(U$4)+1),$AO$3:$AO$5-ROW($AO$3:$AO$5)/COUNT($AO$3:$AO$5),0))} -> rio2k | V5: {=VLOOKUP($U5,$AF$3:$AN$5,2,0)} -> 30 | W5: {=VLOOKUP($U5,$AF$3:$AN$5,3,0)} -> 7 | X5: {=VLOOKUP($U5,$AF$3:$AN$5,4,0)} -> 10 | Y5: {=VLOOKUP($U5,$AF$3:$AN$5,5,0)} -> 13 | Z5: {=VLOOKUP($U5,$AF$3:$AN$5,6,0)} -> 35 | AA5: {=VLOOKUP($U5,$AF$3:$AN$5,7,0)} -> 44 | AB5: {=VLOOKUP($U5,$AF$3:$AN$5,8,0)} -> -9 | AC5: {=VLOOKUP($U5,$AF$3:$AN$5,9,0)} -> 31 | AF5: =E6 -> Deqim | AG5: {=SUM(($E$12:$E$56=AF5)*(ISNUMBER($G$12:$G$56)),($F$12:$F$56=AF5)*(ISNUMBER($I$12:$I$56)))} -> 30 | AH5: {=SUM(('ТУР4'!home=AF5)*('ТУР4'!homescore>'ТУР4'!visitorscore),('ТУР4'!visitor=AF5)*('ТУР4'!visitorscore>'ТУР4'!homescore))} -> 8 | AI5: {=SUM(('ТУР4'!home=AF5)*('ТУР4'!homescore='ТУР4'!visitorscore)*ISNUMBER('ТУР4'!visitorscore),('ТУР4'!visitor=AF5)*('ТУР4'!visitorscore='ТУР4'!homescore)*ISNUMBER('ТУР4'!homescore))} -> 7 | AJ5: {=SUM(('ТУР4'!home=AF5)*('ТУР4'!homescore<'ТУР4'!visitorscore),('ТУР4'!visitor=AF5)*('ТУР4'!visitorscore<'ТУР4'!homescore))} -> 15 | AK5: {=SUMIF('ТУР4'!home,AF5,'ТУР4'!homescore)+SUMIF('ТУР4'!visitor,AF5,'ТУР4'!visitorscore)} -> 35 | AL5: {=SUMIF('ТУР4'!home,AF5,'ТУР4'!visitorscore)+SUMIF('ТУР4'!visitor,AF5,'ТУР4'!homescore)} -> 45 | AM5: =AK5-AL5 -> -10 | AN5: {=AH5*Options!$B$2+AI5*Options!$B$3+AJ5*Options!$B$4+VLOOKUP(AF5,$E$4:$F$8,2,0)} -> 31 | AO5: =AK5+AM5*10000+AN5*100000000 -> 3099900035
C6: ='ТУР3'!$C$6 -> Илья Я. | D6: Чехия | E6: ='ТУР3'!$E$6 -> Deqim | U6: {=INDEX($AF$3:$AF$5,MATCH(LARGE($AO$3:$AO$5-ROW($AO$3:$AO$5)/COUNT($AO$3:$AO$5),ROW(U6)-ROW(U$4)+1),$AO$3:$AO$5-ROW($AO$3:$AO$5)/COUNT($AO$3:$AO$5),0))} -> Deqim | V6: {=VLOOKUP($U6,$AF$3:$AN$5,2,0)} -> 30 | W6: {=VLOOKUP($U6,$AF$3:$AN$5,3,0)} -> 8 | X6: {=VLOOKUP($U6,$AF$3:$AN$5,4,0)} -> 7 | Y6: {=VLOOKUP($U6,$AF$3:$AN$5,5,0)} -> 15 | Z6: {=VLOOKUP($U6,$AF$3:$AN$5,6,0)} -> 35 | AA6: {=VLOOKUP($U6,$AF$3:$AN$5,7,0)} -> 45 | AB6: {=VLOOKUP($U6,$AF$3:$AN$5,8,0)} -> -10 | AC6: {=VLOOKUP($U6,$AF$3:$AN$5,9,0)} -> 31
B10: Старт
C11: Команда | D11: Команда | E11: Дом | F11: Гость | G11: Результат | K11: Cчет | N11: PS | S11: PS | T11: № матча | U11: Матч | V11: Счет
B12: 0.70833333 | C12: =TRIM($D$4) -> Швеция | D12: =TRIM($D$5) -> Финляндия | E12: =$E$4 -> rio2k | F12: =$E$5 -> MBK | G12: =SUM(K12) -> 0 | I12: =SUM(L12) -> 0 | K12: 0 | L12: 0 | T12: 241 | U12: =TEXT(B12,"h:mm")&" "&($C$1)&" ("&C12&") "&E12&" "&" - ("&D12&") "&F12&"" -> 17:00 Bullet shot Cup (Швеция) rio2k - (Финляндия) MBK | V12: =TEXT(G12,"0")&":"&TEXT(I12,"0") -> 0:0
B13: 0.71111111 | C13: =TRIM($D$4) -> Швеция | D13: =TRIM($D$5) -> Финляндия | E13: =$E$4 -> rio2k | F13: =$E$5 -> MBK | G13: =SUM(K13) -> 1 | I13: =SUM(L13) -> 1 | K13: 1 | L13: 1 | T13: 242 | U13: =TEXT(B13,"h:mm")&" "&($C$1)&" ("&C13&") "&E13&" "&" - ("&D13&") "&F13&"" -> 17:04 Bullet shot Cup (Швеция) rio2k - (Финляндия) MBK | V13: =TEXT(G13,"0")&":"&TEXT(I13,"0") -> 1:1
B14: 0.71388889 | C14: =TRIM($D$4) -> Швеция | D14: =TRIM($D$5) -> Финляндия | E14: =$E$4 -> rio2k | F14: =$E$5 -> MBK | G14: =SUM(K14) -> 1 | I14: =SUM(L14) -> 2 | K14: 1 | L14: 2 | T14: 243 | U14: =TEXT(B14,"h:mm")&" "&($C$1)&" ("&C14&") "&E14&" "&" - ("&D14&") "&F14&"" -> 17:08 Bullet shot Cup (Швеция) rio2k - (Финляндия) MBK | V14: =TEXT(G14,"0")&":"&TEXT(I14,"0") -> 1:2
B15: 0.71666667 | C15: =TRIM($D$6) -> Чехия | D15: =TRIM($D$5) -> Финляндия | E15: =$E$6 -> Deqim | F15: =$E$5 -> MBK | G15: =SUM(K15) -> 3 | I15: =SUM(L15) -> 1 | K15: 3 | L15: 1 | T15: 244 | U15: =TEXT(B15,"h:mm")&" "&($C$1)&" ("&C15&") "&E15&" "&" - ("&D15&") "&F15&"" -> 17:12 Bullet shot Cup (Чехия) Deqim - (Финляндия) MBK | V15: =TEXT(G15,"0")&":"&TEXT(I15,"0") -> 3:1
B16: 0.71944444 | C16: =TRIM($D$6) -> Чехия | D16: =TRIM($D$5) -> Финляндия | E16: =$E$6 -> Deqim | F16: =$E$5 -> MBK | G16: =SUM(K16) -> 1 | I16: =SUM(L16) -> 2 | K16: 1 | L16: 2 | T16: 245 | U16: =TEXT(B16,"h:mm")&" "&($C$1)&" ("&C16&") "&E16&" "&" - ("&D16&") "&F16&"" -> 17:16 Bullet shot Cup (Чехия) Deqim - (Финляндия) MBK | V16: =TEXT(G16,"0")&":"&TEXT(I16,"0") -> 1:2
