Workbook
Name home3: #REF!
Name homescore: 'ТУР3'!$G$12:$G$58
Name visitor: 'ТУР5'!$F$12:$F$58
Name homescore: 'ТУР4'!$G$12:$G$56
Name homescore: 'ТУР6'!$G$12:$G$58
Name visitor2: #REF!
Name visitorscore: 'ТУР1'!$I$12:$I$58
Name visitor: 'ТУР7'!$F$12:$F$58
Name visitorscore: 'ТУР2'!$I$12:$I$58
Name visitor: 'ТУР6'!$F$12:$F$58
Name home: 'ТУР5'!$E$12:$E$58
Name visitor: 'ТУР1'!$F$12:$F$58
Name visitorscore: 'ТУР6'!$I$12:$I$58
Name homescore: 'ТУР8'!$G$12:$G$56
Name visitorscore: 'ТУР8'!$I$12:$I$56
Name home: 'ТУР4'!$E$12:$E$56
Name homescore: 'ТУР5'!$G$12:$G$58
Name home: 'ТУР2'!$E$12:$E$58
Name homescore: 'ТУР1'!$G$12:$G$58
Name home: 'ТУР1'!$E$12:$E$58
Name home2: #REF!
Name visitorscore: 'ТУР3'!$I$12:$I$58
Name home: 'ТУР4'!$E$12:$E$56
Name visitorscore: 'ТУР7'!$I$12:$I$58
Name homescore: 'ТУР2'!$G$12:$G$58
Name homescore3: #REF!
Name homescore2: #REF!
Name home: 'ТУР8'!$E$12:$E$56
Name visitor: 'ТУР4'!$F$12:$F$56
Name home: 'ТУР3'!$E$12:$E$58
Name visitor: 'ТУР8'!$F$12:$F$56
Name visitorscore3: #REF!
Name homescore: 'ТУР7'!$G$12:$G$58
Name visitorscore: 'ТУР5'!$I$12:$I$58
Name visitor: 'ТУР2'!$F$12:$F$58
Name visitorscore2: #REF!
Name home: 'ТУР6'!$E$12:$E$58
Name visitor: 'ТУР3'!$F$12:$F$58
Name visitorscore: 'ТУР4'!$I$12:$I$56
Name visitor3: #REF!
Name home: 'ТУР7'!$E$12:$E$58

Sheet ТУР1
C1: Bullet shot Cup | E1: ТУР1 | F1: 45697
U2: =C1 -> Bullet shot Cup | V2: =E1 -> ТУР1 | AA2: =$F$1 -> 45697 | AG2: GP | AH2: W | AI2: D | AJ2: L | AK2: GF | AL2: GA | AM2: GD | AN2: PTS | AO2: rank
C3: Участник | D3: Команда | E3: Никнейм | U3: Никнейм | V3: М | W3: В | X3: Н | Y3: П | Z3: ЗГ | AA3: ПГ | AB3: РГ | AC3: Очки | AF3: =E4 -> Emqa | AG3: {=SUM(($E$12:$E$54=AF3)*(ISNUMBER($G$12:$G$54)),($F$12:$F$54=AF3)*(ISNUMBER($I$12:$I$54)))} -> 28 | AH3: {=SUM(('ТУР1'!home=AF3)*(homescore>visitorscore),(visitor=AF3)*(visitorscore>homescore))} -> 12 | AI3: {=SUM(('ТУР1'!home=AF3)*(homescore=visitorscore)*ISNUMBER(visitorscore),(visitor=AF3)*(visitorscore=homescore)*ISNUMBER(homescore))} -> 12 | AJ3: {=SUM(('ТУР1'!home=AF3)*(homescore<visitorscore),(visitor=AF3)*(visitorscore<homescore))} -> 4 | AK3: {=SUMIF('ТУР1'!home,AF3,homescore)+SUMIF(visitor,AF3,visitorscore)} -> 40 | AL3: {=SUMIF('ТУР1'!home,AF3,visitorscore)+SUMIF(visitor,AF3,homescore)} -> 26 | AM3: =AK3-AL3 -> 14 | AN3: {=AH3*Options!$B$2+AI3*Options!$B$3+AJ3*Options!$B$4+VLOOKUP(AF3,$E$4:$F$8,2,0)} -> 48 | AO3: =AK3+AM3*10000+AN3*100000000 -> 4800140040
C4: Эмиль С. | D4: Канада | E4: Emqa | U4: {=INDEX($AF$3:$AF$5,MATCH(LARGE($AO$3:$AO$5-ROW($AO$3:$AO$5)/COUNT($AO$3:$AO$5),ROW(U4)-ROW(U$4)+1),$AO$3:$AO$5-ROW($AO$3:$AO$5)/COUNT($AO$3:$AO$5),0))} -> Emqa | V4: {=VLOOKUP($U4,$AF$3:$AN$5,2,0)} -> 28 | W4: {=VLOOKUP($U4,$AF$3:$AN$5,3,0)} -> 12 | X4: {=VLOOKUP($U4,$AF$3:$AN$5,4,0)} -> 12 | Y4: {=VLOOKUP($U4,$AF$3:$AN$5,5,0)} -> 4 | Z4: {=VLOOKUP($U4,$AF$3:$AN$5,6,0)} -> 40 | AA4: {=VLOOKUP($U4,$AF$3:$AN$5,7,0)} -> 26 | AB4: {=VLOOKUP($U4,$AF$3:$AN$5,8,0)} -> 14 | AC4: {=VLOOKUP($U4,$AF$3:$AN$5,9,0)} -> 48 | AF4: =E5 -> Adisey95 | AG4: {=SUM(($E$12:$E$54=AF4)*(ISNUMBER($G$12:$G$54)),($F$12:$F$54=AF4)*(ISNUMBER($I$12:$I$54)))} -> 28 | AH4: {=SUM(('ТУР1'!home=AF4)*(homescore>visitorscore),(visitor=AF4)*(visitorscore>homescore))} -> 8 | AI4: {=SUM(('ТУР1'!home=AF4)*(homescore=visitorscore)*ISNUMBER(visitorscore),(visitor=AF4)*(visitorscore=homescore)*ISNUMBER(homescore))} -> 9 | AJ4: {=SUM(('ТУР1'!home=AF4)*(homescore<visitorscore),(visitor=AF4)*(visitorscore<homescore))} -> 11 | AK4: {=SUMIF('ТУР1'!home,AF4,homescore)+SUMIF(visitor,AF4,visitorscore)} -> 26 | AL4: {=SUMIF('ТУР1'!home,AF4,visitorscore)+SUMIF(visitor,AF4,homescore)} -> 30 | AM4: =AK4-AL4 -> -4 | AN4: {=AH4*Options!$B$2+AI4*Options!$B$3+AJ4*Options!$B$4+VLOOKUP(AF4,$E$4:$F$8,2,0)} -> 33 | AO4: =AK4+AM4*10000+AN4*100000000 -> 3299960026
C5: Адис А. | D5: США | E5: Adisey95 | U5: {=INDEX($AF$3:$AF$5,MATCH(LARGE($AO$3:$AO$5-ROW($AO$3:$AO$5)/COUNT($AO$3:$AO$5),ROW(U5)-ROW(U$4)+1),$AO$3:$AO$5-ROW($AO$3:$AO$5)/COUNT($AO$3:$AO$5),0))} -> Adisey95 | V5: {=VLOOKUP($U5,$AF$3:$AN$5,2,0)} -> 28 | W5: {=VLOOKUP($U5,$AF$3:$AN$5,3,0)} -> 8 | X5: {=VLOOKUP($U5,$AF$3:$AN$5,4,0)} -> 9 | Y5: {=VLOOKUP($U5,$AF$3:$AN$5,5,0)} -> 11 | Z5: {=VLOOKUP($U5,$AF$3:$AN$5,6,0)} -> 26 | AA5: {=VLOOKUP($U5,$AF$3:$AN$5,7,0)} -> 30 | AB5: {=VLOOKUP($U5,$AF$3:$AN$5,8,0)} -> -4 | AC5: {=VLOOKUP($U5,$AF$3:$AN$5,9,0)} -> 33 | AF5: =E6 -> Slippers | AG5: {=SUM(($E$12:$E$54=AF5)*(ISNUMBER($G$12:$G$54)),($F$12:$F$54=AF5)*(ISNUMBER($I$12:$I$54)))} -> 28 | AH5: {=SUM(('ТУР1'!home=AF5)*(homescore>visitorscore),(visitor=AF5)*(visitorscore>homescore))} -> 8 | AI5: {=SUM(('ТУР1'!home=AF5)*(homescore=visitorscore)*ISNUMBER(visitorscore),(visitor=AF5)*(visitorscore=homescore)*ISNUMBER(homescore))} -> 7 | AJ5: {=SUM(('ТУР1'!home=AF5)*(homescore<visitorscore),(visitor=AF5)*(visitorscore<homescore))} -> 13 | AK5: {=SUMIF('ТУР1'!home,AF5,homescore)+SUMIF(visitor,AF5,visitorscore)} -> 27 | AL5: {=SUMIF('ТУР1'!home,AF5,visitorscore)+SUMIF(visitor,AF5,homescore)} -> 37 | AM5: =AK5-AL5 -> -10 | AN5: {=AH5*Options!$B$2+AI5*Options!$B$3+AJ5*Options!$B$4+VLOOKUP(AF5,$E$4:$F$8,2,0)} -> 31 | AO5: =AK5+AM5*10000+AN5*100000000 -> 3099900027
C6: Ренат И. | D6: Швеция | E6: Slippers | U6: {=INDEX($AF$3:$AF$5,MATCH(LARGE($AO$3:$AO$5-ROW($AO$3:$AO$5)/COUNT($AO$3:$AO$5),ROW(U6)-ROW(U$4)+1),$AO$3:$AO$5-ROW($AO$3:$AO$5)/COUNT($AO$3:$AO$5),0))} -> Slippers | V6: {=VLOOKUP($U6,$AF$3:$AN$5,2,0)} -> 28 | W6: {=VLOOKUP($U6,$AF$3:$AN$5,3,0)} -> 8 | X6: {=VLOOKUP($U6,$AF$3:$AN$5,4,0)} -> 7 | Y6: {=VLOOKUP($U6,$AF$3:$AN$5,5,0)} -> 13 | Z6: {=VLOOKUP($U6,$AF$3:$AN$5,6,0)} -> 27 | AA6: {=VLOOKUP($U6,$AF$3:$AN$5,7,0)} -> 37 | AB6: {=VLOOKUP($U6,$AF$3:$AN$5,8,0)} -> -10 | AC6: {=VLOOKUP($U6,$AF$3:$AN$5,9,0)} -> 31
B10: Старт
C11: Команда | D11: Команда | E11: Дом | F11: Гость | G11: Результат | K11: Cчет | N11: PS | S11: PS | T11: № матча | U11: Матч | V11: Счет
B12: 0.33333333 | C12: =TRIM($D$4) -> Канада | D12: =TRIM($D$5) -> США | E12: =$E$4 -> Emqa | F12: =$E$5 -> Adisey95 | G12: =SUM(K12) -> 2 | I12: =SUM(L12) -> 1 | K12: 2 | L12: 1 | T12: 115 | U12: =TEXT(B12,"h:mm")&" "&($C$1)&" ("&C12&") "&E12&" "&" - ("&D12&") "&F12&"" -> 8:00 Bullet shot Cup (Канада) Emqa - (США) Adisey95 | V12: =TEXT(G12,"0")&":"&TEXT(I12,"0") -> 2:1
B13: 0.33611111 | C13: =TRIM($D$4) -> Канада | D13: =TRIM($D$5) -> США | E13: =$E$4 -> Emqa | F13: =$E$5 -> Adisey95 | G13: =SUM(K13) -> 1 | I13: =SUM(L13) -> 1 | K13: 1 | L13: 1 | T13: 116 | U13: =TEXT(B13,"h:mm")&" "&($C$1)&" ("&C13&") "&E13&" "&" - ("&D13&") "&F13&"" -> 8:04 Bullet shot Cup (Канада) Emqa - (США) Adisey95 | V13: =TEXT(G13,"0")&":"&TEXT(I13,"0") -> 1:1
B14: 0.33888889 | C14: =TRIM($D$4) -> Канада | D14: =TRIM($D$5) -> США | E14: =$E$4 -> Emqa | F14: =$E$5 -> Adisey95 | G14: =SUM(K14) -> 1 | I14: =SUM(L14) -> 1 | K14: 1 | L14: 1 | T14: 117 | U14: =TEXT(B14,"h:mm")&" "&($C$1)&" ("&C14&") "&E14&" "&" - ("&D14&") "&F14&"" -> 8:08 Bullet shot Cup (Канада) Emqa - (США) Adisey95 | V14: =TEXT(G14,"0")&":"&TEXT(I14,"0") -> 1:1
B15: 0.34166667 | C15: =TRIM($D$6) -> Швеция | D15: =TRIM($D$5) -> США | E15: =$E$6 -> Slippers | F15: =$E$5 -> Adisey95 | G15: =SUM(K15) -> 0 | I15: =SUM(L15) -> 2 | K15: 0 | L15: 2 | T15: 118 | U15: =TEXT(B15,"h:mm")&" "&($C$1)&" ("&C15&") "&E15&" "&" - ("&D15&") "&F15&"" -> 8:12 Bullet shot Cup (Швеция) Slippers - (США) Adisey95 | V15: =TEXT(G15,"0")&":"&TEXT(I15,"0") -> 0:2
B16: 0.34444444 | C16: =TRIM($D$6) -> Швеция | D16: =TRIM($D$5) -> США | E16: =$E$6 -> Slippers | F16: =$E$5 -> Adisey95 | G16: =SUM(K16) -> 1 | I16: =SUM(L16) -> 0 | K16: 1 | L16: 0 | T16: 119 | U16: =TEXT(B16,"h:mm")&" "&($C$1)&" ("&C16&") "&E16&" "&" - ("&D16&") "&F16&"" -> 8:16 Bullet shot Cup (Швеция) Slippers - (США) Adisey95 | V16: =TEXT(G16,"0")&":"&TEXT(I16,"0") -> 1:0
B17: 0.34722222 | C17: =TRIM($D$6) -> Швеция | D17: =TRIM($D$5) -> США | E17: =$E$6 -> Slippers | F17: =$E$5 -> Adisey95 | G17: =SUM(K17) -> 1 | I17: =SUM(L17) -> 0 | K17: 1 | L17: 0 | T17: 120 | U17: =TEXT(B17,"h:mm")&" "&($C$1)&" ("&C17&") "&E17&" "&" - ("&D17&") "&F17&"" -> 8:20 Bullet shot Cup (Швеция) Slippers - (США) Adisey95 | V17: =TEXT(G17,"0")&":"&TEXT(I17,"0") -> 1:0
B18: 0.35 | C18: =TRIM($D$6) -> Швеция | D18: =TRIM($D$4) -> Канада | E18: =$E$6 -> Slippers | F18: =$E$4 -> Emqa | G18: =SUM(K18) -> 2 | I18: =SUM(L18) -> 0 | K18: 2 | L18: 0 | T18: 121 | U18: =TEXT(B18,"h:mm")&" "&($C$1)&" ("&C18&") "&E18&" "&" - ("&D18&") "&F18&"" -> 8:24 Bullet shot Cup (Швеция) Slippers - (Канада) Emqa | V18: =TEXT(G18,"0")&":"&TEXT(I18,"0") -> 2:0
B19: 0.35277778 | C19: =TRIM($D$6) -> Швеция | D19: =TRIM($D$4) -> Канада | E19: =$E$6 -> Slippers | F19: =$E$4 -> Emqa | G19: =SUM(K19) -> 0 | I19: =SUM(L19,O19) -> 0 | K19: 0 | L19: 0 | T19: 122 | U19: =TEXT(B19,"h:mm")&" "&($C$1)&" ("&C19&") "&E19&" "&" - ("&D19&") "&F19&"" -> 8:28 Bullet shot Cup (Швеция) Slippers - (Канада) Emqa | V19: =TEXT(G19,"0")&":"&TEXT(I19,"0") -> 0:0
B20: 0.35555556 | C20: =TRIM($D$6) -> Швеция | D20: =TRIM($D$4) -> Канада | E20: =$E$6 -> Slippers | F20: =$E$4 -> Emqa | G20: =SUM(K20) -> 2 | I20: =SUM(L20,O20) -> 3 | K20: 2 | L20: 3 | T20: 123 | U20: =TEXT(B20,"h:mm")&" "&($C$1)&" ("&C20&") "&E20&" "&" - ("&D20&") "&F20&"" -> 8:32 Bullet shot Cup (Швеция) Slippers - (Канада) Emqa | V20: =TEXT(G20,"0")&":"&TEXT(I20,"0") -> 2:3
B21: 0.35833333 | C21: =TRIM($D$5) -> США | D21: =TRIM($D$4) -> Канада | E21: =$E$5 -> Adisey95 | F21: =$E$4 -> Emqa | G21: =SUM(K21) -> 2 | I21: =SUM(L21,O21) -> 1 | K21: 2 | L21: 1 | T21: 124 | U21: =TEXT(B21,"h:mm")&" "&($C$1)&" ("&C21&") "&E21&" "&" - ("&D21&") "&F21&"" -> 8:36 Bullet shot Cup (США) Adisey95 - (Канада) Emqa | V21: =TEXT(G21,"0")&":"&TEXT(I21,"0") -> 2:1
B22: 0.36111111 | C22: =TRIM($D$5) -> США | D22: =TRIM($D$4) -> Канада | E22: =$E$5 -> Adisey95 | F22: =$E$4 -> Emqa | G22: =SUM(K22) -> 0 | I22: =SUM(L22,O22) -> 2 | K22: 0 | L22: 2 | T22: 125 | U22: =TEXT(B22,"h:mm")&" "&($C$1)&" ("&C22&") "&E22&" "&" - ("&D22&") "&F22&"" -> 8:40 Bullet shot Cup (США) Adisey95 - (Канада) Emqa | V22: =TEXT(G22,"0")&":"&TEXT(I22,"0") -> 0:2
B23: 0.36388889 | C23: =TRIM($D$5) -> США | D23: =TRIM($D$4) -> Канада | E23: =$E$5 -> Adisey95 | F23: =$E$4 -> Emqa | G23: =SUM(K23) -> 0 | I23: =SUM(L23,O23) -> 1 | K23: 0 | L23: 1 | T23: 126 | U23: =TEXT(B23,"h:mm")&" "&($C$1)&" ("&C23&") "&E23&" "&" - ("&D23&") "&F23&"" -> 8:44 Bullet shot Cup (США) Adisey95 - (Канада) Emqa | V23: =TEXT(G23,"0")&":"&TEXT(I23,"0") -> 0:1
B24: 0.36666667 | C24: =TRIM($D$5) -> США | D24: =TRIM($D$6) -> Швеция | E24: =$E$5 -> Adisey95 | F24: =$E$6 -> Slippers | G24: =SUM(K24) -> 1 | I24: =SUM(L24) -> 2 | K24: 1 | L24: 2 | T24: 127 | U24: =TEXT(B24,"h:mm")&" "&($C$1)&" ("&C24&") "&E24&" "&" - ("&D24&") "&F24&"" -> 8:48 Bullet shot Cup (США) Adisey95 - (Швеция) Slippers | V24: =TEXT(G24,"0")&":"&TEXT(I24,"0") -> 1:2
B25: 0.36944444 | C25: =TRIM($D$5) -> США | D25: =TRIM($D$6) -> Швеция | E25: =$E$5 -> Adisey95 | F25: =$E$6 -> Slippers | G25: =SUM(K25) -> 3 | I25: =SUM(L25) -> 2 | K25: 3 | L25: 2 | T25: 128 | U25: =TEXT(B25,"h:mm")&" "&($C$1)&" ("&C25&") "&E25&" "&" - ("&D25&") "&F25&"" -> 8:52 Bullet shot Cup (США) Adisey95 - (Швеция) Slippers | V25: =TEXT(G25,"0")&":"&TEXT(I25,"0") -> 3:2
B26: 0.37222222 | C26: =TRIM($D$5) -> США | D26: =TRIM($D$6) -> Швеция | E26: =$E$5 -> Adisey95 | F26: =$E$6 -> Slippers | G26: =SUM(K26) -> 1 | I26: =SUM(L26) -> 1 | K26: 1 | L26: 1 | T26: 129 | U26: =TEXT(B26,"h:mm")&" "&($C$1)&" ("&C26&") "&E26&" "&" - ("&D26&") "&F26&"" -> 8:56 Bullet shot Cup (США) Adisey95 - (Швеция) Slippers | V26: =TEXT(G26,"0")&":"&TEXT(I26,"0") -> 1:1
B27: 0.375 | C27: =TRIM($D$4) -> Канада | D27: =TRIM($D$6) -> Швеция | E27: =$E$4 -> Emqa | F27: =$E$6 -> Slippers | G27: =SUM(K27) -> 3 | I27: =SUM(L27) -> 1 | K27: 3 | L27: 1 | T27: 130 | U27: =TEXT(B27,"h:mm")&" "&($C$1)&" ("&C27&") "&E27&" "&" - ("&D27&") "&F27&"" -> 9:00 Bullet shot Cup (Канада) Emqa - (Швеция) Slippers | V27: =TEXT(G27,"0")&":"&TEXT(I27,"0") -> 3:1
B28: 0.37777778 | C28: =TRIM($D$4) -> Канада | D28: =TRIM($D$6) -> Швеция | E28: =$E$4 -> Emqa | F28: =$E$6 -> Slippers | G28: =SUM(K28) -> 1 | I28: =SUM(L28) -> 1 | K28: 1 | L28: 1 | T28: 131 | U28: =TEXT(B28,"h:mm")&" "&($C$1)&" ("&C28&") "&E28&" "&" - ("&D28&") "&F28&"" -> 9:04 Bullet shot Cup (Канада) Emqa - (Швеция) Slippers | V28: =TEXT(G28,"0")&":"&TEXT(I28,"0") -> 1:1
B29: 0.38055556 | C29: =TRIM($D$4) -> Канада | D29: =TRIM($D$6) -> Швеция | E29: =$E$4 -> Emqa | F29: =$E$6 -> Slippers | G29: =SUM(K29) -> 2 | I29: =SUM(L29) -> 0 | K29: 2 | L29: 0 | T29: 132 | U29: =TEXT(B29,"h:mm")&" "&($C$1)&" ("&C29&") "&E29&" "&" - ("&D29&") "&F29&"" -> 9:08 Bullet shot Cup (Канада) Emqa - (Швеция) Slippers | V29: =TEXT(G29,"0")&":"&TEXT(I29,"0") -> 2:0
B30: 0.38333333 | C30: =TRIM($D$4) -> Канада | D30: =TRIM($D$5) -> США | E30: =$E$4 -> Emqa | F30: =$E$5 -> Adisey95 | G30: =SUM(K30) -> 0 | I30: =SUM(L30) -> 0 | K30: 0 | L30: 0 | T30: 133 | U30: =TEXT(B30,"h:mm")&" "&($C$1)&" ("&C30&") "&E30&" "&" - ("&D30&") "&F30&"" -> 9:12 Bullet shot Cup (Канада) Emqa - (США) Adisey95 | V30: =TEXT(G30,"0")&":"&TEXT(I30,"0") -> 0:0
B31: 0.38611111 | C31: =TRIM($D$4) -> Канада | D31: =TRIM($D$5) -> США | E31: =$E$4 -> Emqa | F31: =$E$5 -> Adisey95 | G31: =SUM(K31) -> 2 | I31: =SUM(L31,O31) -> 0 | K31: 2 | L31: 0 | T31: 134 | U31: =TEXT(B31,"h:mm")&" "&($C$1)&" ("&C31&") "&E31&" "&" - ("&D31&") "&F31&"" -> 9:16 Bullet shot Cup (Канада) Emqa - (США) Adisey95 | V31: =TEXT(G31,"0")&":"&TEXT(I31,"0") -> 2:0
B32: 0.38888889 | C32: =TRIM($D$4) -> Канада | D32: =TRIM($D$5) -> США | E32: =$E$4 -> Emqa | F32: =$E$5 -> Adisey95 | G32: =SUM(K32) -> 0 | I32: =SUM(L32,O32) -> 0 | K32: 0 | L32: 0 | T32: 135 | U32: =TEXT(B32,"h:mm")&" "&($C$1)&" ("&C32&") "&E32&" "&" - ("&D32&") "&F32&"" -> 9:20 Bullet shot Cup (Канада) Emqa - (США) Adisey95 | V32: =TEXT(G32,"0")&":"&TEXT(I32,"0") -> 0:0
B33: 0.39166667 | C33: =TRIM($D$6) -> Швеция | D33: =TRIM($D$5) -> США | E33: =$E$6 -> Slippers | F33: =$E$5 -> Adisey95 | G33: =SUM(K33) -> 1 | I33: =SUM(L33,O33) -> 0 | K33: 1 | L33: 0 | T33: 136 | U33: =TEXT(B33,"h:mm")&" "&($C$1)&" ("&C33&") "&E33&" "&" - ("&D33&") "&F33&"" -> 9:24 Bullet shot Cup (Швеция) Slippers - (США) Adisey95 | V33: =TEXT(G33,"0")&":"&TEXT(I33,"0") -> 1:0
B34: 0.39444444 | C34: =TRIM($D$6) -> Швеция | D34: =TRIM($D$5) -> США | E34: =$E$6 -> Slippers | F34: =$E$5 -> Adisey95 | G34: =SUM(K34) -> 2 | I34: =SUM(L34,O34) -> 0 | K34: 2 | L34: 0 | T34: 137 | U34: =TEXT(B34,"h:mm")&" "&($C$1)&" ("&C34&") "&E34&" "&" - ("&D34&") "&F34&"" -> 9:28 Bullet shot Cup (Швеция) Slippers - (США) Adisey95 | V34: =TEXT(G34,"0")&":"&TEXT(I34,"0") -> 2:0
B35: 0.39722222 | C35: =TRIM($D$6) -> Швеция | D35: =TRIM($D$5) -> США | E35: =$E$6 -> Slippers | F35: =$E$5 -> Adisey95 | G35: =SUM(K35) -> 2 | I35: =SUM(L35,O35) -> 1 | K35: 2 | L35: 1 | T35: 138 | U35: =TEXT(B35,"h:mm")&" "&($C$1)&" ("&C35&") "&E35&" "&" - ("&D35&") "&F35&"" -> 9:32 Bullet shot Cup (Швеция) Slippers - (США) Adisey95 | V35: =TEXT(G35,"0")&":"&TEXT(I35,"0") -> 2:1
B36: 0.4 | C36: =TRIM($D$6) -> Швеция | D36: =TRIM($D$4) -> Канада | E36: =$E$6 -> Slippers | F36: =$E$4 -> Emqa | G36: =SUM(K36) -> 0 | I36: =SUM(L36) -> 2 | K36: 0 | L36: 2 | T36: 139 | U36: =TEXT(B36,"h:mm")&" "&($C$1)&" ("&C36&") "&E36&" "&" - ("&D36&") "&F36&"" -> 9:36 Bullet shot Cup (Швеция) Slippers - (Канада) Emqa | V36: =TEXT(G36,"0")&":"&TEXT(I36,"0") -> 0:2
B37: 0.40277778 | C37: =TRIM($D$6) -> Швеция | D37: =TRIM($D$4) -> Канада | E37: =$E$6 -> Slippers | F37: =$E$4 -> Emqa | G37: =SUM(K37) -> 1 | I37: =SUM(L37) -> 0 | K37: 1 | L37: 0 | T37: 140 | U37: =TEXT(B37,"h:mm")&" "&($C$1)&" ("&C37&") "&E37&" "&" - ("&D37&") "&F37&"" -> 9:40 Bullet shot Cup (Швеция) Slippers - (Канада) Emqa | V37: =TEXT(G37,"0")&":"&TEXT(I37,"0") -> 1:0
B38: 0.40555556 | C38: =TRIM($D$6) -> Швеция | D38: =TRIM($D$4) -> Канада | E38: =$E$6 -> Slippers | F38: =$E$4 -> Emqa | G38: =SUM(K38) -> 2 | I38: =SUM(L38) -> 2 | K38: 2 | L38: 2 | T38: 141 | U38: =TEXT(B38,"h:mm")&" "&($C$1)&" ("&C38&") "&E38&" "&" - ("&D38&") "&F38&"" -> 9:44 Bullet shot Cup (Швеция) Slippers - (Канада) Emqa | V38: =TEXT(G38,"0")&":"&TEXT(I38,"0") -> 2:2
B39: 0.40833333 | C39: =TRIM($D$5) -> США | D39: =TRIM($D$4) -> Канада | E39: =$E$5 -> Adisey95 | F39: =$E$4 -> Emqa | G39: =SUM(K39) -> 2 | I39: =SUM(L39) -> 2 | K39: 2 | L39: 2 | T39: 142 | U39: =TEXT(B39,"h:mm")&" "&($C$1)&" ("&C39&") "&E39&" "&" - ("&D39&") "&F39&"" -> 9:48 Bullet shot Cup (США) Adisey95 - (Канада) Emqa | V39: =TEXT(G39,"0")&":"&TEXT(I39,"0") -> 2:2
B40: 0.41111111 | C40: =TRIM($D$5) -> США | D40: =TRIM($D$4) -> Канада | E40: =$E$5 -> Adisey95 | F40: =$E$4 -> Emqa | G40: =SUM(K40) -> 2 | I40: =SUM(L40) -> 2 | K40: 2 | L40: 2 | T40: 143 | U40: =TEXT(B40,"h:mm")&" "&($C$1)&" ("&C40&") "&E40&" "&" - ("&D40&") "&F40&"" -> 9:52 Bullet shot Cup (США) Adisey95 - (Канада) Emqa | V40: =TEXT(G40,"0")&":"&TEXT(I40,"0") -> 2:2
B41: 0.41388889 | C41: =TRIM($D$5) -> США | D41: =TRIM($D$4) -> Канада | E41: =$E$5 -> Adisey95 | F41: =$E$4 -> Emqa | G41: =SUM(K41) -> 0 | I41: =SUM(L41) -> 1 | K41: 0 | L41: 1 | T41: 144 | U41: =TEXT(B41,"h:mm")&" "&($C$1)&" ("&C41&") "&E41&" "&" - ("&D41&") "&F41&"" -> 9:56 Bullet shot Cup (США) Adisey95 - (Канада) Emqa | V41: =TEXT(G41,"0")&":"&TEXT(I41,"0") -> 0:1
B42: 0.41666667 | C42: =TRIM($D$5) -> США | D42: =TRIM($D$6) -> Швеция | E42: =$E$5 -> Adisey95 | F42: =$E$6 -> Slippers | G42: =SUM(K42) -> 1 | I42: =SUM(L42) -> 0 | K42: 1 | L42: 0 | T42: 145 | U42: =TEXT(B42,"h:mm")&" "&($C$1)&" ("&C42&") "&E42&" "&" - ("&D42&") "&F42&"" -> 10:00 Bullet shot Cup (США) Adisey95 - (Швеция) Slippers | V42: =TEXT(G42,"0")&":"&TEXT(I42,"0") -> 1:0
B43: 0.41944444 | C43: =TRIM($D$5) -> США | D43: =TRIM($D$6) -> Швеция | E43: =$E$5 -> Adisey95 | F43: =$E$6 -> Slippers | G43: =SUM(K43) -> 1 | I43: =SUM(L43,O43) -> 1 | K43: 1 | L43: 1 | T43: 146 | U43: =TEXT(B43,"h:mm")&" "&($C$1)&" ("&C43&") "&E43&" "&" - ("&D43&") "&F43&"" -> 10:04 Bullet shot Cup (США) Adisey95 - (Швеция) Slippers | V43: =TEXT(G43,"0")&":"&TEXT(I43,"0") -> 1:1
B44: 0.42222222 | C44: =TRIM($D$5) -> США | D44: =TRIM($D$6) -> Швеция | E44: =$E$5 -> Adisey95 | F44: =$E$6 -> Slippers | G44: =SUM(K44) -> 2 | I44: =SUM(L44,O44) -> 0 | K44: 2 | L44: 0 | T44: 147 | U44: =TEXT(B44,"h:mm")&" "&($C$1)&" ("&C44&") "&E44&" "&" - ("&D44&") "&F44&"" -> 10:08 Bullet shot Cup (США) Adisey95 - (Швеция) Slippers | V44: =TEXT(G44,"0")&":"&TEXT(I44,"0") -> 2:0
B45: 0.425 | C45: =TRIM($D$4) -> Канада | D45: =TRIM($D$6) -> Швеция | E45: =$E$4 -> Emqa | F45: =$E$6 -> Slippers | G45: =SUM(K45) -> 2 | I45: =SUM(L45,O45) -> 2 | K45: 2 | L45: 2 | T45: 148 | U45: =TEXT(B45,"h:mm")&" "&($C$1)&" ("&C45&") "&E45&" "&" - ("&D45&") "&F45&"" -> 10:12 Bullet shot Cup (Канада) Emqa - (Швеция) Slippers | V45: =TEXT(G45,"0")&":"&TEXT(I45,"0") -> 2:2
B46: 0.42777778 | C46: =TRIM($D$4) -> Канада | D46: =TRIM($D$6) -> Швеция | E46: =$E$4 -> Emqa | F46: =$E$6 -> Slippers | G46: =SUM(K46) -> 3 | I46: =SUM(L46,O46) -> 1 | K46: 3 | L46: 1 | T46: 149 | U46: =TEXT(B46,"h:mm")&" "&($C$1)&" ("&C46&") "&E46&" "&" - ("&D46&") "&F46&"" -> 10:16 Bullet shot Cup (Канада) Emqa - (Швеция) Slippers | V46: =TEXT(G46,"0")&":"&TEXT(I46,"0") -> 3:1
B47: 0.43055556 | C47: =TRIM($D$4) -> Канада | D47: =TRIM($D$6) -> Швеция | E47: =$E$4 -> Emqa | F47: =$E$6 -> Slippers | G47: =SUM(K47) -> 2 | I47: =SUM(L47,O47) -> 0 | K47: 2 | L47: 0 | T47: 150 | U47: =TEXT(B47,"h:mm")&" "&($C$1)&" ("&C47&") "&E47&" "&" - ("&D47&") "&F47&"" -> 10:20 Bullet shot Cup (Канада) Emqa - (Швеция) Slippers | V47: =TEXT(G47,"0")&":"&TEXT(I47,"0") -> 2:0
B48: 0.43333333 | C48: =TRIM($D$4) -> Канада | D48: =TRIM($D$5) -> США | E48: =$E$4 -> Emqa | F48: =$E$5 -> Adisey95 | G48: =SUM(K48) -> 0 | I48: =SUM(L48) -> 1 | K48: 0 | L48: 1 | T48: 151 | U48: =TEXT(B48,"h:mm")&" "&($C$1)&" ("&C48&") "&E48&" "&" - ("&D48&") "&F48&"" -> 10:24 Bullet shot Cup (Канада) Emqa - (США) Adisey95 | V48: =TEXT(G48,"0")&":"&TEXT(I48,"0") -> 0:1
B49: 0.43611111 | C49: =TRIM($D$4) -> Канада | D49: =TRIM($D$5) -> США | E49: =$E$4 -> Emqa | F49: =$E$5 -> Adisey95 | G49: =SUM(K49) -> 2 | I49: =SUM(L49,O49) -> 2 | K49: 2 | L49: 2 | T49: 152 | U49: =TEXT(B49,"h:mm")&" "&($C$1)&" ("&C49&") "&E49&" "&" - ("&D49&") "&F49&"" -> 10:28 Bullet shot Cup (Канада) Emqa - (США) Adisey95 | V49: =TEXT(G49,"0")&":"&TEXT(I49,"0") -> 2:2
B50: 0.43888889 | C50: =TRIM($D$6) -> Швеция | D50: =TRIM($D$5) -> США | E50: =$E$6 -> Slippers | F50: =$E$5 -> Adisey95 | G50: =SUM(K50) -> 0 | I50: =SUM(L50,O50) -> 1 | K50: 0 | L50: 1 | T50: 153 | U50: =TEXT(B50,"h:mm")&" "&($C$1)&" ("&C50&") "&E50&" "&" - ("&D50&") "&F50&"" -> 10:32 Bullet shot Cup (Швеция) Slippers - (США) Adisey95 | V50: =TEXT(G50,"0")&":"&TEXT(I50,"0") -> 0:1
B51: 0.44166667 | C51: =TRIM($D$6) -> Швеция | D51: =TRIM($D$5) -> США | E51: =$E$6 -> Slippers | F51: =$E$5 -> Adisey95 | G51: =SUM(K51) -> 0 | I51: =SUM(L51,O51) -> 1 | K51: 0 | L51: 1 | T51: 154 | U51: =TEXT(B51,"h:mm")&" "&($C$1)&" ("&C51&") "&E51&" "&" - ("&D51&") "&F51&"" -> 10:36 Bullet shot Cup (Швеция) Slippers - (США) Adisey95 | V51: =TEXT(G51,"0")&":"&TEXT(I51,"0") -> 0:1
B52: 0.44444444 | C52: =TRIM($D$6) -> Швеция | D52: =TRIM($D$4) -> Канада | E52: =$E$6 -> Slippers | F52: =$E$4 -> Emqa | G52: =SUM(K52) -> 1 | I52: =SUM(L52,O52) -> 1 | K52: 1 | L52: 1 | T52: 155 | U52: =TEXT(B52,"h:mm")&" "&($C$1)&" ("&C52&") "&E52&" "&" - ("&D52&") "&F52&"" -> 10:40 Bullet shot Cup (Швеция) Slippers - (Канада) Emqa | V52: =TEXT(G52,"0")&":"&TEXT(I52,"0") -> 1:1
B53: 0.44722222 | C53: =TRIM($D$6) -> Швеция | D53: =TRIM($D$4) -> Канада | E53: =$E$6 -> Slippers | F53: =$E$4 -> Emqa | G53: =SUM(K53) -> 1 | I53: =SUM(L53,O53) -> 2 | K53: 1 | L53: 2 | T53: 156 | U53: =TEXT(B53,"h:mm")&" "&($C$1)&" ("&C53&") "&E53&" "&" - ("&D53&") "&F53&"" -> 10:44 Bullet shot Cup (Швеция) Slippers - (Канада) Emqa | V53: =TEXT(G53,"0")&":"&TEXT(I53,"0") -> 1:2
C55: Гл.Судья - | F55: Ст.Судья -

Sheet ТУР2
C1: ='ТУР1'!$C$1 -> Bullet shot Cup | E1: ТУР2 | F1: ='ТУР1'!$F$1 -> 45697
U2: =C1 -> Bullet shot Cup | V2: =E1 -> ТУР2 | AA2: =$F$1 -> 45697 | AG2: GP | AH2: W | AI2: D | AJ2: L | AK2: GF | AL2: GA | AM2: GD | AN2: PTS | AO2: rank
C3: Участник | D3: Команда | E3: Никнейм | U3: Никнейм | V3: М | W3: В | X3: Н | Y3: П | Z3: ЗГ | AA3: ПГ | AB3: РГ | AC3: Очки | AF3: =E4 -> Emqa | AG3: {=SUM(($E$12:$E$54=AF3)*(ISNUMBER($G$12:$G$54)),($F$12:$F$54=AF3)*(ISNUMBER($I$12:$I$54)))} -> 28 | AH3: {=SUM(('ТУР1'!home=AF3)*('ТУР2'!homescore>'ТУР2'!visitorscore),('ТУР2'!visitor=AF3)*('ТУР2'!visitorscore>'ТУР2'!homescore))} -> 9 | AI3: {=SUM(('ТУР1'!home=AF3)*('ТУР2'!homescore='ТУР2'!visitorscore)*ISNUMBER('ТУР2'!visitorscore),('ТУР2'!visitor=AF3)*('ТУР2'!visitorscore='ТУР2'!homescore)*ISNUMBER('ТУР2'!homescore))} -> 13 | AJ3: {=SUM(('ТУР1'!home=AF3)*('ТУР2'!homescore<'ТУР2'!visitorscore),('ТУР2'!visitor=AF3)*('ТУР2'!visitorscore<'ТУР2'!homescore))} -> 6 | AK3: {=SUMIF('ТУР1'!home,AF3,'ТУР2'!homescore)+SUMIF('ТУР2'!visitor,AF3,'ТУР2'!visitorscore)} -> 38 | AL3: {=SUMIF('ТУР1'!home,AF3,'ТУР2'!visitorscore)+SUMIF('ТУР2'!visitor,AF3,'ТУР2'!homescore)} -> 34 | AM3: =AK3-AL3 -> 4 | AN3: {=AH3*Options!$B$2+AI3*Options!$B$3+AJ3*Options!$B$4+VLOOKUP(AF3,$E$4:$F$8,2,0)} -> 40 | AO3: =AK3+AM3*10000+AN3*100000000 -> 4000040038
C4: ='ТУР1'!$C$4 -> Эмиль С. | D4: Финляндия | E4: ='ТУР1'!$E$4 -> Emqa | U4: {=INDEX($AF$3:$AF$5,MATCH(LARGE($AO$3:$AO$5-ROW($AO$3:$AO$5)/COUNT($AO$3:$AO$5),ROW(U4)-ROW(U$4)+1),$AO$3:$AO$5-ROW($AO$3:$AO$5)/COUNT($AO$3:$AO$5),0))} -> Emqa | V4: {=VLOOKUP($U4,$AF$3:$AN$5,2,0)} -> 28 | W4: {=VLOOKUP($U4,$AF$3:$AN$5,3,0)} -> 9 | X4: {=VLOOKUP($U4,$AF$3:$AN$5,4,0)} -> 13 | Y4: {=VLOOKUP($U4,$AF$3:$AN$5,5,0)} -> 6 | Z4: {=VLOOKUP($U4,$AF$3:$AN$5,6,0)} -> 38 | AA4: {=VLOOKUP($U4,$AF$3:$AN$5,7,0)} -> 34 | AB4: {=VLOOKUP($U4,$AF$3:$AN$5,8,0)} -> 4 | AC4: {=VLOOKUP($U4,$AF$3:$AN$5,9,0)} -> 40 | AF4: =E5 -> Adisey95 | AG4: {=SUM(($E$12:$E$54=AF4)*(ISNUMBER($G$12:$G$54)),($F$12:$F$54=AF4)*(ISNUMBER($I$12:$I$54)))} -> 28 | AH4: {=SUM(('ТУР1'!home=AF4)*('ТУР2'!homescore>'ТУР2'!visitorscore),('ТУР2'!visitor=AF4)*('ТУР2'!visitorscore>'ТУР2'!homescore))} -> 6 | AI4: {=SUM(('ТУР1'!home=AF4)*('ТУР2'!homescore='ТУР2'!visitorscore)*ISNUMBER('ТУР2'!visitorscore),('ТУР2'!visitor=AF4)*('ТУР2'!visitorscore='ТУР2'!homescore)*ISNUMBER('ТУР2'!homescore))} -> 14 | AJ4: {=SUM(('ТУР1'!home=AF4)*('ТУР2'!homescore<'ТУР2'!visitorscore),('ТУР2'!visitor=AF4)*('ТУР2'!visitorscore<'ТУР2'!homescore))} -> 8 | AK4: {=SUMIF('ТУР1'!home,AF4,'ТУР2'!homescore)+SUMIF('ТУР2'!visitor,AF4,'ТУР2'!visitorscore)} -> 34 | AL4: {=SUMIF('ТУР1'!home,AF4,'ТУР2'!visitorscore)+SUMIF('ТУР2'!visitor,AF4,'ТУР2'!homescore)} -> 36 | AM4: =AK4-AL4 -> -2 | AN4: {=AH4*Options!$B$2+AI4*Options!$B$3+AJ4*Options!$B$4+VLOOKUP(AF4,$E$4:$F$8,2,0)} -> 32 | AO4: =AK4+AM4*10000+AN4*100000000 -> 3199980034
C5: ='ТУР1'!$C$5 -> Адис А. | D5: Чехия | E5: ='ТУР1'!$E$5 -> Adisey95 | U5: {=INDEX($AF$3:$AF$5,MATCH(LARGE($AO$3:$AO$5-ROW($AO$3:$AO$5)/COUNT($AO$3:$AO$5),ROW(U5)-ROW(U$4)+1),$AO$3:$AO$5-ROW($AO$3:$AO$5)/COUNT($AO$3:$AO$5),0))} -> Slippers | V5: {=VLOOKUP($U5,$AF$3:$AN$5,2,0)} -> 28 | W5: {=VLOOKUP($U5,$AF$3:$AN$5,3,0)} -> 6 | X5: {=VLOOKUP($U5,$AF$3:$AN$5,4,0)} -> 15 | Y5: {=VLOOKUP($U5,$AF$3:$AN$5,5,0)} -> 7 | Z5: {=VLOOKUP($U5,$AF$3:$AN$5,6,0)} -> 35 | AA5: {=VLOOKUP($U5,$AF$3:$AN$5,7,0)} -> 37 | AB5: {=VLOOKUP($U5,$AF$3:$AN$5,8,0)} -> -2 | AC5: {=VLOOKUP($U5,$AF$3:$AN$5,9,0)} -> 33 | AF5: =E6 -> Slippers | AG5: {=SUM(($E$12:$E$54=AF5)*(ISNUMBER($G$12:$G$54)),($F$12:$F$54=AF5)*(ISNUMBER($I$12:$I$54)))} -> 28 | AH5: {=SUM(('ТУР1'!home=AF5)*('ТУР2'!homescore>'ТУР2'!visitorscore),('ТУР2'!visitor=AF5)*('ТУР2'!visitorscore>'ТУР2'!homescore))} -> 6 | AI5: {=SUM(('ТУР1'!home=AF5)*('ТУР2'!homescore='ТУР2'!visitorscore)*ISNUMBER('ТУР2'!visitorscore),('ТУР2'!visitor=AF5)*('ТУР2'!visitorscore='ТУР2'!homescore)*ISNUMBER('ТУР2'!homescore))} -> 15 | AJ5: {=SUM(('ТУР1'!home=AF5)*('ТУР2'!homescore<'ТУР2'!visitorscore),('ТУР2'!visitor=AF5)*('ТУР2'!visitorscore<'ТУР2'!homescore))} -> 7 | AK5: {=SUMIF('ТУР1'!home,AF5,'ТУР2'!homescore)+SUMIF('ТУР2'!visitor,AF5,'ТУР2'!visitorscore)} -> 35 | AL5: {=SUMIF('ТУР1'!home,AF5,'ТУР2'!visitorscore)+SUMIF('ТУР2'!visitor,AF5,'ТУР2'!homescore)} -> 37 | AM5: =AK5-AL5 -> -2 | AN5: {=AH5*Options!$B$2+AI5*Options!$B$3+AJ5*Options!$B$4+VLOOKUP(AF5,$E$4:$F$8,2,0)} -> 33 | AO5: =AK5+AM5*10000+AN5*100000000 -> 3299980035
C6: ='ТУР1'!$C$6 -> Ренат И. | D6: Германия | E6: ='ТУР1'!$E$6 -> Slippers | U6: {=INDEX($AF$3:$AF$5,MATCH(LARGE($AO$3:$AO$5-ROW($AO$3:$AO$5)/COUNT($AO$3:$AO$5),ROW(U6)-ROW(U$4)+1),$AO$3:$AO$5-ROW($AO$3:$AO$5)/COUNT($AO$3:$AO$5),0))} -> Adisey95 | V6: {=VLOOKUP($U6,$AF$3:$AN$5,2,0)} -> 28 | W6: {=VLOOKUP($U6,$AF$3:$AN$5,3,0)} -> 6 | X6: {=VLOOKUP($U6,$AF$3:$AN$5,4,0)} -> 14 | Y6: {=VLOOKUP($U6,$AF$3:$AN$5,5,0)} -> 8 | Z6: {=VLOOKUP($U6,$AF$3:$AN$5,6,0)} -> 34 | AA6: {=VLOOKUP($U6,$AF$3:$AN$5,7,0)} -> 36 | AB6: {=VLOOKUP($U6,$AF$3:$AN$5,8,0)} -> -2 | AC6: {=VLOOKUP($U6,$AF$3:$AN$5,9,0)} -> 32
B10: Старт
C11: Команда | D11: Команда | E11: Дом | F11: Гость | G11: Результат | K11: Cчет | N11: PS | S11: PS | T11: № матча | U11: Матч | V11: Счет
B12: 0.45833333 | C12: =TRIM($D$4) -> Финляндия | D12: =TRIM($D$5) -> Чехия | E12: =$E$4 -> Emqa | F12: =$E$5 -> Adisey95 | G12: =SUM(K12) -> 2 | I12: =SUM(L12) -> 2 | K12: 2 | L12: 2 | T12: 157 | U12: =TEXT(B12,"h:mm")&" "&($C$1)&" ("&C12&") "&E12&" "&" - ("&D12&") "&F12&"" -> 11:00 Bullet shot Cup (Финляндия) Emqa - (Чехия) Adisey95 | V12: =TEXT(G12,"0")&":"&TEXT(I12,"0") -> 2:2
B13: 0.46111111 | C13: =TRIM($D$4) -> Финляндия | D13: =TRIM($D$5) -> Чехия | E13: =$E$4 -> Emqa | F13: =$E$5 -> Adisey95 | G13: =SUM(K13) -> 3 | I13: =SUM(L13) -> 1 | K13: 3 | L13: 1 | T13: 158 | U13: =TEXT(B13,"h:mm")&" "&($C$1)&" ("&C13&") "&E13&" "&" - ("&D13&") "&F13&"" -> 11:04 Bullet shot Cup (Финляндия) Emqa - (Чехия) Adisey95 | V13: =TEXT(G13,"0")&":"&TEXT(I13,"0") -> 3:1
B14: 0.46388889 | C14: =TRIM($D$4) -> Финляндия | D14: =TRIM($D$5) -> Чехия | E14: =$E$4 -> Emqa | F14: =$E$5 -> Adisey95 | G14: =SUM(K14) -> 3 | I14: =SUM(L14) -> 1 | K14: 3 | L14: 1 | T14: 159 | U14: =TEXT(B14,"h:mm")&" "&($C$1)&" ("&C14&") "&E14&" "&" - ("&D14&") "&F14&"" -> 11:08 Bullet shot Cup (Финляндия) Emqa - (Чехия) Adisey95 | V14: =TEXT(G14,"0")&":"&TEXT(I14,"0") -> 3:1
B15: 0.46666667 | C15: =TRIM($D$6) -> Германия | D15: =TRIM($D$5) -> Чехия | E15: =$E$6 -> Slippers | F15: =$E$5 -> Adisey95 | G15: =SUM(K15) -> 0 | I15: =SUM(L15) -> 0 | K15: 0 | L15: 0 | T15: 160 | U15: =TEXT(B15,"h:mm")&" "&($C$1)&" ("&C15&") "&E15&" "&" - ("&D15&") "&F15&"" -> 11:12 Bullet shot Cup (Германия) Slippers - (Чехия) Adisey95 | V15: =TEXT(G15,"0")&":"&TEXT(I15,"0") -> 0:0
B16: 0.46944444 | C16: =TRIM($D$6) -> Германия | D16: =TRIM($D$5) -> Чехия | E16: =$E$6 -> Slippers | F16: =$E$5 -> Adisey95 | G16: =SUM(K16) -> 1 | I16: =SUM(L16) -> 1 | K16: 1 | L16: 1 | T16: 161 | U16: =TEXT(B16,"h:mm")&" "&($C$1)&" ("&C16&") "&E16&" "&" - ("&D16&") "&F16&"" -> 11:16 Bullet shot Cup (Германия) Slippers - (Чехия) Adisey95 | V16: =TEXT(G16,"0")&":"&TEXT(I16,"0") -> 1:1
B17: 0.47222222 | C17: =TRIM($D$6) -> Германия | D17: =TRIM($D$5) -> Чехия | E17: =$E$6 -> Slippers | F17: =$E$5 -> Adisey95 | G17: =SUM(K17) -> 2 | I17: =SUM(L17) -> 2 | K17: 2 | L17: 2 | T17: 162 | U17: =TEXT(B17,"h:mm")&" "&($C$1)&" ("&C17&") "&E17&" "&" - ("&D17&") "&F17&"" -> 11:20 Bullet shot Cup (Германия) Slippers - (Чехия) Adisey95 | V17: =TEXT(G17,"0")&":"&TEXT(I17,"0") -> 2:2
B18: 0.475 | C18: =TRIM($D$6) -> Германия | D18: =TRIM($D$4) -> Финляндия | E18: =$E$6 -> Slippers | F18: =$E$4 -> Emqa | G18: =SUM(K18) -> 2 | I18: =SUM(L18) -> 2 | K18: 2 | L18: 2 | T18: 163 | U18: =TEXT(B18,"h:mm")&" "&($C$1)&" ("&C18&") "&E18&" "&" - ("&D18&") "&F18&"" -> 11:24 Bullet shot Cup (Германия) Slippers - (Финляндия) Emqa | V18: =TEXT(G18,"0")&":"&TEXT(I18,"0") -> 2:2
B19: 0.47777778 | C19: =TRIM($D$6) -> Германия | D19: =TRIM($D$4) -> Финляндия | E19: =$E$6 -> Slippers | F19: =$E$4 -> Emqa | G19: =SUM(K19) -> 1 | I19: =SUM(L19,O19) -> 1 | K19: 1 | L19: 1 | T19: 164 | U19: =TEXT(B19,"h:mm")&" "&($C$1)&" ("&C19&") "&E19&" "&" - ("&D19&") "&F19&"" -> 11:28 Bullet shot Cup (Германия) Slippers - (Финляндия) Emqa | V19: =TEXT(G19,"0")&":"&TEXT(I19,"0") -> 1:1
B20: 0.48055556 | C20: =TRIM($D$6) -> Германия | D20: =TRIM($D$4) -> Финляндия | E20: =$E$6 -> Slippers | F20: =$E$4 -> Emqa | G20: =SUM(K20) -> 1 | I20: =SUM(L20,O20) -> 2 | K20: 1 | L20: 2 | T20: 165 | U20: =TEXT(B20,"h:mm")&" "&($C$1)&" ("&C20&") "&E20&" "&" - ("&D20&") "&F20&"" -> 11:32 Bullet shot Cup (Германия) Slippers - (Финляндия) Emqa | V20: =TEXT(G20,"0")&":"&TEXT(I20,"0") -> 1:2
B21: 0.48333333 | C21: =TRIM($D$5) -> Чехия | D21: =TRIM($D$4) -> Финляндия | E21: =$E$5 -> Adisey95 | F21: =$E$4 -> Emqa | G21: =SUM(K21) -> 0 | I21: =SUM(L21,O21) -> 0 | K21: 0 | L21: 0 | T21: 166 | U21: =TEXT(B21,"h:mm")&" "&($C$1)&" ("&C21&") "&E21&" "&" - ("&D21&") "&F21&"" -> 11:36 Bullet shot Cup (Чехия) Adisey95 - (Финляндия) Emqa | V21: =TEXT(G21,"0")&":"&TEXT(I21,"0") -> 0:0
B22: 0.48611111 | C22: =TRIM($D$5) -> Чехия | D22: =TRIM($D$4) -> Финляндия | E22: =$E$5 -> Adisey95 | F22: =$E$4 -> Emqa | G22: =SUM(K22) -> 2 | I22: =SUM(L22,O22) -> 2 | K22: 2 | L22: 2 | T22: 167 | U22: =TEXT(B22,"h:mm")&" "&($C$1)&" ("&C22&") "&E22&" "&" - ("&D22&") "&F22&"" -> 11:40 Bullet shot Cup (Чехия) Adisey95 - (Финляндия) Emqa | V22: =TEXT(G22,"0")&":"&TEXT(I22,"0") -> 2:2
B23: 0.48888889 | C23: =TRIM($D$5) -> Чехия | D23: =TRIM($D$4) -> Финляндия | E23: =$E$5 -> Adisey95 | F23: =$E$4 -> Emqa | G23: =SUM(K23) -> 0 | I23: =SUM(L23,O23) -> 1 | K23: 0 | L23: 1 | T23: 168 | U23: =TEXT(B23,"h:mm")&" "&($C$1)&" ("&C23&") "&E23&" "&" - ("&D23&") "&F23&"" -> 11:44 Bullet shot Cup (Чехия) Adisey95 - (Финляндия) Emqa | V23: =TEXT(G23,"0")&":"&TEXT(I23,"0") -> 0:1
B24: 0.49166667 | C24: =TRIM($D$5) -> Чехия | D24: =TRIM($D$6) -> Германия | E24: =$E$5 -> Adisey95 | F24: =$E$6 -> Slippers | G24: =SUM(K24) -> 2 | I24: =SUM(L24) -> 1 | K24: 2 | L24: 1 | T24: 169 | U24: =TEXT(B24,"h:mm")&" "&($C$1)&" ("&C24&") "&E24&" "&" - ("&D24&") "&F24&"" -> 11:48 Bullet shot Cup (Чехия) Adisey95 - (Германия) Slippers | V24: =TEXT(G24,"0")&":"&TEXT(I24,"0") -> 2:1
B25: 0.49444444 | C25: =TRIM($D$5) -> Чехия | D25: =TRIM($D$6) -> Германия | E25: =$E$5 -> Adisey95 | F25: =$E$6 -> Slippers | G25: =SUM(K25) -> 2 | I25: =SUM(L25) -> 0 | K25: 2 | L25: 0 | T25: 170 | U25: =TEXT(B25,"h:mm")&" "&($C$1)&" ("&C25&") "&E25&" "&" - ("&D25&") "&F25&"" -> 11:52 Bullet shot Cup (Чехия) Adisey95 - (Германия) Slippers | V25: =TEXT(G25,"0")&":"&TEXT(I25,"0") -> 2:0
B26: 0.49722222 | C26: =TRIM($D$5) -> Чехия | D26: =TRIM($D$6) -> Германия | E26: =$E$5 -> Adisey95 | F26: =$E$6 -> Slippers | G26: =SUM(K26) -> 2 | I26: =SUM(L26) -> 2 | K26: 2 | L26: 2 | T26: 171 | U26: =TEXT(B26,"h:mm")&" "&($C$1)&" ("&C26&") "&E26&" "&" - ("&D26&") "&F26&"" -> 11:56 Bullet shot Cup (Чехия) Adisey95 - (Германия) Slippers | V26: =TEXT(G26,"0")&":"&TEXT(I26,"0") -> 2:2
B27: 0.5 | C27: =TRIM($D$4) -> Финляндия | D27: =TRIM($D$6) -> Германия | E27: =$E$4 -> Emqa | F27: =$E$6 -> Slippers | G27: =SUM(K27) -> 1 | I27: =SUM(L27) -> 2 | K27: 1 | L27: 2 | T27: 172 | U27: =TEXT(B27,"h:mm")&" "&($C$1)&" ("&C27&") "&E27&" "&" - ("&D27&") "&F27&"" -> 12:00 Bullet shot Cup (Финляндия) Emqa - (Германия) Slippers | V27: =TEXT(G27,"0")&":"&TEXT(I27,"0") -> 1:2
B28: 0.50277778 | C28: =TRIM($D$4) -> Финляндия | D28: =TRIM($D$6) -> Германия | E28: =$E$4 -> Emqa | F28: =$E$6 -> Slippers | G28: =SUM(K28) -> 1 | I28: =SUM(L28) -> 1 | K28: 1 | L28: 1 | T28: 173 | U28: =TEXT(B28,"h:mm")&" "&($C$1)&" ("&C28&") "&E28&" "&" - ("&D28&") "&F28&"" -> 12:04 Bullet shot Cup (Финляндия) Emqa - (Германия) Slippers | V28: =TEXT(G28,"0")&":"&TEXT(I28,"0") -> 1:1
B29: 0.50555556 | C29: =TRIM($D$4) -> Финляндия | D29: =TRIM($D$6) -> Германия | E29: =$E$4 -> Emqa | F29: =$E$6 -> Slippers | G29: =SUM(K29) -> 1 | I29: =SUM(L29) -> 1 | K29: 1 | L29: 1 | T29: 174 | U29: =TEXT(B29,"h:mm")&" "&($C$1)&" ("&C29&") "&E29&" "&" - ("&D29&") "&F29&"" -> 12:08 Bullet shot Cup (Финляндия) Emqa - (Германия) Slippers | V29: =TEXT(G29,"0")&":"&TEXT(I29,"0") -> 1:1
B30: 0.50833333 | C30: =TRIM($D$4) -> Финляндия | D30: =TRIM($D$5) -> Чехия | E30: =$E$4 -> Emqa | F30: =$E$5 -> Adisey95 | G30: =SUM(K30) -> 2 | I30: =SUM(L30) -> 1 | K30: 2 | L30: 1 | T30: 175 | U30: =TEXT(B30,"h:mm")&" "&($C$1)&" ("&C30&") "&E30&" "&" - ("&D30&") "&F30&"" -> 12:12 Bullet shot Cup (Финляндия) Emqa - (Чехия) Adisey95 | V30: =TEXT(G30,"0")&":"&TEXT(I30,"0") -> 2:1
B31: 0.51111111 | C31: =TRIM($D$4) -> Финляндия | D31: =TRIM($D$5) -> Чехия | E31: =$E$4 -> Emqa | F31: =$E$5 -> Adisey95 | G31: =SUM(K31) -> 1 | I31: =SUM(L31,O31) -> 2 | K31: 1 | L31: 2 | T31: 176 | U31: =TEXT(B31,"h:mm")&" "&($C$1)&" ("&C31&") "&E31&" "&" - ("&D31&") "&F31&"" -> 12:16 Bullet shot Cup (Финляндия) Emqa - (Чехия) Adisey95 | V31: =TEXT(G31,"0")&":"&TEXT(I31,"0") -> 1:2
B32: 0.51388889 | C32: =TRIM($D$4) -> Финляндия | D32: =TRIM($D$5) -> Чехия | E32: =$E$4 -> Emqa | F32: =$E$5 -> Adisey95 | G32: =SUM(K32) -> 2 | I32: =SUM(L32,O32) -> 2 | K32: 2 | L32: 2 | T32: 177 | U32: =TEXT(B32,"h:mm")&" "&($C$1)&" ("&C32&") "&E32&" "&" - ("&D32&") "&F32&"" -> 12:20 Bullet shot Cup (Финляндия) Emqa - (Чехия) Adisey95 | V32: =TEXT(G32,"0")&":"&TEXT(I32,"0") -> 2:2
B33: 0.51666667 | C33: =TRIM($D$6) -> Германия | D33: =TRIM($D$5) -> Чехия | E33: =$E$6 -> Slippers | F33: =$E$5 -> Adisey95 | G33: =SUM(K33) -> 2 | I33: =SUM(L33,O33) -> 2 | K33: 2 | L33: 2 | T33: 178 | U33: =TEXT(B33,"h:mm")&" "&($C$1)&" ("&C33&") "&E33&" "&" - ("&D33&") "&F33&"" -> 12:24 Bullet shot Cup (Германия) Slippers - (Чехия) Adisey95 | V33: =TEXT(G33,"0")&":"&TEXT(I33,"0") -> 2:2
B34: 0.51944444 | C34: =TRIM($D$6) -> Германия | D34: =TRIM($D$5) -> Чехия | E34: =$E$6 -> Slippers | F34: =$E$5 -> Adisey95 | G34: =SUM(K34) -> 1 | I34: =SUM(L34,O34) -> 1 | K34: 1 | L34: 1 | T34: 179 | U34: =TEXT(B34,"h:mm")&" "&($C$1)&" ("&C34&") "&E34&" "&" - ("&D34&") "&F34&"" -> 12:28 Bullet shot Cup (Германия) Slippers - (Чехия) Adisey95 | V34: =TEXT(G34,"0")&":"&TEXT(I34,"0") -> 1:1
B35: 0.52222222 | C35: =TRIM($D$6) -> Германия | D35: =TRIM($D$5) -> Чехия | E35: =$E$6 -> Slippers | F35: =$E$5 -> Adisey95 | G35: =SUM(K35) -> 1 | I35: =SUM(L35,O35) -> 1 | K35: 1 | L35: 1 | T35: 180 | U35: =TEXT(B35,"h:mm")&" "&($C$1)&" ("&C35&") "&E35&" "&" - ("&D35&") "&F35&"" -> 12:32 Bullet shot Cup (Германия) Slippers - (Чехия) Adisey95 | V35: =TEXT(G35,"0")&":"&TEXT(I35,"0") -> 1:1
B36: 0.525 | C36: =TRIM($D$6) -> Германия | D36: =TRIM($D$4) -> Финляндия | E36: =$E$6 -> Slippers | F36: =$E$4 -> Emqa | G36: =SUM(K36) -> 0 | I36: =SUM(L36) -> 1 | K36: 0 | L36: 1 | T36: 181 | U36: =TEXT(B36,"h:mm")&" "&($C$1)&" ("&C36&") "&E36&" "&" - ("&D36&") "&F36&"" -> 12:36 Bullet shot Cup (Германия) Slippers - (Финляндия) Emqa | V36: =TEXT(G36,"0")&":"&TEXT(I36,"0") -> 0:1
B37: 0.52777778 | C37: =TRIM($D$6) -> Германия | D37: =TRIM($D$4) -> Финляндия | E37: =$E$6 -> Slippers | F37: =$E$4 -> Emqa | G37: =SUM(K37) -> 1 | I37: =SUM(L37) -> 1 | K37: 1 | L37: 1 | T37: 182 | U37: =TEXT(B37,"h:mm")&" "&($C$1)&" ("&C37&") "&E37&" "&" - ("&D37&") "&F37&"" -> 12:40 Bullet shot Cup (Германия) Slippers - (Финляндия) Emqa | V37: =TEXT(G37,"0")&":"&TEXT(I37,"0") -> 1:1
B38: 0.53055556 | C38: =TRIM($D$6) -> Германия | D38: =TRIM($D$4) -> Финляндия | E38: =$E$6 -> Slippers | F38: =$E$4 -> Emqa | G38: =SUM(K38) -> 3 | I38: =SUM(L38) -> 1 | K38: 3 | L38: 1 | T38: 183 | U38: =TEXT(B38,"h:mm")&" "&($C$1)&" ("&C38&") "&E38&" "&" - ("&D38&") "&F38&"" -> 12:44 Bullet shot Cup (Германия) Slippers - (Финляндия) Emqa | V38: =TEXT(G38,"0")&":"&TEXT(I38,"0") -> 3:1
B39: 0.53333333 | C39: =TRIM($D$5) -> Чехия | D39: =TRIM($D$4) -> Финляндия | E39: =$E$5 -> Adisey95 | F39: =$E$4 -> Emqa | G39: =SUM(K39) -> 1 | I39: =SUM(L39) -> 1 | K39: 1 | L39: 1 | T39: 184 | U39: =TEXT(B39,"h:mm")&" "&($C$1)&" ("&C39&") "&E39&" "&" - ("&D39&") "&F39&"" -> 12:48 Bullet shot Cup (Чехия) Adisey95 - (Финляндия) Emqa | V39: =TEXT(G39,"0")&":"&TEXT(I39,"0") -> 1:1
B40: 0.53611111 | C40: =TRIM($D$5) -> Чехия | D40: =TRIM($D$4) -> Финляндия | E40: =$E$5 -> Adisey95 | F40: =$E$4 -> Emqa | G40: =SUM(K40) -> 2 | I40: =SUM(L40) -> 0 | K40: 2 | L40: 0 | T40: 185 | U40: =TEXT(B40,"h:mm")&" "&($C$1)&" ("&C40&") "&E40&" "&" - ("&D40&") "&F40&"" -> 12:52 Bullet shot Cup (Чехия) Adisey95 - (Финляндия) Emqa | V40: =TEXT(G40,"0")&":"&TEXT(I40,"0") -> 2:0
B41: 0.53888889 | C41: =TRIM($D$5) -> Чехия | D41: =TRIM($D$4) -> Финляндия | E41: =$E$5 -> Adisey95 | F41: =$E$4 -> Emqa | G41: =SUM(K41) -> 1 | I41: =SUM(L41) -> 1 | K41: 1 | L41: 1 | T41: 186 | U41: =TEXT(B41,"h:mm")&" "&($C$1)&" ("&C41&") "&E41&" "&" - ("&D41&") "&F41&"" -> 12:56 Bullet shot Cup (Чехия) Adisey95 - (Финляндия) Emqa | V41: =TEXT(G41,"0")&":"&TEXT(I41,"0") -> 1:1
B42: 0.54166667 | C42: =TRIM($D$5) -> Чехия | D42: =TRIM($D$6) -> Германия | E42: =$E$5 -> Adisey95 | F42: =$E$6 -> Slippers | G42: =SUM(K42) -> 0 | I42: =SUM(L42) -> 0 | K42: 0 | L42: 0 | T42: 187 | U42: =TEXT(B42,"h:mm")&" "&($C$1)&" ("&C42&") "&E42&" "&" - ("&D42&") "&F42&"" -> 13:00 Bullet shot Cup (Чехия) Adisey95 - (Германия) Slippers | V42: =TEXT(G42,"0")&":"&TEXT(I42,"0") -> 0:0
B43: 0.54444444 | C43: =TRIM($D$5) -> Чехия | D43: =TRIM($D$6) -> Германия | E43: =$E$5 -> Adisey95 | F43: =$E$6 -> Slippers | G43: =SUM(K43) -> 1 | I43: =SUM(L43,O43) -> 2 | K43: 1 | L43: 2 | T43: 188 | U43: =TEXT(B43,"h:mm")&" "&($C$1)&" ("&C43&") "&E43&" "&" - ("&D43&") "&F43&"" -> 13:04 Bullet shot Cup (Чехия) Adisey95 - (Германия) Slippers | V43: =TEXT(G43,"0")&":"&TEXT(I43,"0") -> 1:2
B44: 0.54722222 | C44: =TRIM($D$5) -> Чехия | D44: =TRIM($D$6) -> Германия | E44: =$E$5 -> Adisey95 | F44: =$E$6 -> Slippers | G44: =SUM(K44) -> 2 | I44: =SUM(L44,O44) -> 3 | K44: 2 | L44: 3 | T44: 189 | U44: =TEXT(B44,"h:mm")&" "&($C$1)&" ("&C44&") "&E44&" "&" - ("&D44&") "&F44&"" -> 13:08 Bullet shot Cup (Чехия) Adisey95 - (Германия) Slippers | V44: =TEXT(G44,"0")&":"&TEXT(I44,"0") -> 2:3
B45: 0.55 | C45: =TRIM($D$4) -> Финляндия | D45: =TRIM($D$6) -> Германия | E45: =$E$4 -> Emqa | F45: =$E$6 -> Slippers | G45: =SUM(K45) -> 2 | I45: =SUM(L45,O45) -> 1 | K45: 2 | L45: 1 | T45: 190 | U45: =TEXT(B45,"h:mm")&" "&($C$1)&" ("&C45&") "&E45&" "&" - ("&D45&") "&F45&"" -> 13:12 Bullet shot Cup (Финляндия) Emqa - (Германия) Slippers | V45: =TEXT(G45,"0")&":"&TEXT(I45,"0") -> 2:1
B46: 0.55277778 | C46: =TRIM($D$4) -> Финляндия | D46: =TRIM($D$6) -> Германия | E46: =$E$4 -> Emqa | F46: =$E$6 -> Slippers | G46: =SUM(K46) -> 0 | I46: =SUM(L46,O46) -> 1 | K46: 0 | L46: 1 | T46: 191 | U46: =TEXT(B46,"h:mm")&" "&($C$1)&" ("&C46&") "&E46&" "&" - ("&D46&") "&F46&"" -> 13:16 Bullet shot Cup (Финляндия) Emqa - (Германия) Slippers | V46: =TEXT(G46,"0")&":"&TEXT(I46,"0") -> 0:1
B47: 0.55555556 | C47: =TRIM($D$4) -> Финляндия | D47: =TRIM($D$6) -> Германия | E47: =$E$4 -> Emqa | F47: =$E$6 -> Slippers | G47: =SUM(K47) -> 3 | I47: =SUM(L47,O47) -> 1 | K47: 3 | L47: 1 | T47: 192 | U47: =TEXT(B47,"h:mm")&" "&($C$1)&" ("&C47&") "&E47&" "&" - ("&D47&") "&F47&"" -> 13:20 Bullet shot Cup (Финляндия) Emqa - (Германия) Slippers | V47: =TEXT(G47,"0")&":"&TEXT(I47,"0") -> 3:1
B48: 0.55833333 | C48: =TRIM($D$4) -> Финляндия | D48: =TRIM($D$5) -> Чехия | E48: =$E$4 -> Emqa | F48: =$E$5 -> Adisey95 | G48: =SUM(K48) -> 1 | I48: =SUM(L48) -> 0 | K48: 1 | L48: 0 | T48: 193 | U48: =TEXT(B48,"h:mm")&" "&($C$1)&" ("&C48&") "&E48&" "&" - ("&D48&") "&F48&"" -> 13:24 Bullet shot Cup (Финляндия) Emqa - (Чехия) Adisey95 | V48: =TEXT(G48,"0")&":"&TEXT(I48,"0") -> 1:0
B49: 0.56111111 | C49: =TRIM($D$4) -> Финляндия | D49: =TRIM($D$5) -> Чехия | E49: =$E$4 -> Emqa | F49: =$E$5 -> Adisey95 | G49: =SUM(K49) -> 0 | I49: =SUM(L49,O49) -> 1 | K49: 0 | L49: 1 | T49: 194 | U49: =TEXT(B49,"h:mm")&" "&($C$1)&" ("&C49&") "&E49&" "&" - ("&D49&") "&F49&"" -> 13:28 Bullet shot Cup (Финляндия) Emqa - (Чехия) Adisey95 | V49: =TEXT(G49,"0")&":"&TEXT(I49,"0") -> 0:1
B50: 0.56388889 | C50: =TRIM($D$6) -> Германия | D50: =TRIM($D$5) -> Чехия | E50: =$E$6 -> Slippers | F50: =$E$5 -> Adisey95 | G50: =SUM(K50) -> 0 | I50: =SUM(L50,O50) -> 2 | K50: 0 | L50: 2 | T50: 195 | U50: =TEXT(B50,"h:mm")&" "&($C$1)&" ("&C50&") "&E50&" "&" - ("&D50&") "&F50&"" -> 13:32 Bullet shot Cup (Германия) Slippers - (Чехия) Adisey95 | V50: =TEXT(G50,"0")&":"&TEXT(I50,"0") -> 0:2
B51: 0.56666667 | C51: =TRIM($D$6) -> Германия | D51: =TRIM($D$5) -> Чехия | E51: =$E$6 -> Slippers | F51: =$E$5 -> Adisey95 | G51: =SUM(K51) -> 2 | I51: =SUM(L51,O51) -> 0 | K51: 2 | L51: 0 | T51: 196 | U51: =TEXT(B51,"h:mm")&" "&($C$1)&" ("&C51&") "&E51&" "&" - ("&D51&") "&F51&"" -> 13:36 Bullet shot Cup (Германия) Slippers - (Чехия) Adisey95 | V51: =TEXT(G51,"0")&":"&TEXT(I51,"0") -> 2:0
B52: 0.56944444 | C52: =TRIM($D$6) -> Германия | D52: =TRIM($D$4) -> Финляндия | E52: =$E$6 -> Slippers | F52: =$E$4 -> Emqa | G52: =SUM(K52) -> 2 | I52: =SUM(L52,O52) -> 2 | K52: 2 | L52: 2 | T52: 197 | U52: =TEXT(B52,"h:mm")&" "&($C$1)&" ("&C52&") "&E52&" "&" - ("&D52&") "&F52&"" -> 13:40 Bullet shot Cup (Германия) Slippers - (Финляндия) Emqa | V52: =TEXT(G52,"0")&":"&TEXT(I52,"0") -> 2:2
B53: 0.57222222 | C53: =TRIM($D$6) -> Германия | D53: =TRIM($D$4) -> Финляндия | E53: =$E$6 -> Slippers | F53: =$E$4 -> Emqa | G53: =SUM(K53) -> 1 | I53: =SUM(L53,O53) -> 1 | K53: 1 | L53: 1 | T53: 198 | U53: =TEXT(B53,"h:mm")&" "&($C$1)&" ("&C53&") "&E53&" "&" - ("&D53&") "&F53&"" -> 13:44 Bullet shot Cup (Германия) Slippers - (Финляндия) Emqa | V53: =TEXT(G53,"0")&":"&TEXT(I53,"0") -> 1:1
C55: Гл.Судья - | F55: Ст.Судья -

Sheet ТУР3
C1: ='ТУР1'!$C$1 -> Bullet shot Cup | E1: ТУР3 | F1: ='ТУР1'!$F$1 -> 45697
U2: =C1 -> Bullet shot Cup | V2: =E1 -> ТУР3 | AA2: =$F$1 -> 45697 | AG2: GP | AH2: W | AI2: D | AJ2: L | AK2: GF | AL2: GA | AM2: GD | AN2: PTS | AO2: rank
C3: Участник | D3: Команда | E3: Никнейм | U3: Никнейм | V3: М | W3: В | X3: Н | Y3: П | Z3: ЗГ | AA3: ПГ | AB3: РГ | AC3: Очки | AF3: =E4 -> rio2k | AG3: {=SUM(($E$12:$E$54=AF3)*(ISNUMBER($G$12:$G$54)),($F$12:$F$54=AF3)*(ISNUMBER($I$12:$I$54)))} -> 28 | AH3: {=SUM(('ТУР3'!home=AF3)*('ТУР3'!homescore>'ТУР3'!visitorscore),('ТУР3'!visitor=AF3)*('ТУР3'!visitorscore>'ТУР3'!homescore))} -> 7 | AI3: {=SUM(('ТУР3'!home=AF3)*('ТУР3'!homescore='ТУР3'!visitorscore)*ISNUMBER('ТУР3'!visitorscore),('ТУР3'!visitor=AF3)*('ТУР3'!visitorscore='ТУР3'!homescore)*ISNUMBER('ТУР3'!homescore))} -> 7 | AJ3: {=SUM(('ТУР3'!home=AF3)*('ТУР3'!homescore<'ТУР3'!visitorscore),('ТУР3'!visitor=AF3)*('ТУР3'!visitorscore<'ТУР3'!homescore))} -> 14 | AK3: {=SUMIF('ТУР3'!home,AF3,'ТУР3'!homescore)+SUMIF('ТУР3'!visitor,AF3,'ТУР3'!visitorscore)} -> 33 | AL3: {=SUMIF('ТУР3'!home,AF3,'ТУР3'!visitorscore)+SUMIF('ТУР3'!visitor,AF3,'ТУР3'!homescore)} -> 44 | AM3: =AK3-AL3 -> -11 | AN3: {=AH3*Options!$B$2+AI3*Options!$B$3+AJ3*Options!$B$4+VLOOKUP(AF3,$E$4:$F$8,2,0)} -> 28 | AO3: =AK3+AM3*10000+AN3*100000000 -> 2799890033
C4: Руслан С. | D4: Швейцария | E4: rio2k | U4: {=INDEX($AF$3:$AF$5,MATCH(LARGE($AO$3:$AO$5-ROW($AO$3:$AO$5)/COUNT($AO$3:$AO$5),ROW(U4)-ROW(U$4)+1),$AO$3:$AO$5-ROW($AO$3:$AO$5)/COUNT($AO$3:$AO$5),0))} -> MBK | V4: {=VLOOKUP($U4,$AF$3:$AN$5,2,0)} -> 28 | W4: {=VLOOKUP($U4,$AF$3:$AN$5,3,0)} -> 16 | X4: {=VLOOKUP($U4,$AF$3:$AN$5,4,0)} -> 6 | Y4: {=VLOOKUP($U4,$AF$3:$AN$5,5,0)} -> 6 | Z4: {=VLOOKUP($U4,$AF$3:$AN$5,6,0)} -> 46 | AA4: {=VLOOKUP($U4,$AF$3:$AN$5,7,0)} -> 31 | AB4: {=VLOOKUP($U4,$AF$3:$AN$5,8,0)} -> 15 | AC4: {=VLOOKUP($U4,$AF$3:$AN$5,9,0)} -> 54 | AF4: =E5 -> MBK | AG4: {=SUM(($E$12:$E$54=AF4)*(ISNUMBER($G$12:$G$54)),($F$12:$F$54=AF4)*(ISNUMBER($I$12:$I$54)))} -> 28 | AH4: {=SUM(('ТУР3'!home=AF4)*('ТУР3'!homescore>'ТУР3'!visitorscore),('ТУР3'!visitor=AF4)*('ТУР3'!visitorscore>'ТУР3'!homescore))} -> 16 | AI4: {=SUM(('ТУР3'!home=AF4)*('ТУР3'!homescore='ТУР3'!visitorscore)*ISNUMBER('ТУР3'!visitorscore),('ТУР3'!visitor=AF4)*('ТУР3'!visitorscore='ТУР3'!homescore)*ISNUMBER('ТУР3'!homescore))} -> 6 | AJ4: {=SUM(('ТУР3'!home=AF4)*('ТУР3'!homescore<'ТУР3'!visitorscore),('ТУР3'!visitor=AF4)*('ТУР3'!visitorscore<'ТУР3'!homescore))} -> 6 | AK4: {=SUMIF('ТУР3'!home,AF4,'ТУР3'!homescore)+SUMIF('ТУР3'!visitor,AF4,'ТУР3'!visitorscore)} -> 46 | AL4: {=SUMIF('ТУР3'!home,AF4,'ТУР3'!visitorscore)+SUMIF('ТУР3'!visitor,AF4,'ТУР3'!homescore)} -> 31 | AM4: =AK4-AL4 -> 15 | AN4: {=AH4*Options!$B$2+AI4*Options!$B$3+AJ4*Options!$B$4+VLOOKUP(AF4,$E$4:$F$8,2,0)} -> 54 | AO4: =AK4+AM4*10000+AN4*100000000 -> 5400150046
C5: Дмитрий П. | D5: Канада | E5: MBK | U5: {=INDEX($AF$3:$AF$5,MATCH(LARGE($AO$3:$AO$5-ROW($AO$3:$AO$5)/COUNT($AO$3:$AO$5),ROW(U5)-ROW(U$4)+1),$AO$3:$AO$5-ROW($AO$3:$AO$5)/COUNT($AO$3:$AO$5),0))} -> Deqim | V5: {=VLOOKUP($U5,$AF$3:$AN$5,2,0)} -> 28 | W5: {=VLOOKUP($U5,$AF$3:$AN$5,3,0)} -> 10 | X5: {=VLOOKUP($U5,$AF$3:$AN$5,4,0)} -> 5 | Y5: {=VLOOKUP($U5,$AF$3:$AN$5,5,0)} -> 13 | Z5: {=VLOOKUP($U5,$AF$3:$AN$5,6,0)} -> 41 | AA5: {=VLOOKUP($U5,$AF$3:$AN$5,7,0)} -> 45 | AB5: {=VLOOKUP($U5,$AF$3:$AN$5,8,0)} -> -4 | AC5: {=VLOOKUP($U5,$AF$3:$AN$5,9,0)} -> 35 | AF5: =E6 -> Deqim | AG5: {=SUM(($E$12:$E$54=AF5)*(ISNUMBER($G$12:$G$54)),($F$12:$F$54=AF5)*(ISNUMBER($I$12:$I$54)))} -> 28 | AH5: {=SUM(('ТУР3'!home=AF5)*('ТУР3'!homescore>'ТУР3'!visitorscore),('ТУР3'!visitor=AF5)*('ТУР3'!visitorscore>'ТУР3'!homescore))} -> 10 | AI5: {=SUM(('ТУР3'!home=AF5)*('ТУР3'!homescore='ТУР3'!visitorscore)*ISNUMBER('ТУР3'!visitorscore),('ТУР3'!visitor=AF5)*('ТУР3'!visitorscore='ТУР3'!homescore)*ISNUMBER('ТУР3'!homescore))} -> 5 | AJ5: {=SUM(('ТУР3'!home=AF5)*('ТУР3'!homescore<'ТУР3'!visitorscore),('ТУР3'!visitor=AF5)*('ТУР3'!visitorscore<'ТУР3'!homescore))} -> 13 | AK5: {=SUMIF('ТУР3'!home,AF5,'ТУР3'!homescore)+SUMIF('ТУР3'!visitor,AF5,'ТУР3'!visitorscore)} -> 41 | AL5: {=SUMIF('ТУР3'!home,AF5,'ТУР3'!visitorscore)+SUMIF('ТУР3'!visitor,AF5,'ТУР3'!homescore)} -> 45 | AM5: =AK5-AL5 -> -4 | AN5: {=AH5*Options!$B$2+AI5*Options!$B$3+AJ5*Options!$B$4+VLOOKUP(AF5,$E$4:$F$8,2,0)} -> 35 | AO5: =AK5+AM5*10000+AN5*100000000 -> 3499960041
C6: Илья Я. | D6: США | E6: Deqim | U6: {=INDEX($AF$3:$AF$5,MATCH(LARGE($AO$3:$AO$5-ROW($AO$3:$AO$5)/COUNT($AO$3:$AO$5),ROW(U6)-ROW(U$4)+1),$AO$3:$AO$5-ROW($AO$3:$AO$5)/COUNT($AO$3:$AO$5),0))} -> rio2k | V6: {=VLOOKUP($U6,$AF$3:$AN$5,2,0)} -> 28 | W6: {=VLOOKUP($U6,$AF$3:$AN$5,3,0)} -> 7 | X6: {=VLOOKUP($U6,$AF$3:$AN$5,4,0)} -> 7 | Y6: {=VLOOKUP($U6,$AF$3:$AN$5,5,0)} -> 14 | Z6: {=VLOOKUP($U6,$AF$3:$AN$5,6,0)} -> 33 | AA6: {=VLOOKUP($U6,$AF$3:$AN$5,7,0)} -> 44 | AB6: {=VLOOKUP($U6,$AF$3:$AN$5,8,0)} -> -11 | AC6: {=VLOOKUP($U6,$AF$3:$AN$5,9,0)} -> 28
B10: Старт
C11: Команда | D11: Команда | E11: Дом | F11: Гость | G11: Результат | K11: Cчет | N11: PS | S11: PS | T11: № матча | U11: Матч | V11: Счет
B12: 0.58333333 | C12: =TRIM($D$4) -> Швейцария | D12: =TRIM($D$5) -> Канада | E12: =$E$4 -> rio2k | F12: =$E$5 -> MBK | G12: =SUM(K12) -> 0 | I12: =SUM(L12) -> 2 | K12: 0 | L12: 2 | T12: 199 | U12: =TEXT(B12,"h:mm")&" "&($C$1)&" ("&C12&") "&E12&" "&" - ("&D12&") "&F12&"" -> 14:00 Bullet shot Cup (Швейцария) rio2k - (Канада) MBK | V12: =TEXT(G12,"0")&":"&TEXT(I12,"0") -> 0:2
B13: 0.58611111 | C13: =TRIM($D$4) -> Швейцария | D13: =TRIM($D$5) -> Канада | E13: =$E$4 -> rio2k | F13: =$E$5 -> MBK | G13: =SUM(K13) -> 2 | I13: =SUM(L13) -> 1 | K13: 2 | L13: 1 | T13: 200 | U13: =TEXT(B13,"h:mm")&" "&($C$1)&" ("&C13&") "&E13&" "&" - ("&D13&") "&F13&"" -> 14:04 Bullet shot Cup (Швейцария) rio2k - (Канада) MBK | V13: =TEXT(G13,"0")&":"&TEXT(I13,"0") -> 2:1
B14: 0.58888889 | C14: =TRIM($D$4) -> Швейцария | D14: =TRIM($D$5) -> Канада | E14: =$E$4 -> rio2k | F14: =$E$5 -> MBK | G14: =SUM(K14) -> 1 | I14: =SUM(L14) -> 2 | K14: 1 | L14: 2 | T14: 201 | U14: =TEXT(B14,"h:mm")&" "&($C$1)&" ("&C14&") "&E14&" "&" - ("&D14&") "&F14&"" -> 14:08 Bullet shot Cup (Швейцария) rio2k - (Канада) MBK | V14: =TEXT(G14,"0")&":"&TEXT(I14,"0") -> 1:2
B15: 0.59166667 | C15: =TRIM($D$6) -> США | D15: =TRIM($D$5) -> Канада | E15: =$E$6 -> Deqim | F15: =$E$5 -> MBK | G15: =SUM(K15) -> 2 | I15: =SUM(L15) -> 2 | K15: 2 | L15: 2 | T15: 202 | U15: =TEXT(B15,"h:mm")&" "&($C$1)&" ("&C15&") "&E15&" "&" - ("&D15&") "&F15&"" -> 14:12 Bullet shot Cup (США) Deqim - (Канада) MBK | V15: =TEXT(G15,"0")&":"&TEXT(I15,"0") -> 2:2
B16: 0.59444444 | C16: =TRIM($D$6) -> США | D16: =TRIM($D$5) -> Канада | E16: =$E$6 -> Deqim | F16: =$E$5 -> MBK | G16: =SUM(K16) -> 2 | I16: =SUM(L16) -> 1 | K16: 2 | L16: 1 | T16: 203 | U16: =TEXT(B16,"h:mm")&" "&($C$1)&" ("&C16&") "&E16&" "&" - ("&D16&") "&F16&"" -> 14:16 Bullet shot Cup (США) Deqim - (Канада) MBK | V16: =TEXT(G16,"0")&":"&TEXT(I16,"0") -> 2:1
B17: 0.59722222 | C17: =TRIM($D$6) -> США | D17: =TRIM($D$5) -> Канада | E17: =$E$6 -> Deqim | F17: =$E$5 -> MBK | G17: =SUM(K17) -> 1 | I17: =SUM(L17) -> 2 | K17: 1 | L17: 2 | T17: 204 | U17: =TEXT(B17,"h:mm")&" "&($C$1)&" ("&C17&") "&E17&" "&" - ("&D17&") "&F17&"" -> 14:20 Bullet shot Cup (США) Deqim - (Канада) MBK | V17: =TEXT(G17,"0")&":"&TEXT(I17,"0") -> 1:2
B18: 0.6 | C18: =TRIM($D$6) -> США | D18: =TRIM($D$4) -> Швейцария | E18: =$E$6 -> Deqim | F18: =$E$4 -> rio2k | G18: =SUM(K18) -> 2 | I18: =SUM(L18) -> 3 | K18: 2 | L18: 3 | T18: 205 | U18: =TEXT(B18,"h:mm")&" "&($C$1)&" ("&C18&") "&E18&" "&" - ("&D18&") "&F18&"" -> 14:24 Bullet shot Cup (США) Deqim - (Швейцария) rio2k | V18: =TEXT(G18,"0")&":"&TEXT(I18,"0") -> 2:3
B19: 0.60277778 | C19: =TRIM($D$6) -> США | D19: =TRIM($D$4) -> Швейцария | E19: =$E$6 -> Deqim | F19: =$E$4 -> rio2k | G19: =SUM(K19) -> 2 | I19: =SUM(L19,O19) -> 2 | K19: 2 | L19: 2 | T19: 206 | U19: =TEXT(B19,"h:mm")&" "&($C$1)&" ("&C19&") "&E19&" "&" - ("&D19&") "&F19&"" -> 14:28 Bullet shot Cup (США) Deqim - (Швейцария) rio2k | V19: =TEXT(G19,"0")&":"&TEXT(I19,"0") -> 2:2
B20: 0.60555556 | C20: =TRIM($D$6) -> США | D20: =TRIM($D$4) -> Швейцария | E20: =$E$6 -> Deqim | F20: =$E$4 -> rio2k | G20: =SUM(K20) -> 1 | I20: =SUM(L20,O20) -> 0 | K20: 1 | L20: 0 | T20: 207 | U20: =TEXT(B20,"h:mm")&" "&($C$1)&" ("&C20&") "&E20&" "&" - ("&D20&") "&F20&"" -> 14:32 Bullet shot Cup (США) Deqim - (Швейцария) rio2k | V20: =TEXT(G20,"0")&":"&TEXT(I20,"0") -> 1:0
B21: 0.60833333 | C21: =TRIM($D$5) -> Канада | D21: =TRIM($D$4) -> Швейцария | E21: =$E$5 -> MBK | F21: =$E$4 -> rio2k | G21: =SUM(K21) -> 2 | I21: =SUM(L21,O21) -> 0 | K21: 2 | L21: 0 | T21: 208 | U21: =TEXT(B21,"h:mm")&" "&($C$1)&" ("&C21&") "&E21&" "&" - ("&D21&") "&F21&"" -> 14:36 Bullet shot Cup (Канада) MBK - (Швейцария) rio2k | V21: =TEXT(G21,"0")&":"&TEXT(I21,"0") -> 2:0
B22: 0.61111111 | C22: =TRIM($D$5) -> Канада | D22: =TRIM($D$4) -> Швейцария | E22: =$E$5 -> MBK | F22: =$E$4 -> rio2k | G22: =SUM(K22) -> 2 | I22: =SUM(L22,O22) -> 1 | K22: 2 | L22: 1 | T22: 209 | U22: =TEXT(B22,"h:mm")&" "&($C$1)&" ("&C22&") "&E22&" "&" - ("&D22&") "&F22&"" -> 14:40 Bullet shot Cup (Канада) MBK - (Швейцария) rio2k | V22: =TEXT(G22,"0")&":"&TEXT(I22,"0") -> 2:1
B23: 0.61388889 | C23: =TRIM($D$5) -> Канада | D23: =TRIM($D$4) -> Швейцария | E23: =$E$5 -> MBK | F23: =$E$4 -> rio2k | G23: =SUM(K23) -> 2 | I23: =SUM(L23,O23) -> 2 | K23: 2 | L23: 2 | T23: 210 | U23: =TEXT(B23,"h:mm")&" "&($C$1)&" ("&C23&") "&E23&" "&" - ("&D23&") "&F23&"" -> 14:44 Bullet shot Cup (Канада) MBK - (Швейцария) rio2k | V23: =TEXT(G23,"0")&":"&TEXT(I23,"0") -> 2:2
B24: 0.61666667 | C24: =TRIM($D$5) -> Канада | D24: =TRIM($D$6) -> США | E24: =$E$5 -> MBK | F24: =$E$6 -> Deqim | G24: =SUM(K24) -> 2 | I24: =SUM(L24) -> 0 | K24: 2 | L24: 0 | T24: 211 | U24: =TEXT(B24,"h:mm")&" "&($C$1)&" ("&C24&") "&E24&" "&" - ("&D24&") "&F24&"" -> 14:48 Bullet shot Cup (Канада) MBK - (США) Deqim | V24: =TEXT(G24,"0")&":"&TEXT(I24,"0") -> 2:0
B25: 0.61944444 | C25: =TRIM($D$5) -> Канада | D25: =TRIM($D$6) -> США | E25: =$E$5 -> MBK | F25: =$E$6 -> Deqim | G25: =SUM(K25) -> 2 | I25: =SUM(L25) -> 2 | K25: 2 | L25: 2 | T25: 212 | U25: =TEXT(B25,"h:mm")&" "&($C$1)&" ("&C25&") "&E25&" "&" - ("&D25&") "&F25&"" -> 14:52 Bullet shot Cup (Канада) MBK - (США) Deqim | V25: =TEXT(G25,"0")&":"&TEXT(I25,"0") -> 2:2
B26: 0.62222222 | C26: =TRIM($D$5) -> Канада | D26: =TRIM($D$6) -> США | E26: =$E$5 -> MBK | F26: =$E$6 -> Deqim | G26: =SUM(K26) -> 2 | I26: =SUM(L26) -> 1 | K26: 2 | L26: 1 | T26: 213 | U26: =TEXT(B26,"h:mm")&" "&($C$1)&" ("&C26&") "&E26&" "&" - ("&D26&") "&F26&"" -> 14:56 Bullet shot Cup (Канада) MBK - (США) Deqim | V26: =TEXT(G26,"0")&":"&TEXT(I26,"0") -> 2:1
B27: 0.625 | C27: =TRIM($D$4) -> Швейцария | D27: =TRIM($D$6) -> США | E27: =$E$4 -> rio2k | F27: =$E$6 -> Deqim | G27: =SUM(K27) -> 3 | I27: =SUM(L27) -> 1 | K27: 3 | L27: 1 | T27: 214 | U27: =TEXT(B27,"h:mm")&" "&($C$1)&" ("&C27&") "&E27&" "&" - ("&D27&") "&F27&"" -> 15:00 Bullet shot Cup (Швейцария) rio2k - (США) Deqim | V27: =TEXT(G27,"0")&":"&TEXT(I27,"0") -> 3:1
B28: 0.62777778 | C28: =TRIM($D$4) -> Швейцария | D28: =TRIM($D$6) -> США | E28: =$E$4 -> rio2k | F28: =$E$6 -> Deqim | G28: =SUM(K28) -> 1 | I28: =SUM(L28) -> 1 | K28: 1 | L28: 1 | T28: 215 | U28: =TEXT(B28,"h:mm")&" "&($C$1)&" ("&C28&") "&E28&" "&" - ("&D28&") "&F28&"" -> 15:04 Bullet shot Cup (Швейцария) rio2k - (США) Deqim | V28: =TEXT(G28,"0")&":"&TEXT(I28,"0") -> 1:1
B29: 0.63055556 | C29: =TRIM($D$4) -> Швейцария | D29: =TRIM($D$6) -> США | E29: =$E$4 -> rio2k | F29: =$E$6 -> Deqim | G29: =SUM(K29) -> 2 | I29: =SUM(L29) -> 3 | K29: 2 | L29: 3 | T29: 216 | U29: =TEXT(B29,"h:mm")&" "&($C$1)&" ("&C29&") "&E29&" "&" - ("&D29&") "&F29&"" -> 15:08 Bullet shot Cup (Швейцария) rio2k - (США) Deqim | V29: =TEXT(G29,"0")&":"&TEXT(I29,"0") -> 2:3
B30: 0.63333333 | C30: =TRIM($D$4) -> Швейцария | D30: =TRIM($D$5) -> Канада | E30: =$E$4 -> rio2k | F30: =$E$5 -> MBK | G30: =SUM(K30) -> 1 | I30: =SUM(L30) -> 1 | K30: 1 | L30: 1 | T30: 217 | U30: =TEXT(B30,"h:mm")&" "&($C$1)&" ("&C30&") "&E30&" "&" - ("&D30&") "&F30&"" -> 15:12 Bullet shot Cup (Швейцария) rio2k - (Канада) MBK | V30: =TEXT(G30,"0")&":"&TEXT(I30,"0") -> 1:1
B31: 0.63611111 | C31: =TRIM($D$4) -> Швейцария | D31: =TRIM($D$5) -> Канада | E31: =$E$4 -> rio2k | F31: =$E$5 -> MBK | G31: =SUM(K31) -> 1 | I31: =SUM(L31,O31) -> 1 | K31: 1 | L31: 1 | T31: 218 | U31: =TEXT(B31,"h:mm")&" "&($C$1)&" ("&C31&") "&E31&" "&" - ("&D31&") "&F31&"" -> 15:16 Bullet shot Cup (Швейцария) rio2k - (Канада) MBK | V31: =TEXT(G31,"0")&":"&TEXT(I31,"0") -> 1:1
B32: 0.63888889 | C32: =TRIM($D$4) -> Швейцария | D32: =TRIM($D$5) -> Канада | E32: =$E$4 -> rio2k | F32: =$E$5 -> MBK | G32: =SUM(K32) -> 1 | I32: =SUM(L32,O32) -> 2 | K32: 1 | L32: 2 | T32: 219 | U32: =TEXT(B32,"h:mm")&" "&($C$1)&" ("&C32&") "&E32&" "&" - ("&D32&") "&F32&"" -> 15:20 Bullet shot Cup (Швейцария) rio2k - (Канада) MBK | V32: =TEXT(G32,"0")&":"&TEXT(I32,"0") -> 1:2
B33: 0.64166667 | C33: =TRIM($D$6) -> США | D33: =TRIM($D$5) -> Канада | E33: =$E$6 -> Deqim | F33: =$E$5 -> MBK | G33: =SUM(K33) -> 2 | I33: =SUM(L33,O33) -> 0 | K33: 2 | L33: 0 | T33: 220 | U33: =TEXT(B33,"h:mm")&" "&($C$1)&" ("&C33&") "&E33&" "&" - ("&D33&") "&F33&"" -> 15:24 Bullet shot Cup (США) Deqim - (Канада) MBK | V33: =TEXT(G33,"0")&":"&TEXT(I33,"0") -> 2:0
B34: 0.64444444 | C34: =TRIM($D$6) -> США | D34: =TRIM($D$5) -> Канада | E34: =$E$6 -> Deqim | F34: =$E$5 -> MBK | G34: =SUM(K34) -> 1 | I34: =SUM(L34,O34) -> 2 | K34: 1 | L34: 2 | T34: 221 | U34: =TEXT(B34,"h:mm")&" "&($C$1)&" ("&C34&") "&E34&" "&" - ("&D34&") "&F34&"" -> 15:28 Bullet shot Cup (США) Deqim - (Канада) MBK | V34: =TEXT(G34,"0")&":"&TEXT(I34,"0") -> 1:2
B35: 0.64722222 | C35: =TRIM($D$6) -> США | D35: =TRIM($D$5) -> Канада | E35: =$E$6 -> Deqim | F35: =$E$5 -> MBK | G35: =SUM(K35) -> 0 | I35: =SUM(L35,O35) -> 1 | K35: 0 | L35: 1 | T35: 222 | U35: =TEXT(B35,"h:mm")&" "&($C$1)&" ("&C35&") "&E35&" "&" - ("&D35&") "&F35&"" -> 15:32 Bullet shot Cup (США) Deqim - (Канада) MBK | V35: =TEXT(G35,"0")&":"&TEXT(I35,"0") -> 0:1
B36: 0.65 | C36: =TRIM($D$6) -> США | D36: =TRIM($D$4) -> Швейцария | E36: =$E$6 -> Deqim | F36: =$E$4 -> rio2k | G36: =SUM(K36) -> 1 | I36: =SUM(L36) -> 2 | K36: 1 | L36: 2 | T36: 223 | U36: =TEXT(B36,"h:mm")&" "&($C$1)&" ("&C36&") "&E36&" "&" - ("&D36&") "&F36&"" -> 15:36 Bullet shot Cup (США) Deqim - (Швейцария) rio2k | V36: =TEXT(G36,"0")&":"&TEXT(I36,"0") -> 1:2
B37: 0.65277778 | C37: =TRIM($D$6) -> США | D37: =TRIM($D$4) -> Швейцария | E37: =$E$6 -> Deqim | F37: =$E$4 -> rio2k | G37: =SUM(K37) -> 0 | I37: =SUM(L37) -> 1 | K37: 0 | L37: 1 | T37: 224 | U37: =TEXT(B37,"h:mm")&" "&($C$1)&" ("&C37&") "&E37&" "&" - ("&D37&") "&F37&"" -> 15:40 Bullet shot Cup (США) Deqim - (Швейцария) rio2k | V37: =TEXT(G37,"0")&":"&TEXT(I37,"0") -> 0:1
B38: 0.65555556 | C38: =TRIM($D$6) -> США | D38: =TRIM($D$4) -> Швейцария | E38: =$E$6 -> Deqim | F38: =$E$4 -> rio2k | G38: =SUM(K38) -> 2 | I38: =SUM(L38) -> 0 | K38: 2 | L38: 0 | T38: 225 | U38: =TEXT(B38,"h:mm")&" "&($C$1)&" ("&C38&") "&E38&" "&" - ("&D38&") "&F38&"" -> 15:44 Bullet shot Cup (США) Deqim - (Швейцария) rio2k | V38: =TEXT(G38,"0")&":"&TEXT(I38,"0") -> 2:0
B39: 0.65833333 | C39: =TRIM($D$5) -> Канада | D39: =TRIM($D$4) -> Швейцария | E39: =$E$5 -> MBK | F39: =$E$4 -> rio2k | G39: =SUM(K39) -> 1 | I39: =SUM(L39) -> 1 | K39: 1 | L39: 1 | T39: 226 | U39: =TEXT(B39,"h:mm")&" "&($C$1)&" ("&C39&") "&E39&" "&" - ("&D39&") "&F39&"" -> 15:48 Bullet shot Cup (Канада) MBK - (Швейцария) rio2k | V39: =TEXT(G39,"0")&":"&TEXT(I39,"0") -> 1:1
B40: 0.66111111 | C40: =TRIM($D$5) -> Канада | D40: =TRIM($D$4) -> Швейцария | E40: =$E$5 -> MBK | F40: =$E$4 -> rio2k | G40: =SUM(K40) -> 2 | I40: =SUM(L40) -> 0 | K40: 2 | L40: 0 | T40: 227 | U40: =TEXT(B40,"h:mm")&" "&($C$1)&" ("&C40&") "&E40&" "&" - ("&D40&") "&F40&"" -> 15:52 Bullet shot Cup (Канада) MBK - (Швейцария) rio2k | V40: =TEXT(G40,"0")&":"&TEXT(I40,"0") -> 2:0
B41: 0.66388889 | C41: =TRIM($D$5) -> Канада | D41: =TRIM($D$4) -> Швейцария | E41: =$E$5 -> MBK | F41: =$E$4 -> rio2k | G41: =SUM(K41) -> 2 | I41: =SUM(L41) -> 0 | K41: 2 | L41: 0 | T41: 228 | U41: =TEXT(B41,"h:mm")&" "&($C$1)&" ("&C41&") "&E41&" "&" - ("&D41&") "&F41&"" -> 15:56 Bullet shot Cup (Канада) MBK - (Швейцария) rio2k | V41: =TEXT(G41,"0")&":"&TEXT(I41,"0") -> 2:0
B42: 0.66666667 | C42: =TRIM($D$5) -> Канада | D42: =TRIM($D$6) -> США | E42: =$E$5 -> MBK | F42: =$E$6 -> Deqim | G42: =SUM(K42) -> 1 | I42: =SUM(L42) -> 2 | K42: 1 | L42: 2 | T42: 229 | U42: =TEXT(B42,"h:mm")&" "&($C$1)&" ("&C42&") "&E42&" "&" - ("&D42&") "&F42&"" -> 16:00 Bullet shot Cup (Канада) MBK - (США) Deqim | V42: =TEXT(G42,"0")&":"&TEXT(I42,"0") -> 1:2
B43: 0.66944444 | C43: =TRIM($D$5) -> Канада | D43: =TRIM($D$6) -> США | E43: =$E$5 -> MBK | F43: =$E$6 -> Deqim | G43: =SUM(K43) -> 3 | I43: =SUM(L43,O43) -> 2 | K43: 3 | L43: 2 | T43: 230 | U43: =TEXT(B43,"h:mm")&" "&($C$1)&" ("&C43&") "&E43&" "&" - ("&D43&") "&F43&"" -> 16:04 Bullet shot Cup (Канада) MBK - (США) Deqim | V43: =TEXT(G43,"0")&":"&TEXT(I43,"0") -> 3:2
B44: 0.67222222 | C44: =TRIM($D$5) -> Канада | D44: =TRIM($D$6) -> США | E44: =$E$5 -> MBK | F44: =$E$6 -> Deqim | G44: =SUM(K44) -> 1 | I44: =SUM(L44,O44) -> 2 | K44: 1 | L44: 2 | T44: 231 | U44: =TEXT(B44,"h:mm")&" "&($C$1)&" ("&C44&") "&E44&" "&" - ("&D44&") "&F44&"" -> 16:08 Bullet shot Cup (Канада) MBK - (США) Deqim | V44: =TEXT(G44,"0")&":"&TEXT(I44,"0") -> 1:2
B45: 0.675 | C45: =TRIM($D$4) -> Швейцария | D45: =TRIM($D$6) -> США | E45: =$E$4 -> rio2k | F45: =$E$6 -> Deqim | G45: =SUM(K45) -> 2 | I45: =SUM(L45,O45) -> 2 | K45: 2 | L45: 2 | T45: 232 | U45: =TEXT(B45,"h:mm")&" "&($C$1)&" ("&C45&") "&E45&" "&" - ("&D45&") "&F45&"" -> 16:12 Bullet shot Cup (Швейцария) rio2k - (США) Deqim | V45: =TEXT(G45,"0")&":"&TEXT(I45,"0") -> 2:2
B46: 0.67777778 | C46: =TRIM($D$4) -> Швейцария | D46: =TRIM($D$6) -> США | E46: =$E$4 -> rio2k | F46: =$E$6 -> Deqim | G46: =SUM(K46) -> 2 | I46: =SUM(L46,O46) -> 0 | K46: 2 | L46: 0 | T46: 233 | U46: =TEXT(B46,"h:mm")&" "&($C$1)&" ("&C46&") "&E46&" "&" - ("&D46&") "&F46&"" -> 16:16 Bullet shot Cup (Швейцария) rio2k - (США) Deqim | V46: =TEXT(G46,"0")&":"&TEXT(I46,"0") -> 2:0
B47: 0.68055556 | C47: =TRIM($D$4) -> Швейцария | D47: =TRIM($D$6) -> США | E47: =$E$4 -> rio2k | F47: =$E$6 -> Deqim | G47: =SUM(K47) -> 2 | I47: =SUM(L47,O47) -> 3 | K47: 2 | L47: 3 | T47: 234 | U47: =TEXT(B47,"h:mm")&" "&($C$1)&" ("&C47&") "&E47&" "&" - ("&D47&") "&F47&"" -> 16:20 Bullet shot Cup (Швейцария) rio2k - (США) Deqim | V47: =TEXT(G47,"0")&":"&TEXT(I47,"0") -> 2:3
B48: 0.68333333 | C48: =TRIM($D$4) -> Швейцария | D48: =TRIM($D$5) -> Канада | E48: =$E$4 -> rio2k | F48: =$E$5 -> MBK | G48: =SUM(K48) -> 0 | I48: =SUM(L48) -> 1 | K48: 0 | L48: 1 | T48: 235 | U48: =TEXT(B48,"h:mm")&" "&($C$1)&" ("&C48&") "&E48&" "&" - ("&D48&") "&F48&"" -> 16:24 Bullet shot Cup (Швейцария) rio2k - (Канада) MBK | V48: =TEXT(G48,"0")&":"&TEXT(I48,"0") -> 0:1
B49: 0.68611111 | C49: =TRIM($D$4) -> Швейцария | D49: =TRIM($D$5) -> Канада | E49: =$E$4 -> rio2k | F49: =$E$5 -> MBK | G49: =SUM(K49) -> 1 | I49: =SUM(L49,O49) -> 2 | K49: 1 | L49: 2 | T49: 236 | U49: =TEXT(B49,"h:mm")&" "&($C$1)&" ("&C49&") "&E49&" "&" - ("&D49&") "&F49&"" -> 16:28 Bullet shot Cup (Швейцария) rio2k - (Канада) MBK | V49: =TEXT(G49,"0")&":"&TEXT(I49,"0") -> 1:2
B50: 0.68888889 | C50: =TRIM($D$6) -> США | D50: =TRIM($D$5) -> Канада | E50: =$E$6 -> Deqim | F50: =$E$5 -> MBK | G50: =SUM(K50) -> 3 | I50: =SUM(L50,O50) -> 2 | K50: 3 | L50: 2 | T50: 237 | U50: =TEXT(B50,"h:mm")&" "&($C$1)&" ("&C50&") "&E50&" "&" - ("&D50&") "&F50&"" -> 16:32 Bullet shot Cup (США) Deqim - (Канада) MBK | V50: =TEXT(G50,"0")&":"&TEXT(I50,"0") -> 3:2
B51: 0.69166667 | C51: =TRIM($D$6) -> США | D51: =TRIM($D$5) -> Канада | E51: =$E$6 -> Deqim | F51: =$E$5 -> MBK | G51: =SUM(K51) -> 0 | I51: =SUM(L51,O51) -> 2 | K51: 0 | L51: 2 | T51: 238 | U51: =TEXT(B51,"h:mm")&" "&($C$1)&" ("&C51&") "&E51&" "&" - ("&D51&") "&F51&"" -> 16:36 Bullet shot Cup (США) Deqim - (Канада) MBK | V51: =TEXT(G51,"0")&":"&TEXT(I51,"0") -> 0:2
B52: 0.69444444 | C52: =TRIM($D$6) -> США | D52: =TRIM($D$4) -> Швейцария | E52: =$E$6 -> Deqim | F52: =$E$4 -> rio2k | G52: =SUM(K52) -> 1 | I52: =SUM(L52,O52) -> 2 | K52: 1 | L52: 2 | T52: 239 | U52: =TEXT(B52,"h:mm")&" "&($C$1)&" ("&C52&") "&E52&" "&" - ("&D52&") "&F52&"" -> 16:40 Bullet shot Cup (США) Deqim - (Швейцария) rio2k | V52: =TEXT(G52,"0")&":"&TEXT(I52,"0") -> 1:2
B53: 0.69722222 | C53: =TRIM($D$6) -> США | D53: =TRIM($D$4) -> Швейцария | E53: =$E$6 -> Deqim | F53: =$E$4 -> rio2k | G53: =SUM(K53) -> 2 | I53: =SUM(L53,O53) -> 0 | K53: 2 | L53: 0 | T53: 240 | U53: =TEXT(B53,"h:mm")&" "&($C$1)&" ("&C53&") "&E53&" "&" - ("&D53&") "&F53&"" -> 16:44 Bullet shot Cup (США) Deqim - (Швейцария) rio2k | V53: =TEXT(G53,"0")&":"&TEXT(I53,"0") -> 2:0
C55: Гл.Судья - | F55: Ст.Судья -

Sheet ТУР4
C1: ='ТУР1'!$C$1 -> Bullet shot Cup | E1: ТУР4 | F1: ='ТУР1'!$F$1 -> 45697
U2: =C1 -> Bullet shot Cup | V2: =E1 -> ТУР4 | AA2: =$F$1 -> 45697 | AG2: GP | AH2: W | AI2: D | AJ2: L | AK2: GF | AL2: GA | AM2: GD | AN2: PTS | AO2: rank
C3: Участник | D3: Команда | E3: Никнейм | U3: Никнейм | V3: М | W3: В | X3: Н | Y3: П | Z3: ЗГ | AA3: ПГ | AB3: РГ | AC3: Очки | AF3: =E4 -> rio2k | AG3: {=SUM(($E$12:$E$56=AF3)*(ISNUMBER($G$12:$G$56)),($F$12:$F$56=AF3)*(ISNUMBER($I$12:$I$56)))} -> 30 | AH3: {=SUM(('ТУР4'!home=AF3)*('ТУР4'!homescore>'ТУР4'!visitorscore),('ТУР4'!visitor=AF3)*('ТУР4'!visitorscore>'ТУР4'!homescore))} -> 7 | AI3: {=SUM(('ТУР4'!home=AF3)*('ТУР4'!homescore='ТУР4'!visitorscore)*ISNUMBER('ТУР4'!visitorscore),('ТУР4'!visitor=AF3)*('ТУР4'!visitorscore='ТУР4'!homescore)*ISNUMBER('ТУР4'!homescore))} -> 10 | AJ3: {=SUM(('ТУР4'!home=AF3)*('ТУР4'!homescore<'ТУР4'!visitorscore),('ТУР4'!visitor=AF3)*('ТУР4'!visitorscore<'ТУР4'!homescore))} -> 13 | AK3: {=SUMIF('ТУР4'!home,AF3,'ТУР4'!homescore)+SUMIF('ТУР4'!visitor,AF3,'ТУР4'!visitorscore)} -> 35 | AL3: {=SUMIF('ТУР4'!home,AF3,'ТУР4'!visitorscore)+SUMIF('ТУР4'!visitor,AF3,'ТУР4'!homescore)} -> 44 | AM3: =AK3-AL3 -> -9 | AN3: {=AH3*Options!$B$2+AI3*Options!$B$3+AJ3*Options!$B$4+VLOOKUP(AF3,$E$4:$F$8,2,0)} -> 31 | AO3: =AK3+AM3*10000+AN3*100000000 -> 3099910035
C4: ='ТУР3'!$C$4 -> Руслан С. | D4: Швеция | E4: ='ТУР3'!$E$4 -> rio2k | U4: {=INDEX($AF$3:$AF$5,MATCH(LARGE($AO$3:$AO$5-ROW($AO$3:$AO$5)/COUNT($AO$3:$AO$5),ROW(U4)-ROW(U$4)+1),$AO$3:$AO$5-ROW($AO$3:$AO$5)/COUNT($AO$3:$AO$5),0))} -> MBK | V4: {=VLOOKUP($U4,$AF$3:$AN$5,2,0)} -> 30 | W4: {=VLOOKUP($U4,$AF$3:$AN$5,3,0)} -> 17 | X4: {=VLOOKUP($U4,$AF$3:$AN$5,4,0)} -> 9 | Y4: {=VLOOKUP($U4,$AF$3:$AN$5,5,0)} -> 4 | Z4: {=VLOOKUP($U4,$AF$3:$AN$5,6,0)} -> 46 | AA4: {=VLOOKUP($U4,$AF$3:$AN$5,7,0)} -> 27 | AB4: {=VLOOKUP($U4,$AF$3:$AN$5,8,0)} -> 19 | AC4: {=VLOOKUP($U4,$AF$3:$AN$5,9,0)} -> 60 | AF4: =E5 -> MBK | AG4: {=SUM(($E$12:$E$56=AF4)*(ISNUMBER($G$12:$G$56)),($F$12:$F$56=AF4)*(ISNUMBER($I$12:$I$56)))} -> 30 | AH4: {=SUM(('ТУР4'!home=AF4)*('ТУР4'!homescore>'ТУР4'!visitorscore),('ТУР4'!visitor=AF4)*('ТУР4'!visitorscore>'ТУР4'!homescore))} -> 17 | AI4: {=SUM(('ТУР4'!home=AF4)*('ТУР4'!homescore='ТУР4'!visitorscore)*ISNUMBER('ТУР4'!visitorscore),('ТУР4'!visitor=AF4)*('ТУР4'!visitorscore='ТУР4'!homescore)*ISNUMBER('ТУР4'!homescore))} -> 9 | AJ4: {=SUM(('ТУР4'!home=AF4)*('ТУР4'!homescore<'ТУР4'!visitorscore),('ТУР4'!visitor=AF4)*('ТУР4'!visitorscore<'ТУР4'!homescore))} -> 4 | AK4: {=SUMIF('ТУР4'!home,AF4,'ТУР4'!homescore)+SUMIF('ТУР4'!visitor,AF4,'ТУР4'!visitorscore)} -> 46 | AL4: {=SUMIF('ТУР4'!home,AF4,'ТУР4'!visitorscore)+SUMIF('ТУР4'!visitor,AF4,'ТУР4'!homescore)} -> 27 | AM4: =AK4-AL4 -> 19 | AN4: {=AH4*Options!$B$2+AI4*Options!$B$3+AJ4*Options!$B$4+VLOOKUP(AF4,$E$4:$F$8,2,0)} -> 60 | AO4: =AK4+AM4*10000+AN4*100000000 -> 6000190046
C5: ='ТУР3'!$C$5 -> Дмитрий П. | D5: Финляндия | E5: ='ТУР3'!$E$5 -> MBK | U5: {=INDEX($AF$3:$AF$5,MATCH(LARGE($AO$3:$AO$5-ROW($AO$3:$AO$5)/COUNT($AO$3:$AO$5),ROW(U5)-ROW(U$4)+1),$AO$3:$AO$5-ROW($AO$3:$AO$5)/COUNT($AO$3:$AO$5),0))} -> rio2k | V5: {=VLOOKUP($U5,$AF$3:$AN$5,2,0)} -> 30 | W5: {=VLOOKUP($U5,$AF$3:$AN$5,3,0)} -> 7 | X5: {=VLOOKUP($U5,$AF$3:$AN$5,4,0)} -> 10 | Y5: {=VLOOKUP($U5,$AF$3:$AN$5,5,0)} -> 13 | Z5: {=VLOOKUP($U5,$AF$3:$AN$5,6,0)} -> 35 | AA5: {=VLOOKUP($U5,$AF$3:$AN$5,7,0)} -> 44 | AB5: {=VLOOKUP($U5,$AF$3:$AN$5,8,0)} -> -9 | AC5: {=VLOOKUP($U5,$AF$3:$AN$5,9,0)} -> 31 | AF5: =E6 -> Deqim | AG5: {=SUM(($E$12:$E$56=AF5)*(ISNUMBER($G$12:$G$56)),($F$12:$F$56=AF5)*(ISNUMBER($I$12:$I$56)))} -> 30 | AH5: {=SUM(('ТУР4'!home=AF5)*('ТУР4'!homescore>'ТУР4'!visitorscore),('ТУР4'!visitor=AF5)*('ТУР4'!visitorscore>'ТУР4'!homescore))} -> 8 | AI5: {=SUM(('ТУР4'!home=AF5)*('ТУР4'!homescore='ТУР4'!visitorscore)*ISNUMBER('ТУР4'!visitorscore),('ТУР4'!visitor=AF5)*('ТУР4'!visitorscore='ТУР4'!homescore)*ISNUMBER('ТУР4'!homescore))} -> 7 | AJ5: {=SUM(('ТУР4'!home=AF5)*('ТУР4'!homescore<'ТУР4'!visitorscore),('ТУР4'!visitor=AF5)*('ТУР4'!visitorscore<'ТУР4'!homescore))} -> 15 | AK5: {=SUMIF('ТУР4'!home,AF5,'ТУР4'!homescore)+SUMIF('ТУР4'!visitor,AF5,'ТУР4'!visitorscore)} -> 35 | AL5: {=SUMIF('ТУР4'!home,AF5,'ТУР4'!visitorscore)+SUMIF('ТУР4'!visitor,AF5,'ТУР4'!homescore)} -> 45 | AM5: =AK5-AL5 -> -10 | AN5: {=AH5*Options!$B$2+AI5*Options!$B$3+AJ5*Options!$B$4+VLOOKUP(AF5,$E$4:$F$8,2,0)} -> 31 | AO5: =AK5+AM5*10000+AN5*100000000 -> 3099900035
C6: ='ТУР3'!$C$6 -> Илья Я. | D6: Чехия | E6: ='ТУР3'!$E$6 -> Deqim | U6: {=INDEX($AF$3:$AF$5,MATCH(LARGE($AO$3:$AO$5-ROW($AO$3:$AO$5)/COUNT($AO$3:$AO$5),ROW(U6)-ROW(U$4)+1),$AO$3:$AO$5-ROW($AO$3:$AO$5)/COUNT($AO$3:$AO$5),0))} -> Deqim | V6: {=VLOOKUP($U6,$AF$3:$AN$5,2,0)} -> 30 | W6: {=VLOOKUP($U6,$AF$3:$AN$5,3,0)} -> 8 | X6: {=VLOOKUP($U6,$AF$3:$AN$5,4,0)} -> 7 | Y6: {=VLOOKUP($U6,$AF$3:$AN$5,5,0)} -> 15 | Z6: {=VLOOKUP($U6,$AF$3:$AN$5,6,0)} -> 35 | AA6: {=VLOOKUP($U6,$AF$3:$AN$5,7,0)} -> 45 | AB6: {=VLOOKUP($U6,$AF$3:$AN$5,8,0)} -> -10 | AC6: {=VLOOKUP($U6,$AF$3:$AN$5,9,0)} -> 31
B10: Старт
C11: Команда | D11: Команда | E11: Дом | F11: Гость | G11: Результат | K11: Cчет | N11: PS | S11: PS | T11: № матча | U11: Матч | V11: Счет
B12: 0.70833333 | C12: =TRIM($D$4) -> Швеция | D12: =TRIM($D$5) -> Финляндия | E12: =$E$4 -> rio2k | F12: =$E$5 -> MBK | G12: =SUM(K12) -> 0 | I12: =SUM(L12) -> 0 | K12: 0 | L12: 0 | T12: 241 | U12: =TEXT(B12,"h:mm")&" "&($C$1)&" ("&C12&") "&E12&" "&" - ("&D12&") "&F12&"" -> 17:00 Bullet shot Cup (Швеция) rio2k - (Финляндия) MBK | V12: =TEXT(G12,"0")&":"&TEXT(I12,"0") -> 0:0
B13: 0.71111111 | C13: =TRIM($D$4) -> Швеция | D13: =TRIM($D$5) -> Финляндия | E13: =$E$4 -> rio2k | F13: =$E$5 -> MBK | G13: =SUM(K13) -> 1 | I13: =SUM(L13) -> 1 | K13: 1 | L13: 1 | T13: 242 | U13: =TEXT(B13,"h:mm")&" "&($C$1)&" ("&C13&") "&E13&" "&" - ("&D13&") "&F13&"" -> 17:04 Bullet shot Cup (Швеция) rio2k - (Финляндия) MBK | V13: =TEXT(G13,"0")&":"&TEXT(I13,"0") -> 1:1
B14: 0.71388889 | C14: =TRIM($D$4) -> Швеция | D14: =TRIM($D$5) -> Финляндия | E14: =$E$4 -> rio2k | F14: =$E$5 -> MBK | G14: =SUM(K14) -> 1 | I14: =SUM(L14) -> 2 | K14: 1 | L14: 2 | T14: 243 | U14: =TEXT(B14,"h:mm")&" "&($C$1)&" ("&C14&") "&E14&" "&" - ("&D14&") "&F14&"" -> 17:08 Bullet shot Cup (Швеция) rio2k - (Финляндия) MBK | V14: =TEXT(G14,"0")&":"&TEXT(I14,"0") -> 1:2
B15: 0.71666667 | C15: =TRIM($D$6) -> Чехия | D15: =TRIM($D$5) -> Финляндия | E15: =$E$6 -> Deqim | F15: =$E$5 -> MBK | G15: =SUM(K15) -> 3 | I15: =SUM(L15) -> 1 | K15: 3 | L15: 1 | T15: 244 | U15: =TEXT(B15,"h:mm")&" "&($C$1)&" ("&C15&") "&E15&" "&" - ("&D15&") "&F15&"" -> 17:12 Bullet shot Cup (Чехия) Deqim - (Финляндия) MBK | V15: =TEXT(G15,"0")&":"&TEXT(I15,"0") -> 3:1
B16: 0.71944444 | C16: =TRIM($D$6) -> Чехия | D16: =TRIM($D$5) -> Финляндия | E16: =$E$6 -> Deqim | F16: =$E$5 -> MBK | G16: =SUM(K16) -> 1 | I16: =SUM(L16) -> 2 | K16: 1 | L16: 2 | T16: 245 | U16: =TEXT(B16,"h:mm")&" "&($C$1)&" ("&C16&") "&E16&" "&" - ("&D16&") "&F16&"" -> 17:16 Bullet shot Cup (Чехия) Deqim - (Финляндия) MBK | V16: =TEXT(G16,"0")&":"&TEXT(I16,"0") -> 1:2
B17: 0.72222222 | C17: =TRIM($D$6) -> Чехия | D17: =TRIM($D$5) -> Финляндия | E17: =$E$6 -> Deqim | F17: =$E$5 -> MBK | G17: =SUM(K17) -> 1 | I17: =SUM(L17) -> 2 | K17: 1 | L17: 2 | T17: 246 | U17: =TEXT(B17,"h:mm")&" "&($C$1)&" ("&C17&") "&E17&" "&" - ("&D17&") "&F17&"" -> 17:20 Bullet shot Cup (Чехия) Deqim - (Финляндия) MBK | V17: =TEXT(G17,"0")&":"&TEXT(I17,"0") -> 1:2
B18: 0.725 | C18: =TRIM($D$6) -> Чехия | D18: =TRIM($D$4) -> Швеция | E18: =$E$6 -> Deqim | F18: =$E$4 -> rio2k | G18: =SUM(K18) -> 2 | I18: =SUM(L18) -> 1 | K18: 2 | L18: 1 | T18: 247 | U18: =TEXT(B18,"h:mm")&" "&($C$1)&" ("&C18&") "&E18&" "&" - ("&D18&") "&F18&"" -> 17:24 Bullet shot Cup (Чехия) Deqim - (Швеция) rio2k | V18: =TEXT(G18,"0")&":"&TEXT(I18,"0") -> 2:1
B19: 0.72777778 | C19: =TRIM($D$6) -> Чехия | D19: =TRIM($D$4) -> Швеция | E19: =$E$6 -> Deqim | F19: =$E$4 -> rio2k | G19: =SUM(K19) -> 1 | I19: =SUM(L19,O19) -> 2 | K19: 1 | L19: 2 | T19: 248 | U19: =TEXT(B19,"h:mm")&" "&($C$1)&" ("&C19&") "&E19&" "&" - ("&D19&") "&F19&"" -> 17:28 Bullet shot Cup (Чехия) Deqim - (Швеция) rio2k | V19: =TEXT(G19,"0")&":"&TEXT(I19,"0") -> 1:2
B20: 0.73055556 | C20: =TRIM($D$6) -> Чехия | D20: =TRIM($D$4) -> Швеция | E20: =$E$6 -> Deqim | F20: =$E$4 -> rio2k | G20: =SUM(K20) -> 1 | I20: =SUM(L20,O20) -> 1 | K20: 1 | L20: 1 | T20: 249 | U20: =TEXT(B20,"h:mm")&" "&($C$1)&" ("&C20&") "&E20&" "&" - ("&D20&") "&F20&"" -> 17:32 Bullet shot Cup (Чехия) Deqim - (Швеция) rio2k | V20: =TEXT(G20,"0")&":"&TEXT(I20,"0") -> 1:1
B21: 0.73333333 | C21: =TRIM($D$5) -> Финляндия | D21: =TRIM($D$4) -> Швеция | E21: =$E$5 -> MBK | F21: =$E$4 -> rio2k | G21: =SUM(K21) -> 2 | I21: =SUM(L21,O21) -> 0 | K21: 2 | L21: 0 | T21: 250 | U21: =TEXT(B21,"h:mm")&" "&($C$1)&" ("&C21&") "&E21&" "&" - ("&D21&") "&F21&"" -> 17:36 Bullet shot Cup (Финляндия) MBK - (Швеция) rio2k | V21: =TEXT(G21,"0")&":"&TEXT(I21,"0") -> 2:0
B22: 0.73611111 | C22: =TRIM($D$5) -> Финляндия | D22: =TRIM($D$4) -> Швеция | E22: =$E$5 -> MBK | F22: =$E$4 -> rio2k | G22: =SUM(K22) -> 0 | I22: =SUM(L22,O22) -> 2 | K22: 0 | L22: 2 | T22: 251 | U22: =TEXT(B22,"h:mm")&" "&($C$1)&" ("&C22&") "&E22&" "&" - ("&D22&") "&F22&"" -> 17:40 Bullet shot Cup (Финляндия) MBK - (Швеция) rio2k | V22: =TEXT(G22,"0")&":"&TEXT(I22,"0") -> 0:2
B23: 0.73888889 | C23: =TRIM($D$5) -> Финляндия | D23: =TRIM($D$4) -> Швеция | E23: =$E$5 -> MBK | F23: =$E$4 -> rio2k | G23: =SUM(K23) -> 2 | I23: =SUM(L23,O23) -> 0 | K23: 2 | L23: 0 | T23: 252 | U23: =TEXT(B23,"h:mm")&" "&($C$1)&" ("&C23&") "&E23&" "&" - ("&D23&") "&F23&"" -> 17:44 Bullet shot Cup (Финляндия) MBK - (Швеция) rio2k | V23: =TEXT(G23,"0")&":"&TEXT(I23,"0") -> 2:0
B24: 0.74166667 | C24: =TRIM($D$5) -> Финляндия | D24: =TRIM($D$6) -> Чехия | E24: =$E$5 -> MBK | F24: =$E$6 -> Deqim | G24: =SUM(K24) -> 1 | I24: =SUM(L24) -> 0 | K24: 1 | L24: 0 | T24: 253 | U24: =TEXT(B24,"h:mm")&" "&($C$1)&" ("&C24&") "&E24&" "&" - ("&D24&") "&F24&"" -> 17:48 Bullet shot Cup (Финляндия) MBK - (Чехия) Deqim | V24: =TEXT(G24,"0")&":"&TEXT(I24,"0") -> 1:0
B25: 0.74444444 | C25: =TRIM($D$5) -> Финляндия | D25: =TRIM($D$6) -> Чехия | E25: =$E$5 -> MBK | F25: =$E$6 -> Deqim | G25: =SUM(K25) -> 2 | I25: =SUM(L25) -> 0 | K25: 2 | L25: 0 | T25: 254 | U25: =TEXT(B25,"h:mm")&" "&($C$1)&" ("&C25&") "&E25&" "&" - ("&D25&") "&F25&"" -> 17:52 Bullet shot Cup (Финляндия) MBK - (Чехия) Deqim | V25: =TEXT(G25,"0")&":"&TEXT(I25,"0") -> 2:0
B26: 0.74722222 | C26: =TRIM($D$5) -> Финляндия | D26: =TRIM($D$6) -> Чехия | E26: =$E$5 -> MBK | F26: =$E$6 -> Deqim | G26: =SUM(K26) -> 2 | I26: =SUM(L26) -> 1 | K26: 2 | L26: 1 | T26: 255 | U26: =TEXT(B26,"h:mm")&" "&($C$1)&" ("&C26&") "&E26&" "&" - ("&D26&") "&F26&"" -> 17:56 Bullet shot Cup (Финляндия) MBK - (Чехия) Deqim | V26: =TEXT(G26,"0")&":"&TEXT(I26,"0") -> 2:1
B27: 0.75 | C27: =TRIM($D$4) -> Швеция | D27: =TRIM($D$6) -> Чехия | E27: =$E$4 -> rio2k | F27: =$E$6 -> Deqim | G27: =SUM(K27) -> 1 | I27: =SUM(L27) -> 2 | K27: 1 | L27: 2 | T27: 256 | U27: =TEXT(B27,"h:mm")&" "&($C$1)&" ("&C27&") "&E27&" "&" - ("&D27&") "&F27&"" -> 18:00 Bullet shot Cup (Швеция) rio2k - (Чехия) Deqim | V27: =TEXT(G27,"0")&":"&TEXT(I27,"0") -> 1:2
B28: 0.75277778 | C28: =TRIM($D$4) -> Швеция | D28: =TRIM($D$6) -> Чехия | E28: =$E$4 -> rio2k | F28: =$E$6 -> Deqim | G28: =SUM(K28) -> 3 | I28: =SUM(L28) -> 1 | K28: 3 | L28: 1 | T28: 257 | U28: =TEXT(B28,"h:mm")&" "&($C$1)&" ("&C28&") "&E28&" "&" - ("&D28&") "&F28&"" -> 18:04 Bullet shot Cup (Швеция) rio2k - (Чехия) Deqim | V28: =TEXT(G28,"0")&":"&TEXT(I28,"0") -> 3:1
B29: 0.75555556 | C29: =TRIM($D$4) -> Швеция | D29: =TRIM($D$6) -> Чехия | E29: =$E$4 -> rio2k | F29: =$E$6 -> Deqim | G29: =SUM(K29) -> 2 | I29: =SUM(L29) -> 2 | K29: 2 | L29: 2 | T29: 258 | U29: =TEXT(B29,"h:mm")&" "&($C$1)&" ("&C29&") "&E29&" "&" - ("&D29&") "&F29&"" -> 18:08 Bullet shot Cup (Швеция) rio2k - (Чехия) Deqim | V29: =TEXT(G29,"0")&":"&TEXT(I29,"0") -> 2:2
B30: 0.75833333 | C30: =TRIM($D$4) -> Швеция | D30: =TRIM($D$5) -> Финляндия | E30: =$E$4 -> rio2k | F30: =$E$5 -> MBK | G30: =SUM(K30) -> 0 | I30: =SUM(L30) -> 2 | K30: 0 | L30: 2 | T30: 259 | U30: =TEXT(B30,"h:mm")&" "&($C$1)&" ("&C30&") "&E30&" "&" - ("&D30&") "&F30&"" -> 18:12 Bullet shot Cup (Швеция) rio2k - (Финляндия) MBK | V30: =TEXT(G30,"0")&":"&TEXT(I30,"0") -> 0:2
B31: 0.76111111 | C31: =TRIM($D$4) -> Швеция | D31: =TRIM($D$5) -> Финляндия | E31: =$E$4 -> rio2k | F31: =$E$5 -> MBK | G31: =SUM(K31) -> 1 | I31: =SUM(L31,O31) -> 0 | K31: 1 | L31: 0 | T31: 260 | U31: =TEXT(B31,"h:mm")&" "&($C$1)&" ("&C31&") "&E31&" "&" - ("&D31&") "&F31&"" -> 18:16 Bullet shot Cup (Швеция) rio2k - (Финляндия) MBK | V31: =TEXT(G31,"0")&":"&TEXT(I31,"0") -> 1:0
B32: 0.76388889 | C32: =TRIM($D$4) -> Швеция | D32: =TRIM($D$5) -> Финляндия | E32: =$E$4 -> rio2k | F32: =$E$5 -> MBK | G32: =SUM(K32) -> 2 | I32: =SUM(L32,O32) -> 2 | K32: 2 | L32: 2 | T32: 261 | U32: =TEXT(B32,"h:mm")&" "&($C$1)&" ("&C32&") "&E32&" "&" - ("&D32&") "&F32&"" -> 18:20 Bullet shot Cup (Швеция) rio2k - (Финляндия) MBK | V32: =TEXT(G32,"0")&":"&TEXT(I32,"0") -> 2:2
B33: 0.76666667 | C33: =TRIM($D$6) -> Чехия | D33: =TRIM($D$5) -> Финляндия | E33: =$E$6 -> Deqim | F33: =$E$5 -> MBK | G33: =SUM(K33) -> 0 | I33: =SUM(L33,O33) -> 2 | K33: 0 | L33: 2 | T33: 262 | U33: =TEXT(B33,"h:mm")&" "&($C$1)&" ("&C33&") "&E33&" "&" - ("&D33&") "&F33&"" -> 18:24 Bullet shot Cup (Чехия) Deqim - (Финляндия) MBK | V33: =TEXT(G33,"0")&":"&TEXT(I33,"0") -> 0:2
B34: 0.76944444 | C34: =TRIM($D$6) -> Чехия | D34: =TRIM($D$5) -> Финляндия | E34: =$E$6 -> Deqim | F34: =$E$5 -> MBK | G34: =SUM(K34) -> 1 | I34: =SUM(L34,O34) -> 1 | K34: 1 | L34: 1 | T34: 263 | U34: =TEXT(B34,"h:mm")&" "&($C$1)&" ("&C34&") "&E34&" "&" - ("&D34&") "&F34&"" -> 18:28 Bullet shot Cup (Чехия) Deqim - (Финляндия) MBK | V34: =TEXT(G34,"0")&":"&TEXT(I34,"0") -> 1:1
B35: 0.77222222 | C35: =TRIM($D$6) -> Чехия | D35: =TRIM($D$5) -> Финляндия | E35: =$E$6 -> Deqim | F35: =$E$5 -> MBK | G35: =SUM(K35) -> 1 | I35: =SUM(L35,O35) -> 2 | K35: 1 | L35: 2 | T35: 264 | U35: =TEXT(B35,"h:mm")&" "&($C$1)&" ("&C35&") "&E35&" "&" - ("&D35&") "&F35&"" -> 18:32 Bullet shot Cup (Чехия) Deqim - (Финляндия) MBK | V35: =TEXT(G35,"0")&":"&TEXT(I35,"0") -> 1:2
B36: 0.775 | C36: =TRIM($D$6) -> Чехия | D36: =TRIM($D$4) -> Швеция | E36: =$E$6 -> Deqim | F36: =$E$4 -> rio2k | G36: =SUM(K36) -> 2 | I36: =SUM(L36) -> 2 | K36: 2 | L36: 2 | T36: 265 | U36: =TEXT(B36,"h:mm")&" "&($C$1)&" ("&C36&") "&E36&" "&" - ("&D36&") "&F36&"" -> 18:36 Bullet shot Cup (Чехия) Deqim - (Швеция) rio2k | V36: =TEXT(G36,"0")&":"&TEXT(I36,"0") -> 2:2
B37: 0.77777778 | C37: =TRIM($D$6) -> Чехия | D37: =TRIM($D$4) -> Швеция | E37: =$E$6 -> Deqim | F37: =$E$4 -> rio2k | G37: =SUM(K37) -> 2 | I37: =SUM(L37) -> 1 | K37: 2 | L37: 1 | T37: 266 | U37: =TEXT(B37,"h:mm")&" "&($C$1)&" ("&C37&") "&E37&" "&" - ("&D37&") "&F37&"" -> 18:40 Bullet shot Cup (Чехия) Deqim - (Швеция) rio2k | V37: =TEXT(G37,"0")&":"&TEXT(I37,"0") -> 2:1
B38: 0.78055556 | C38: =TRIM($D$6) -> Чехия | D38: =TRIM($D$4) -> Швеция | E38: =$E$6 -> Deqim | F38: =$E$4 -> rio2k | G38: =SUM(K38) -> 2 | I38: =SUM(L38) -> 0 | K38: 2 | L38: 0 | T38: 267 | U38: =TEXT(B38,"h:mm")&" "&($C$1)&" ("&C38&") "&E38&" "&" - ("&D38&") "&F38&"" -> 18:44 Bullet shot Cup (Чехия) Deqim - (Швеция) rio2k | V38: =TEXT(G38,"0")&":"&TEXT(I38,"0") -> 2:0
B39: 0.78333333 | C39: =TRIM($D$5) -> Финляндия | D39: =TRIM($D$4) -> Швеция | E39: =$E$5 -> MBK | F39: =$E$4 -> rio2k | G39: =SUM(K39) -> 2 | I39: =SUM(L39) -> 0 | K39: 2 | L39: 0 | T39: 268 | U39: =TEXT(B39,"h:mm")&" "&($C$1)&" ("&C39&") "&E39&" "&" - ("&D39&") "&F39&"" -> 18:48 Bullet shot Cup (Финляндия) MBK - (Швеция) rio2k | V39: =TEXT(G39,"0")&":"&TEXT(I39,"0") -> 2:0
B40: 0.78611111 | C40: =TRIM($D$5) -> Финляндия | D40: =TRIM($D$4) -> Швеция | E40: =$E$5 -> MBK | F40: =$E$4 -> rio2k | G40: =SUM(K40) -> 2 | I40: =SUM(L40) -> 2 | K40: 2 | L40: 2 | T40: 269 | U40: =TEXT(B40,"h:mm")&" "&($C$1)&" ("&C40&") "&E40&" "&" - ("&D40&") "&F40&"" -> 18:52 Bullet shot Cup (Финляндия) MBK - (Швеция) rio2k | V40: =TEXT(G40,"0")&":"&TEXT(I40,"0") -> 2:2
B41: 0.78888889 | C41: =TRIM($D$5) -> Финляндия | D41: =TRIM($D$4) -> Швеция | E41: =$E$5 -> MBK | F41: =$E$4 -> rio2k | G41: =SUM(K41) -> 2 | I41: =SUM(L41) -> 1 | K41: 2 | L41: 1 | T41: 270 | U41: =TEXT(B41,"h:mm")&" "&($C$1)&" ("&C41&") "&E41&" "&" - ("&D41&") "&F41&"" -> 18:56 Bullet shot Cup (Финляндия) MBK - (Швеция) rio2k | V41: =TEXT(G41,"0")&":"&TEXT(I41,"0") -> 2:1
B42: 0.79166667 | C42: =TRIM($D$5) -> Финляндия | D42: =TRIM($D$6) -> Чехия | E42: =$E$5 -> MBK | F42: =$E$6 -> Deqim | G42: =SUM(K42) -> 1 | I42: =SUM(L42) -> 0 | K42: 1 | L42: 0 | T42: 271 | U42: =TEXT(B42,"h:mm")&" "&($C$1)&" ("&C42&") "&E42&" "&" - ("&D42&") "&F42&"" -> 19:00 Bullet shot Cup (Финляндия) MBK - (Чехия) Deqim | V42: =TEXT(G42,"0")&":"&TEXT(I42,"0") -> 1:0
B43: 0.79444444 | C43: =TRIM($D$5) -> Финляндия | D43: =TRIM($D$6) -> Чехия | E43: =$E$5 -> MBK | F43: =$E$6 -> Deqim | G43: =SUM(K43) -> 2 | I43: =SUM(L43,O43) -> 0 | K43: 2 | L43: 0 | T43: 272 | U43: =TEXT(B43,"h:mm")&" "&($C$1)&" ("&C43&") "&E43&" "&" - ("&D43&") "&F43&"" -> 19:04 Bullet shot Cup (Финляндия) MBK - (Чехия) Deqim | V43: =TEXT(G43,"0")&":"&TEXT(I43,"0") -> 2:0
B44: 0.79722222 | C44: =TRIM($D$5) -> Финляндия | D44: =TRIM($D$6) -> Чехия | E44: =$E$5 -> MBK | F44: =$E$6 -> Deqim | G44: =SUM(K44) -> 2 | I44: =SUM(L44,O44) -> 1 | K44: 2 | L44: 1 | T44: 273 | U44: =TEXT(B44,"h:mm")&" "&($C$1)&" ("&C44&") "&E44&" "&" - ("&D44&") "&F44&"" -> 19:08 Bullet shot Cup (Финляндия) MBK - (Чехия) Deqim | V44: =TEXT(G44,"0")&":"&TEXT(I44,"0") -> 2:1
B45: 0.8 | C45: =TRIM($D$4) -> Швеция | D45: =TRIM($D$6) -> Чехия | E45: =$E$4 -> rio2k | F45: =$E$6 -> Deqim | G45: =SUM(K45) -> 1 | I45: =SUM(L45,O45) -> 2 | K45: 1 | L45: 2 | T45: 274 | U45: =TEXT(B45,"h:mm")&" "&($C$1)&" ("&C45&") "&E45&" "&" - ("&D45&") "&F45&"" -> 19:12 Bullet shot Cup (Швеция) rio2k - (Чехия) Deqim | V45: =TEXT(G45,"0")&":"&TEXT(I45,"0") -> 1:2
B46: 0.80277778 | C46: =TRIM($D$4) -> Швеция | D46: =TRIM($D$6) -> Чехия | E46: =$E$4 -> rio2k | F46: =$E$6 -> Deqim | G46: =SUM(K46) -> 0 | I46: =SUM(L46,O46) -> 2 | K46: 0 | L46: 2 | T46: 275 | U46: =TEXT(B46,"h:mm")&" "&($C$1)&" ("&C46&") "&E46&" "&" - ("&D46&") "&F46&"" -> 19:16 Bullet shot Cup (Швеция) rio2k - (Чехия) Deqim | V46: =TEXT(G46,"0")&":"&TEXT(I46,"0") -> 0:2
B47: 0.80555556 | C47: =TRIM($D$4) -> Швеция | D47: =TRIM($D$6) -> Чехия | E47: =$E$4 -> rio2k | F47: =$E$6 -> Deqim | G47: =SUM(K47) -> 2 | I47: =SUM(L47,O47) -> 1 | K47: 2 | L47: 1 | T47: 276 | U47: =TEXT(B47,"h:mm")&" "&($C$1)&" ("&C47&") "&E47&" "&" - ("&D47&") "&F47&"" -> 19:20 Bullet shot Cup (Швеция) rio2k - (Чехия) Deqim | V47: =TEXT(G47,"0")&":"&TEXT(I47,"0") -> 2:1
B48: 0.80833333 | C48: =TRIM($D$4) -> Швеция | D48: =TRIM($D$5) -> Финляндия | E48: =$E$4 -> rio2k | F48: =$E$5 -> MBK | G48: =SUM(K48) -> 2 | I48: =SUM(L48) -> 1 | K48: 2 | L48: 1 | T48: 277 | U48: =TEXT(B48,"h:mm")&" "&($C$1)&" ("&C48&") "&E48&" "&" - ("&D48&") "&F48&"" -> 19:24 Bullet shot Cup (Швеция) rio2k - (Финляндия) MBK | V48: =TEXT(G48,"0")&":"&TEXT(I48,"0") -> 2:1
B49: 0.81111111 | C49: =TRIM($D$4) -> Швеция | D49: =TRIM($D$5) -> Финляндия | E49: =$E$4 -> rio2k | F49: =$E$5 -> MBK | G49: =SUM(K49) -> 2 | I49: =SUM(L49,O49) -> 2 | K49: 2 | L49: 2 | T49: 278 | U49: =TEXT(B49,"h:mm")&" "&($C$1)&" ("&C49&") "&E49&" "&" - ("&D49&") "&F49&"" -> 19:28 Bullet shot Cup (Швеция) rio2k - (Финляндия) MBK | V49: =TEXT(G49,"0")&":"&TEXT(I49,"0") -> 2:2
B50: 0.81388889 | C50: =TRIM($D$4) -> Швеция | D50: =TRIM($D$5) -> Финляндия | E50: =$E$4 -> rio2k | F50: =$E$5 -> MBK | G50: =SUM(K50) -> 1 | I50: =SUM(L50,O50) -> 1 | K50: 1 | L50: 1 | T50: 279 | U50: =TEXT(B50,"h:mm")&" "&($C$1)&" ("&C50&") "&E50&" "&" - ("&D50&") "&F50&"" -> 19:32 Bullet shot Cup (Швеция) rio2k - (Финляндия) MBK | V50: =TEXT(G50,"0")&":"&TEXT(I50,"0") -> 1:1
B51: 0.81666667 | C51: =TRIM($D$6) -> Чехия | D51: =TRIM($D$5) -> Финляндия | E51: =$E$6 -> Deqim | F51: =$E$5 -> MBK | G51: =SUM(K51) -> 2 | I51: =SUM(L51,O51) -> 2 | K51: 2 | L51: 2 | T51: 280 | U51: =TEXT(B51,"h:mm")&" "&($C$1)&" ("&C51&") "&E51&" "&" - ("&D51&") "&F51&"" -> 19:36 Bullet shot Cup (Чехия) Deqim - (Финляндия) MBK | V51: =TEXT(G51,"0")&":"&TEXT(I51,"0") -> 2:2
B52: 0.81944444 | C52: =TRIM($D$6) -> Чехия | D52: =TRIM($D$5) -> Финляндия | E52: =$E$6 -> Deqim | F52: =$E$5 -> MBK | G52: =SUM(K52) -> 0 | I52: =SUM(L52,O52) -> 2 | K52: 0 | L52: 2 | T52: 281 | U52: =TEXT(B52,"h:mm")&" "&($C$1)&" ("&C52&") "&E52&" "&" - ("&D52&") "&F52&"" -> 19:40 Bullet shot Cup (Чехия) Deqim - (Финляндия) MBK | V52: =TEXT(G52,"0")&":"&TEXT(I52,"0") -> 0:2
B53: 0.82222222 | C53: =TRIM($D$6) -> Чехия | D53: =TRIM($D$5) -> Финляндия | E53: =$E$6 -> Deqim | F53: =$E$5 -> MBK | G53: =SUM(K53) -> 1 | I53: =SUM(L53,O53) -> 1 | K53: 1 | L53: 1 | T53: 282 | U53: =TEXT(B53,"h:mm")&" "&($C$1)&" ("&C53&") "&E53&" "&" - ("&D53&") "&F53&"" -> 19:44 Bullet shot Cup (Чехия) Deqim - (Финляндия) MBK | V53: =TEXT(G53,"0")&":"&TEXT(I53,"0") -> 1:1
B54: 0.825 | C54: =TRIM($D$6) -> Чехия | D54: =TRIM($D$4) -> Швеция | E54: =$E$6 -> Deqim | F54: =$E$4 -> rio2k | G54: =SUM(K54) -> 0 | I54: =SUM(L54) -> 2 | K54: 0 | L54: 2 | T54: 283 | U54: =TEXT(B54,"h:mm")&" "&($C$1)&" ("&C54&") "&E54&" "&" - ("&D54&") "&F54&"" -> 19:48 Bullet shot Cup (Чехия) Deqim - (Швеция) rio2k | V54: =TEXT(G54,"0")&":"&TEXT(I54,"0") -> 0:2
B55: 0.82777778 | C55: =TRIM($D$6) -> Чехия | D55: =TRIM($D$4) -> Швеция | E55: =$E$6 -> Deqim | F55: =$E$4 -> rio2k | G55: =SUM(K55) -> 2 | I55: =SUM(L55) -> 2 | K55: 2 | L55: 2 | T55: 284 | U55: =TEXT(B55,"h:mm")&" "&($C$1)&" ("&C55&") "&E55&" "&" - ("&D55&") "&F55&"" -> 19:52 Bullet shot Cup (Чехия) Deqim - (Швеция) rio2k | V55: =TEXT(G55,"0")&":"&TEXT(I55,"0") -> 2:2
B56: 0.83055556 | C56: =TRIM($D$6) -> Чехия | D56: =TRIM($D$4) -> Швеция | E56: =$E$6 -> Deqim | F56: =$E$4 -> rio2k | G56: =SUM(K56) -> 1 | I56: =SUM(L56) -> 0 | K56: 1 | L56: 0 | T56: 285 | U56: =TEXT(B56,"h:mm")&" "&($C$1)&" ("&C56&") "&E56&" "&" - ("&D56&") "&F56&"" -> 19:56 Bullet shot Cup (Чехия) Deqim - (Швеция) rio2k | V56: =TEXT(G56,"0")&":"&TEXT(I56,"0") -> 1:0
C58: Гл.Судья - | F58: Ст.Судья -

Sheet ТУР5
C1: ='ТУР1'!$C$1 -> Bullet shot Cup | E1: ТУР5 | F1: ='ТУР1'!$F$1 -> 45697
U2: =C1 -> Bullet shot Cup | V2: =E1 -> ТУР5 | AA2: =$F$1 -> 45697 | AG2: GP | AH2: W | AI2: D | AJ2: L | AK2: GF | AL2: GA | AM2: GD | AN2: PTS | AO2: rank
C3: Участник | D3: Команда | E3: Никнейм | U3: Никнейм | V3: М | W3: В | X3: Н | Y3: П | Z3: ЗГ | AA3: ПГ | AB3: РГ | AC3: Очки | AF3: =E4 -> rio2k | AG3: {=SUM(($E$12:$E$54=AF3)*(ISNUMBER($G$12:$G$54)),($F$12:$F$54=AF3)*(ISNUMBER($I$12:$I$54)))} -> 28 | AH3: {=SUM(('ТУР5'!home=AF3)*('ТУР5'!homescore>'ТУР5'!visitorscore),('ТУР5'!visitor=AF3)*('ТУР5'!visitorscore>'ТУР5'!homescore))} -> 9 | AI3: {=SUM(('ТУР5'!home=AF3)*('ТУР5'!homescore='ТУР5'!visitorscore)*ISNUMBER('ТУР5'!visitorscore),('ТУР5'!visitor=AF3)*('ТУР5'!visitorscore='ТУР5'!homescore)*ISNUMBER('ТУР5'!homescore))} -> 13 | AJ3: {=SUM(('ТУР5'!home=AF3)*('ТУР5'!homescore<'ТУР5'!visitorscore),('ТУР5'!visitor=AF3)*('ТУР5'!visitorscore<'ТУР5'!homescore))} -> 6 | AK3: {=SUMIF('ТУР5'!home,AF3,'ТУР5'!homescore)+SUMIF('ТУР5'!visitor,AF3,'ТУР5'!visitorscore)} -> 46 | AL3: {=SUMIF('ТУР5'!home,AF3,'ТУР5'!visitorscore)+SUMIF('ТУР5'!visitor,AF3,'ТУР5'!homescore)} -> 41 | AM3: =AK3-AL3 -> 5 | AN3: {=AH3*Options!$B$2+AI3*Options!$B$3+AJ3*Options!$B$4+VLOOKUP(AF3,$E$4:$F$8,2,0)} -> 40 | AO3: =AK3+AM3*10000+AN3*100000000 -> 4000050046
C4: ='ТУР3'!$C$4 -> Руслан С. | D4: Канада | E4: ='ТУР3'!$E$4 -> rio2k | U4: {=INDEX($AF$3:$AF$5,MATCH(LARGE($AO$3:$AO$5-ROW($AO$3:$AO$5)/COUNT($AO$3:$AO$5),ROW(U4)-ROW(U$4)+1),$AO$3:$AO$5-ROW($AO$3:$AO$5)/COUNT($AO$3:$AO$5),0))} -> rio2k | V4: {=VLOOKUP($U4,$AF$3:$AN$5,2,0)} -> 28 | W4: {=VLOOKUP($U4,$AF$3:$AN$5,3,0)} -> 9 | X4: {=VLOOKUP($U4,$AF$3:$AN$5,4,0)} -> 13 | Y4: {=VLOOKUP($U4,$AF$3:$AN$5,5,0)} -> 6 | Z4: {=VLOOKUP($U4,$AF$3:$AN$5,6,0)} -> 46 | AA4: {=VLOOKUP($U4,$AF$3:$AN$5,7,0)} -> 41 | AB4: {=VLOOKUP($U4,$AF$3:$AN$5,8,0)} -> 5 | AC4: {=VLOOKUP($U4,$AF$3:$AN$5,9,0)} -> 40 | AF4: =E5 -> MBK | AG4: {=SUM(($E$12:$E$54=AF4)*(ISNUMBER($G$12:$G$54)),($F$12:$F$54=AF4)*(ISNUMBER($I$12:$I$54)))} -> 28 | AH4: {=SUM(('ТУР5'!home=AF4)*('ТУР5'!homescore>'ТУР5'!visitorscore),('ТУР5'!visitor=AF4)*('ТУР5'!visitorscore>'ТУР5'!homescore))} -> 6 | AI4: {=SUM(('ТУР5'!home=AF4)*('ТУР5'!homescore='ТУР5'!visitorscore)*ISNUMBER('ТУР5'!visitorscore),('ТУР5'!visitor=AF4)*('ТУР5'!visitorscore='ТУР5'!homescore)*ISNUMBER('ТУР5'!homescore))} -> 13 | AJ4: {=SUM(('ТУР5'!home=AF4)*('ТУР5'!homescore<'ТУР5'!visitorscore),('ТУР5'!visitor=AF4)*('ТУР5'!visitorscore<'ТУР5'!homescore))} -> 9 | AK4: {=SUMIF('ТУР5'!home,AF4,'ТУР5'!homescore)+SUMIF('ТУР5'!visitor,AF4,'ТУР5'!visitorscore)} -> 39 | AL4: {=SUMIF('ТУР5'!home,AF4,'ТУР5'!visitorscore)+SUMIF('ТУР5'!visitor,AF4,'ТУР5'!homescore)} -> 47 | AM4: =AK4-AL4 -> -8 | AN4: {=AH4*Options!$B$2+AI4*Options!$B$3+AJ4*Options!$B$4+VLOOKUP(AF4,$E$4:$F$8,2,0)} -> 31 | AO4: =AK4+AM4*10000+AN4*100000000 -> 3099920039
C5: ='ТУР3'!$C$5 -> Дмитрий П. | D5: США | E5: ='ТУР3'!$E$5 -> MBK | U5: {=INDEX($AF$3:$AF$5,MATCH(LARGE($AO$3:$AO$5-ROW($AO$3:$AO$5)/COUNT($AO$3:$AO$5),ROW(U5)-ROW(U$4)+1),$AO$3:$AO$5-ROW($AO$3:$AO$5)/COUNT($AO$3:$AO$5),0))} -> Deqim | V5: {=VLOOKUP($U5,$AF$3:$AN$5,2,0)} -> 28 | W5: {=VLOOKUP($U5,$AF$3:$AN$5,3,0)} -> 9 | X5: {=VLOOKUP($U5,$AF$3:$AN$5,4,0)} -> 10 | Y5: {=VLOOKUP($U5,$AF$3:$AN$5,5,0)} -> 9 | Z5: {=VLOOKUP($U5,$AF$3:$AN$5,6,0)} -> 40 | AA5: {=VLOOKUP($U5,$AF$3:$AN$5,7,0)} -> 37 | AB5: {=VLOOKUP($U5,$AF$3:$AN$5,8,0)} -> 3 | AC5: {=VLOOKUP($U5,$AF$3:$AN$5,9,0)} -> 37 | AF5: =E6 -> Deqim | AG5: {=SUM(($E$12:$E$54=AF5)*(ISNUMBER($G$12:$G$54)),($F$12:$F$54=AF5)*(ISNUMBER($I$12:$I$54)))} -> 28 | AH5: {=SUM(('ТУР5'!home=AF5)*('ТУР5'!homescore>'ТУР5'!visitorscore),('ТУР5'!visitor=AF5)*('ТУР5'!visitorscore>'ТУР5'!homescore))} -> 9 | AI5: {=SUM(('ТУР5'!home=AF5)*('ТУР5'!homescore='ТУР5'!visitorscore)*ISNUMBER('ТУР5'!visitorscore),('ТУР5'!visitor=AF5)*('ТУР5'!visitorscore='ТУР5'!homescore)*ISNUMBER('ТУР5'!homescore))} -> 10 | AJ5: {=SUM(('ТУР5'!home=AF5)*('ТУР5'!homescore<'ТУР5'!visitorscore),('ТУР5'!visitor=AF5)*('ТУР5'!visitorscore<'ТУР5'!homescore))} -> 9 | AK5: {=SUMIF('ТУР5'!home,AF5,'ТУР5'!homescore)+SUMIF('ТУР5'!visitor,AF5,'ТУР5'!visitorscore)} -> 40 | AL5: {=SUMIF('ТУР5'!home,AF5,'ТУР5'!visitorscore)+SUMIF('ТУР5'!visitor,AF5,'ТУР5'!homescore)} -> 37 | AM5: =AK5-AL5 -> 3 | AN5: {=AH5*Options!$B$2+AI5*Options!$B$3+AJ5*Options!$B$4+VLOOKUP(AF5,$E$4:$F$8,2,0)} -> 37 | AO5: =AK5+AM5*10000+AN5*100000000 -> 3700030040
C6: ='ТУР3'!$C$6 -> Илья Я. | D6: Швеция | E6: ='ТУР3'!$E$6 -> Deqim | U6: {=INDEX($AF$3:$AF$5,MATCH(LARGE($AO$3:$AO$5-ROW($AO$3:$AO$5)/COUNT($AO$3:$AO$5),ROW(U6)-ROW(U$4)+1),$AO$3:$AO$5-ROW($AO$3:$AO$5)/COUNT($AO$3:$AO$5),0))} -> MBK | V6: {=VLOOKUP($U6,$AF$3:$AN$5,2,0)} -> 28 | W6: {=VLOOKUP($U6,$AF$3:$AN$5,3,0)} -> 6 | X6: {=VLOOKUP($U6,$AF$3:$AN$5,4,0)} -> 13 | Y6: {=VLOOKUP($U6,$AF$3:$AN$5,5,0)} -> 9 | Z6: {=VLOOKUP($U6,$AF$3:$AN$5,6,0)} -> 39 | AA6: {=VLOOKUP($U6,$AF$3:$AN$5,7,0)} -> 47 | AB6: {=VLOOKUP($U6,$AF$3:$AN$5,8,0)} -> -8 | AC6: {=VLOOKUP($U6,$AF$3:$AN$5,9,0)} -> 31
B10: Старт
C11: Команда | D11: Команда | E11: Дом | F11: Гость | G11: Результат | K11: Cчет | N11: PS | S11: PS | T11: № матча | U11: Матч | V11: Счет
B12: 0.83333333 | C12: =TRIM($D$4) -> Канада | D12: =TRIM($D$5) -> США | E12: =$E$4 -> rio2k | F12: =$E$5 -> MBK | G12: =SUM(K12) -> 2 | I12: =SUM(L12) -> 0 | K12: 2 | L12: 0 | T12: 286 | U12: =TEXT(B12,"h:mm")&" "&($C$1)&" ("&C12&") "&E12&" "&" - ("&D12&") "&F12&"" -> 20:00 Bullet shot Cup (Канада) rio2k - (США) MBK | V12: =TEXT(G12,"0")&":"&TEXT(I12,"0") -> 2:0
B13: 0.83611111 | C13: =TRIM($D$4) -> Канада | D13: =TRIM($D$5) -> США | E13: =$E$4 -> rio2k | F13: =$E$5 -> MBK | G13: =SUM(K13) -> 0 | I13: =SUM(L13) -> 0 | K13: 0 | L13: 0 | T13: 287 | U13: =TEXT(B13,"h:mm")&" "&($C$1)&" ("&C13&") "&E13&" "&" - ("&D13&") "&F13&"" -> 20:04 Bullet shot Cup (Канада) rio2k - (США) MBK | V13: =TEXT(G13,"0")&":"&TEXT(I13,"0") -> 0:0
B14: 0.83888889 | C14: =TRIM($D$4) -> Канада | D14: =TRIM($D$5) -> США | E14: =$E$4 -> rio2k | F14: =$E$5 -> MBK | G14: =SUM(K14) -> 2 | I14: =SUM(L14) -> 0 | K14: 2 | L14: 0 | T14: 288 | U14: =TEXT(B14,"h:mm")&" "&($C$1)&" ("&C14&") "&E14&" "&" - ("&D14&") "&F14&"" -> 20:08 Bullet shot Cup (Канада) rio2k - (США) MBK | V14: =TEXT(G14,"0")&":"&TEXT(I14,"0") -> 2:0
B15: 0.84166667 | C15: =TRIM($D$6) -> Швеция | D15: =TRIM($D$5) -> США | E15: =$E$6 -> Deqim | F15: =$E$5 -> MBK | G15: =SUM(K15) -> 2 | I15: =SUM(L15) -> 0 | K15: 2 | L15: 0 | T15: 289 | U15: =TEXT(B15,"h:mm")&" "&($C$1)&" ("&C15&") "&E15&" "&" - ("&D15&") "&F15&"" -> 20:12 Bullet shot Cup (Швеция) Deqim - (США) MBK | V15: =TEXT(G15,"0")&":"&TEXT(I15,"0") -> 2:0
B16: 0.84444444 | C16: =TRIM($D$6) -> Швеция | D16: =TRIM($D$5) -> США | E16: =$E$6 -> Deqim | F16: =$E$5 -> MBK | G16: =SUM(K16) -> 2 | I16: =SUM(L16) -> 0 | K16: 2 | L16: 0 | T16: 290 | U16: =TEXT(B16,"h:mm")&" "&($C$1)&" ("&C16&") "&E16&" "&" - ("&D16&") "&F16&"" -> 20:16 Bullet shot Cup (Швеция) Deqim - (США) MBK | V16: =TEXT(G16,"0")&":"&TEXT(I16,"0") -> 2:0
B17: 0.84722222 | C17: =TRIM($D$6) -> Швеция | D17: =TRIM($D$5) -> США | E17: =$E$6 -> Deqim | F17: =$E$5 -> MBK | G17: =SUM(K17) -> 3 | I17: =SUM(L17) -> 2 | K17: 3 | L17: 2 | T17: 291 | U17: =TEXT(B17,"h:mm")&" "&($C$1)&" ("&C17&") "&E17&" "&" - ("&D17&") "&F17&"" -> 20:20 Bullet shot Cup (Швеция) Deqim - (США) MBK | V17: =TEXT(G17,"0")&":"&TEXT(I17,"0") -> 3:2
B18: 0.85 | C18: =TRIM($D$6) -> Швеция | D18: =TRIM($D$4) -> Канада | E18: =$E$6 -> Deqim | F18: =$E$4 -> rio2k | G18: =SUM(K18) -> 1 | I18: =SUM(L18) -> 2 | K18: 1 | L18: 2 | T18: 292 | U18: =TEXT(B18,"h:mm")&" "&($C$1)&" ("&C18&") "&E18&" "&" - ("&D18&") "&F18&"" -> 20:24 Bullet shot Cup (Швеция) Deqim - (Канада) rio2k | V18: =TEXT(G18,"0")&":"&TEXT(I18,"0") -> 1:2
B19: 0.85277778 | C19: =TRIM($D$6) -> Швеция | D19: =TRIM($D$4) -> Канада | E19: =$E$6 -> Deqim | F19: =$E$4 -> rio2k | G19: =SUM(K19) -> 1 | I19: =SUM(L19,O19) -> 1 | K19: 1 | L19: 1 | T19: 293 | U19: =TEXT(B19,"h:mm")&" "&($C$1)&" ("&C19&") "&E19&" "&" - ("&D19&") "&F19&"" -> 20:28 Bullet shot Cup (Швеция) Deqim - (Канада) rio2k | V19: =TEXT(G19,"0")&":"&TEXT(I19,"0") -> 1:1
B20: 0.85555556 | C20: =TRIM($D$6) -> Швеция | D20: =TRIM($D$4) -> Канада | E20: =$E$6 -> Deqim | F20: =$E$4 -> rio2k | G20: =SUM(K20) -> 1 | I20: =SUM(L20,O20) -> 1 | K20: 1 | L20: 1 | T20: 294 | U20: =TEXT(B20,"h:mm")&" "&($C$1)&" ("&C20&") "&E20&" "&" - ("&D20&") "&F20&"" -> 20:32 Bullet shot Cup (Швеция) Deqim - (Канада) rio2k | V20: =TEXT(G20,"0")&":"&TEXT(I20,"0") -> 1:1
B21: 0.85833333 | C21: =TRIM($D$5) -> США | D21: =TRIM($D$4) -> Канада | E21: =$E$5 -> MBK | F21: =$E$4 -> rio2k | G21: =SUM(K21) -> 0 | I21: =SUM(L21,O21) -> 2 | K21: 0 | L21: 2 | T21: 295 | U21: =TEXT(B21,"h:mm")&" "&($C$1)&" ("&C21&") "&E21&" "&" - ("&D21&") "&F21&"" -> 20:36 Bullet shot Cup (США) MBK - (Канада) rio2k | V21: =TEXT(G21,"0")&":"&TEXT(I21,"0") -> 0:2
B22: 0.86111111 | C22: =TRIM($D$5) -> США | D22: =TRIM($D$4) -> Канада | E22: =$E$5 -> MBK | F22: =$E$4 -> rio2k | G22: =SUM(K22) -> 2 | I22: =SUM(L22,O22) -> 1 | K22: 2 | L22: 1 | T22: 296 | U22: =TEXT(B22,"h:mm")&" "&($C$1)&" ("&C22&") "&E22&" "&" - ("&D22&") "&F22&"" -> 20:40 Bullet shot Cup (США) MBK - (Канада) rio2k | V22: =TEXT(G22,"0")&":"&TEXT(I22,"0") -> 2:1
B23: 0.86388889 | C23: =TRIM($D$5) -> США | D23: =TRIM($D$4) -> Канада | E23: =$E$5 -> MBK | F23: =$E$4 -> rio2k | G23: =SUM(K23) -> 2 | I23: =SUM(L23,O23) -> 2 | K23: 2 | L23: 2 | T23: 297 | U23: =TEXT(B23,"h:mm")&" "&($C$1)&" ("&C23&") "&E23&" "&" - ("&D23&") "&F23&"" -> 20:44 Bullet shot Cup (США) MBK - (Канада) rio2k | V23: =TEXT(G23,"0")&":"&TEXT(I23,"0") -> 2:2
B24: 0.86666667 | C24: =TRIM($D$5) -> США | D24: =TRIM($D$6) -> Швеция | E24: =$E$5 -> MBK | F24: =$E$6 -> Deqim | G24: =SUM(K24) -> 2 | I24: =SUM(L24) -> 1 | K24: 2 | L24: 1 | T24: 298 | U24: =TEXT(B24,"h:mm")&" "&($C$1)&" ("&C24&") "&E24&" "&" - ("&D24&") "&F24&"" -> 20:48 Bullet shot Cup (США) MBK - (Швеция) Deqim | V24: =TEXT(G24,"0")&":"&TEXT(I24,"0") -> 2:1
B25: 0.86944444 | C25: =TRIM($D$5) -> США | D25: =TRIM($D$6) -> Швеция | E25: =$E$5 -> MBK | F25: =$E$6 -> Deqim | G25: =SUM(K25) -> 1 | I25: =SUM(L25) -> 1 | K25: 1 | L25: 1 | T25: 299 | U25: =TEXT(B25,"h:mm")&" "&($C$1)&" ("&C25&") "&E25&" "&" - ("&D25&") "&F25&"" -> 20:52 Bullet shot Cup (США) MBK - (Швеция) Deqim | V25: =TEXT(G25,"0")&":"&TEXT(I25,"0") -> 1:1
B26: 0.87222222 | C26: =TRIM($D$5) -> США | D26: =TRIM($D$6) -> Швеция | E26: =$E$5 -> MBK | F26: =$E$6 -> Deqim | G26: =SUM(K26) -> 2 | I26: =SUM(L26) -> 0 | K26: 2 | L26: 0 | T26: 300 | U26: =TEXT(B26,"h:mm")&" "&($C$1)&" ("&C26&") "&E26&" "&" - ("&D26&") "&F26&"" -> 20:56 Bullet shot Cup (США) MBK - (Швеция) Deqim | V26: =TEXT(G26,"0")&":"&TEXT(I26,"0") -> 2:0
B27: 0.875 | C27: =TRIM($D$4) -> Канада | D27: =TRIM($D$6) -> Швеция | E27: =$E$4 -> rio2k | F27: =$E$6 -> Deqim | G27: =SUM(K27) -> 2 | I27: =SUM(L27) -> 2 | K27: 2 | L27: 2 | T27: 301 | U27: =TEXT(B27,"h:mm")&" "&($C$1)&" ("&C27&") "&E27&" "&" - ("&D27&") "&F27&"" -> 21:00 Bullet shot Cup (Канада) rio2k - (Швеция) Deqim | V27: =TEXT(G27,"0")&":"&TEXT(I27,"0") -> 2:2
B28: 0.87777778 | C28: =TRIM($D$4) -> Канада | D28: =TRIM($D$6) -> Швеция | E28: =$E$4 -> rio2k | F28: =$E$6 -> Deqim | G28: =SUM(K28) -> 0 | I28: =SUM(L28) -> 2 | K28: 0 | L28: 2 | T28: 302 | U28: =TEXT(B28,"h:mm")&" "&($C$1)&" ("&C28&") "&E28&" "&" - ("&D28&") "&F28&"" -> 21:04 Bullet shot Cup (Канада) rio2k - (Швеция) Deqim | V28: =TEXT(G28,"0")&":"&TEXT(I28,"0") -> 0:2
B29: 0.88055556 | C29: =TRIM($D$4) -> Канада | D29: =TRIM($D$6) -> Швеция | E29: =$E$4 -> rio2k | F29: =$E$6 -> Deqim | G29: =SUM(K29) -> 0 | I29: =SUM(L29) -> 1 | K29: 0 | L29: 1 | T29: 303 | U29: =TEXT(B29,"h:mm")&" "&($C$1)&" ("&C29&") "&E29&" "&" - ("&D29&") "&F29&"" -> 21:08 Bullet shot Cup (Канада) rio2k - (Швеция) Deqim | V29: =TEXT(G29,"0")&":"&TEXT(I29,"0") -> 0:1
B30: 0.88333333 | C30: =TRIM($D$4) -> Канада | D30: =TRIM($D$5) -> США | E30: =$E$4 -> rio2k | F30: =$E$5 -> MBK | G30: =SUM(K30) -> 1 | I30: =SUM(L30) -> 1 | K30: 1 | L30: 1 | T30: 304 | U30: =TEXT(B30,"h:mm")&" "&($C$1)&" ("&C30&") "&E30&" "&" - ("&D30&") "&F30&"" -> 21:12 Bullet shot Cup (Канада) rio2k - (США) MBK | V30: =TEXT(G30,"0")&":"&TEXT(I30,"0") -> 1:1
B31: 0.88611111 | C31: =TRIM($D$4) -> Канада | D31: =TRIM($D$5) -> США | E31: =$E$4 -> rio2k | F31: =$E$5 -> MBK | G31: =SUM(K31) -> 3 | I31: =SUM(L31,O31) -> 1 | K31: 3 | L31: 1 | T31: 305 | U31: =TEXT(B31,"h:mm")&" "&($C$1)&" ("&C31&") "&E31&" "&" - ("&D31&") "&F31&"" -> 21:16 Bullet shot Cup (Канада) rio2k - (США) MBK | V31: =TEXT(G31,"0")&":"&TEXT(I31,"0") -> 3:1
B32: 0.88888889 | C32: =TRIM($D$4) -> Канада | D32: =TRIM($D$5) -> США | E32: =$E$4 -> rio2k | F32: =$E$5 -> MBK | G32: =SUM(K32) -> 3 | I32: =SUM(L32,O32) -> 3 | K32: 3 | L32: 3 | T32: 306 | U32: =TEXT(B32,"h:mm")&" "&($C$1)&" ("&C32&") "&E32&" "&" - ("&D32&") "&F32&"" -> 21:20 Bullet shot Cup (Канада) rio2k - (США) MBK | V32: =TEXT(G32,"0")&":"&TEXT(I32,"0") -> 3:3
B33: 0.89166667 | C33: =TRIM($D$6) -> Швеция | D33: =TRIM($D$5) -> США | E33: =$E$6 -> Deqim | F33: =$E$5 -> MBK | G33: =SUM(K33) -> 1 | I33: =SUM(L33,O33) -> 1 | K33: 1 | L33: 1 | T33: 307 | U33: =TEXT(B33,"h:mm")&" "&($C$1)&" ("&C33&") "&E33&" "&" - ("&D33&") "&F33&"" -> 21:24 Bullet shot Cup (Швеция) Deqim - (США) MBK | V33: =TEXT(G33,"0")&":"&TEXT(I33,"0") -> 1:1
B34: 0.89444444 | C34: =TRIM($D$6) -> Швеция | D34: =TRIM($D$5) -> США | E34: =$E$6 -> Deqim | F34: =$E$5 -> MBK | G34: =SUM(K34) -> 3 | I34: =SUM(L34,O34) -> 3 | K34: 3 | L34: 3 | T34: 308 | U34: =TEXT(B34,"h:mm")&" "&($C$1)&" ("&C34&") "&E34&" "&" - ("&D34&") "&F34&"" -> 21:28 Bullet shot Cup (Швеция) Deqim - (США) MBK | V34: =TEXT(G34,"0")&":"&TEXT(I34,"0") -> 3:3
B35: 0.89722222 | C35: =TRIM($D$6) -> Швеция | D35: =TRIM($D$5) -> США | E35: =$E$6 -> Deqim | F35: =$E$5 -> MBK | G35: =SUM(K35) -> 1 | I35: =SUM(L35,O35) -> 1 | K35: 1 | L35: 1 | T35: 309 | U35: =TEXT(B35,"h:mm")&" "&($C$1)&" ("&C35&") "&E35&" "&" - ("&D35&") "&F35&"" -> 21:32 Bullet shot Cup (Швеция) Deqim - (США) MBK | V35: =TEXT(G35,"0")&":"&TEXT(I35,"0") -> 1:1
B36: 0.9 | C36: =TRIM($D$6) -> Швеция | D36: =TRIM($D$4) -> Канада | E36: =$E$6 -> Deqim | F36: =$E$4 -> rio2k | G36: =SUM(K36) -> 1 | I36: =SUM(L36) -> 2 | K36: 1 | L36: 2 | T36: 310 | U36: =TEXT(B36,"h:mm")&" "&($C$1)&" ("&C36&") "&E36&" "&" - ("&D36&") "&F36&"" -> 21:36 Bullet shot Cup (Швеция) Deqim - (Канада) rio2k | V36: =TEXT(G36,"0")&":"&TEXT(I36,"0") -> 1:2
B37: 0.90277778 | C37: =TRIM($D$6) -> Швеция | D37: =TRIM($D$4) -> Канада | E37: =$E$6 -> Deqim | F37: =$E$4 -> rio2k | G37: =SUM(K37) -> 2 | I37: =SUM(L37) -> 2 | K37: 2 | L37: 2 | T37: 311 | U37: =TEXT(B37,"h:mm")&" "&($C$1)&" ("&C37&") "&E37&" "&" - ("&D37&") "&F37&"" -> 21:40 Bullet shot Cup (Швеция) Deqim - (Канада) rio2k | V37: =TEXT(G37,"0")&":"&TEXT(I37,"0") -> 2:2
B38: 0.90555556 | C38: =TRIM($D$6) -> Швеция | D38: =TRIM($D$4) -> Канада | E38: =$E$6 -> Deqim | F38: =$E$4 -> rio2k | G38: =SUM(K38) -> 2 | I38: =SUM(L38) -> 2 | K38: 2 | L38: 2 | T38: 312 | U38: =TEXT(B38,"h:mm")&" "&($C$1)&" ("&C38&") "&E38&" "&" - ("&D38&") "&F38&"" -> 21:44 Bullet shot Cup (Швеция) Deqim - (Канада) rio2k | V38: =TEXT(G38,"0")&":"&TEXT(I38,"0") -> 2:2
B39: 0.90833333 | C39: =TRIM($D$5) -> США | D39: =TRIM($D$4) -> Канада | E39: =$E$5 -> MBK | F39: =$E$4 -> rio2k | G39: =SUM(K39) -> 3 | I39: =SUM(L39) -> 3 | K39: 3 | L39: 3 | T39: 313 | U39: =TEXT(B39,"h:mm")&" "&($C$1)&" ("&C39&") "&E39&" "&" - ("&D39&") "&F39&"" -> 21:48 Bullet shot Cup (США) MBK - (Канада) rio2k | V39: =TEXT(G39,"0")&":"&TEXT(I39,"0") -> 3:3
B40: 0.91111111 | C40: =TRIM($D$5) -> США | D40: =TRIM($D$4) -> Канада | E40: =$E$5 -> MBK | F40: =$E$4 -> rio2k | G40: =SUM(K40) -> 3 | I40: =SUM(L40) -> 3 | K40: 3 | L40: 3 | T40: 314 | U40: =TEXT(B40,"h:mm")&" "&($C$1)&" ("&C40&") "&E40&" "&" - ("&D40&") "&F40&"" -> 21:52 Bullet shot Cup (США) MBK - (Канада) rio2k | V40: =TEXT(G40,"0")&":"&TEXT(I40,"0") -> 3:3
B41: 0.91388889 | C41: =TRIM($D$5) -> США | D41: =TRIM($D$4) -> Канада | E41: =$E$5 -> MBK | F41: =$E$4 -> rio2k | G41: =SUM(K41) -> 1 | I41: =SUM(L41) -> 1 | K41: 1 | L41: 1 | T41: 315 | U41: =TEXT(B41,"h:mm")&" "&($C$1)&" ("&C41&") "&E41&" "&" - ("&D41&") "&F41&"" -> 21:56 Bullet shot Cup (США) MBK - (Канада) rio2k | V41: =TEXT(G41,"0")&":"&TEXT(I41,"0") -> 1:1
B42: 0.91666667 | C42: =TRIM($D$5) -> США | D42: =TRIM($D$6) -> Швеция | E42: =$E$5 -> MBK | F42: =$E$6 -> Deqim | G42: =SUM(K42) -> 3 | I42: =SUM(L42) -> 1 | K42: 3 | L42: 1 | T42: 316 | U42: =TEXT(B42,"h:mm")&" "&($C$1)&" ("&C42&") "&E42&" "&" - ("&D42&") "&F42&"" -> 22:00 Bullet shot Cup (США) MBK - (Швеция) Deqim | V42: =TEXT(G42,"0")&":"&TEXT(I42,"0") -> 3:1
B43: 0.91944444 | C43: =TRIM($D$5) -> США | D43: =TRIM($D$6) -> Швеция | E43: =$E$5 -> MBK | F43: =$E$6 -> Deqim | G43: =SUM(K43) -> 0 | I43: =SUM(L43,O43) -> 1 | K43: 0 | L43: 1 | T43: 317 | U43: =TEXT(B43,"h:mm")&" "&($C$1)&" ("&C43&") "&E43&" "&" - ("&D43&") "&F43&"" -> 22:04 Bullet shot Cup (США) MBK - (Швеция) Deqim | V43: =TEXT(G43,"0")&":"&TEXT(I43,"0") -> 0:1
B44: 0.92222222 | C44: =TRIM($D$5) -> США | D44: =TRIM($D$6) -> Швеция | E44: =$E$5 -> MBK | F44: =$E$6 -> Deqim | G44: =SUM(K44) -> 2 | I44: =SUM(L44,O44) -> 2 | K44: 2 | L44: 2 | T44: 318 | U44: =TEXT(B44,"h:mm")&" "&($C$1)&" ("&C44&") "&E44&" "&" - ("&D44&") "&F44&"" -> 22:08 Bullet shot Cup (США) MBK - (Швеция) Deqim | V44: =TEXT(G44,"0")&":"&TEXT(I44,"0") -> 2:2
B45: 0.925 | C45: =TRIM($D$4) -> Канада | D45: =TRIM($D$6) -> Швеция | E45: =$E$4 -> rio2k | F45: =$E$6 -> Deqim | G45: =SUM(K45) -> 2 | I45: =SUM(L45,O45) -> 1 | K45: 2 | L45: 1 | T45: 319 | U45: =TEXT(B45,"h:mm")&" "&($C$1)&" ("&C45&") "&E45&" "&" - ("&D45&") "&F45&"" -> 22:12 Bullet shot Cup (Канада) rio2k - (Швеция) Deqim | V45: =TEXT(G45,"0")&":"&TEXT(I45,"0") -> 2:1
B46: 0.92777778 | C46: =TRIM($D$4) -> Канада | D46: =TRIM($D$6) -> Швеция | E46: =$E$4 -> rio2k | F46: =$E$6 -> Deqim | G46: =SUM(K46) -> 1 | I46: =SUM(L46,O46) -> 2 | K46: 1 | L46: 2 | T46: 320 | U46: =TEXT(B46,"h:mm")&" "&($C$1)&" ("&C46&") "&E46&" "&" - ("&D46&") "&F46&"" -> 22:16 Bullet shot Cup (Канада) rio2k - (Швеция) Deqim | V46: =TEXT(G46,"0")&":"&TEXT(I46,"0") -> 1:2
B47: 0.93055556 | C47: =TRIM($D$4) -> Канада | D47: =TRIM($D$6) -> Швеция | E47: =$E$4 -> rio2k | F47: =$E$6 -> Deqim | G47: =SUM(K47) -> 2 | I47: =SUM(L47,O47) -> 1 | K47: 2 | L47: 1 | T47: 321 | U47: =TEXT(B47,"h:mm")&" "&($C$1)&" ("&C47&") "&E47&" "&" - ("&D47&") "&F47&"" -> 22:20 Bullet shot Cup (Канада) rio2k - (Швеция) Deqim | V47: =TEXT(G47,"0")&":"&TEXT(I47,"0") -> 2:1
B48: 0.93333333 | C48: =TRIM($D$4) -> Канада | D48: =TRIM($D$5) -> США | E48: =$E$4 -> rio2k | F48: =$E$5 -> MBK | G48: =SUM(K48) -> 1 | I48: =SUM(L48) -> 2 | K48: 1 | L48: 2 | T48: 322 | U48: =TEXT(B48,"h:mm")&" "&($C$1)&" ("&C48&") "&E48&" "&" - ("&D48&") "&F48&"" -> 22:24 Bullet shot Cup (Канада) rio2k - (США) MBK | V48: =TEXT(G48,"0")&":"&TEXT(I48,"0") -> 1:2
B49: 0.93611111 | C49: =TRIM($D$4) -> Канада | D49: =TRIM($D$5) -> США | E49: =$E$4 -> rio2k | F49: =$E$5 -> MBK | G49: =SUM(K49) -> 3 | I49: =SUM(L49,O49) -> 3 | K49: 3 | L49: 3 | T49: 323 | U49: =TEXT(B49,"h:mm")&" "&($C$1)&" ("&C49&") "&E49&" "&" - ("&D49&") "&F49&"" -> 22:28 Bullet shot Cup (Канада) rio2k - (США) MBK | V49: =TEXT(G49,"0")&":"&TEXT(I49,"0") -> 3:3
B50: 0.93888889 | C50: =TRIM($D$6) -> Швеция | D50: =TRIM($D$5) -> США | E50: =$E$6 -> Deqim | F50: =$E$5 -> MBK | G50: =SUM(K50) -> 2 | I50: =SUM(L50,O50) -> 0 | K50: 2 | L50: 0 | T50: 324 | U50: =TEXT(B50,"h:mm")&" "&($C$1)&" ("&C50&") "&E50&" "&" - ("&D50&") "&F50&"" -> 22:32 Bullet shot Cup (Швеция) Deqim - (США) MBK | V50: =TEXT(G50,"0")&":"&TEXT(I50,"0") -> 2:0
B51: 0.94166667 | C51: =TRIM($D$6) -> Швеция | D51: =TRIM($D$5) -> США | E51: =$E$6 -> Deqim | F51: =$E$5 -> MBK | G51: =SUM(K51) -> 0 | I51: =SUM(L51,O51) -> 1 | K51: 0 | L51: 1 | T51: 325 | U51: =TEXT(B51,"h:mm")&" "&($C$1)&" ("&C51&") "&E51&" "&" - ("&D51&") "&F51&"" -> 22:36 Bullet shot Cup (Швеция) Deqim - (США) MBK | V51: =TEXT(G51,"0")&":"&TEXT(I51,"0") -> 0:1
B52: 0.94444444 | C52: =TRIM($D$6) -> Швеция | D52: =TRIM($D$4) -> Канада | E52: =$E$6 -> Deqim | F52: =$E$4 -> rio2k | G52: =SUM(K52) -> 1 | I52: =SUM(L52,O52) -> 2 | K52: 1 | L52: 2 | T52: 326 | U52: =TEXT(B52,"h:mm")&" "&($C$1)&" ("&C52&") "&E52&" "&" - ("&D52&") "&F52&"" -> 22:40 Bullet shot Cup (Швеция) Deqim - (Канада) rio2k | V52: =TEXT(G52,"0")&":"&TEXT(I52,"0") -> 1:2
B53: 0.94722222 | C53: =TRIM($D$6) -> Швеция | D53: =TRIM($D$4) -> Канада | E53: =$E$6 -> Deqim | F53: =$E$4 -> rio2k | G53: =SUM(K53) -> 2 | I53: =SUM(L53,O53) -> 0 | K53: 2 | L53: 0 | T53: 327 | U53: =TEXT(B53,"h:mm")&" "&($C$1)&" ("&C53&") "&E53&" "&" - ("&D53&") "&F53&"" -> 22:44 Bullet shot Cup (Швеция) Deqim - (Канада) rio2k | V53: =TEXT(G53,"0")&":"&TEXT(I53,"0") -> 2:0
C55: Гл.Судья - | F55: Ст.Судья -

Sheet ТУР6
C1: ='ТУР1'!$C$1 -> Bullet shot Cup | E1: ТУР6 | F1: ='ТУР1'!$F$1 -> 45697
U2: =C1 -> Bullet shot Cup | V2: =E1 -> ТУР6 | AA2: =$F$1 -> 45697 | AG2: GP | AH2: W | AI2: D | AJ2: L | AK2: GF | AL2: GA | AM2: GD | AN2: PTS | AO2: rank
C3: Участник | D3: Команда | E3: Никнейм | U3: Никнейм | V3: М | W3: В | X3: Н | Y3: П | Z3: ЗГ | AA3: ПГ | AB3: РГ | AC3: Очки | AF3: =E4 -> Handzus | AG3: {=SUM(($E$12:$E$54=AF3)*(ISNUMBER($G$12:$G$54)),($F$12:$F$54=AF3)*(ISNUMBER($I$12:$I$54)))} -> 28 | AH3: {=SUM(('ТУР6'!home=AF3)*('ТУР6'!homescore>'ТУР6'!visitorscore),('ТУР6'!visitor=AF3)*('ТУР6'!visitorscore>'ТУР6'!homescore))} -> 8 | AI3: {=SUM(('ТУР6'!home=AF3)*('ТУР6'!homescore='ТУР6'!visitorscore)*ISNUMBER('ТУР6'!visitorscore),('ТУР6'!visitor=AF3)*('ТУР6'!visitorscore='ТУР6'!homescore)*ISNUMBER('ТУР6'!homescore))} -> 8 | AJ3: {=SUM(('ТУР6'!home=AF3)*('ТУР6'!homescore<'ТУР6'!visitorscore),('ТУР6'!visitor=AF3)*('ТУР6'!visitorscore<'ТУР6'!homescore))} -> 12 | AK3: {=SUMIF('ТУР6'!home,AF3,'ТУР6'!homescore)+SUMIF('ТУР6'!visitor,AF3,'ТУР6'!visitorscore)} -> 35 | AL3: {=SUMIF('ТУР6'!home,AF3,'ТУР6'!visitorscore)+SUMIF('ТУР6'!visitor,AF3,'ТУР6'!homescore)} -> 45 | AM3: =AK3-AL3 -> -10 | AN3: {=AH3*Options!$B$2+AI3*Options!$B$3+AJ3*Options!$B$4+VLOOKUP(AF3,$E$4:$F$8,2,0)} -> 32 | AO3: =AK3+AM3*10000+AN3*100000000 -> 3199900035
C4: Евгений Б. | D4: Финляндия | E4: Handzus | U4: {=INDEX($AF$3:$AF$5,MATCH(LARGE($AO$3:$AO$5-ROW($AO$3:$AO$5)/COUNT($AO$3:$AO$5),ROW(U4)-ROW(U$4)+1),$AO$3:$AO$5-ROW($AO$3:$AO$5)/COUNT($AO$3:$AO$5),0))} -> AVTOMAT | V4: {=VLOOKUP($U4,$AF$3:$AN$5,2,0)} -> 28 | W4: {=VLOOKUP($U4,$AF$3:$AN$5,3,0)} -> 11 | X4: {=VLOOKUP($U4,$AF$3:$AN$5,4,0)} -> 10 | Y4: {=VLOOKUP($U4,$AF$3:$AN$5,5,0)} -> 7 | Z4: {=VLOOKUP($U4,$AF$3:$AN$5,6,0)} -> 43 | AA4: {=VLOOKUP($U4,$AF$3:$AN$5,7,0)} -> 36 | AB4: {=VLOOKUP($U4,$AF$3:$AN$5,8,0)} -> 7 | AC4: {=VLOOKUP($U4,$AF$3:$AN$5,9,0)} -> 43 | AF4: =E5 -> YOSEN | AG4: {=SUM(($E$12:$E$54=AF4)*(ISNUMBER($G$12:$G$54)),($F$12:$F$54=AF4)*(ISNUMBER($I$12:$I$54)))} -> 28 | AH4: {=SUM(('ТУР6'!home=AF4)*('ТУР6'!homescore>'ТУР6'!visitorscore),('ТУР6'!visitor=AF4)*('ТУР6'!visitorscore>'ТУР6'!homescore))} -> 10 | AI4: {=SUM(('ТУР6'!home=AF4)*('ТУР6'!homescore='ТУР6'!visitorscore)*ISNUMBER('ТУР6'!visitorscore),('ТУР6'!visitor=AF4)*('ТУР6'!visitorscore='ТУР6'!homescore)*ISNUMBER('ТУР6'!homescore))} -> 8 | AJ4: {=SUM(('ТУР6'!home=AF4)*('ТУР6'!homescore<'ТУР6'!visitorscore),('ТУР6'!visitor=AF4)*('ТУР6'!visitorscore<'ТУР6'!homescore))} -> 10 | AK4: {=SUMIF('ТУР6'!home,AF4,'ТУР6'!homescore)+SUMIF('ТУР6'!visitor,AF4,'ТУР6'!visitorscore)} -> 44 | AL4: {=SUMIF('ТУР6'!home,AF4,'ТУР6'!visitorscore)+SUMIF('ТУР6'!visitor,AF4,'ТУР6'!homescore)} -> 41 | AM4: =AK4-AL4 -> 3 | AN4: {=AH4*Options!$B$2+AI4*Options!$B$3+AJ4*Options!$B$4+VLOOKUP(AF4,$E$4:$F$8,2,0)} -> 38 | AO4: =AK4+AM4*10000+AN4*100000000 -> 3800030044
C5: Михаил Ж. | D5: Чехия | E5: YOSEN | U5: {=INDEX($AF$3:$AF$5,MATCH(LARGE($AO$3:$AO$5-ROW($AO$3:$AO$5)/COUNT($AO$3:$AO$5),ROW(U5)-ROW(U$4)+1),$AO$3:$AO$5-ROW($AO$3:$AO$5)/COUNT($AO$3:$AO$5),0))} -> YOSEN | V5: {=VLOOKUP($U5,$AF$3:$AN$5,2,0)} -> 28 | W5: {=VLOOKUP($U5,$AF$3:$AN$5,3,0)} -> 10 | X5: {=VLOOKUP($U5,$AF$3:$AN$5,4,0)} -> 8 | Y5: {=VLOOKUP($U5,$AF$3:$AN$5,5,0)} -> 10 | Z5: {=VLOOKUP($U5,$AF$3:$AN$5,6,0)} -> 44 | AA5: {=VLOOKUP($U5,$AF$3:$AN$5,7,0)} -> 41 | AB5: {=VLOOKUP($U5,$AF$3:$AN$5,8,0)} -> 3 | AC5: {=VLOOKUP($U5,$AF$3:$AN$5,9,0)} -> 38 | AF5: =E6 -> AVTOMAT | AG5: {=SUM(($E$12:$E$54=AF5)*(ISNUMBER($G$12:$G$54)),($F$12:$F$54=AF5)*(ISNUMBER($I$12:$I$54)))} -> 28 | AH5: {=SUM(('ТУР6'!home=AF5)*('ТУР6'!homescore>'ТУР6'!visitorscore),('ТУР6'!visitor=AF5)*('ТУР6'!visitorscore>'ТУР6'!homescore))} -> 11 | AI5: {=SUM(('ТУР6'!home=AF5)*('ТУР6'!homescore='ТУР6'!visitorscore)*ISNUMBER('ТУР6'!visitorscore),('ТУР6'!visitor=AF5)*('ТУР6'!visitorscore='ТУР6'!homescore)*ISNUMBER('ТУР6'!homescore))} -> 10 | AJ5: {=SUM(('ТУР6'!home=AF5)*('ТУР6'!homescore<'ТУР6'!visitorscore),('ТУР6'!visitor=AF5)*('ТУР6'!visitorscore<'ТУР6'!homescore))} -> 7 | AK5: {=SUMIF('ТУР6'!home,AF5,'ТУР6'!homescore)+SUMIF('ТУР6'!visitor,AF5,'ТУР6'!visitorscore)} -> 43 | AL5: {=SUMIF('ТУР6'!home,AF5,'ТУР6'!visitorscore)+SUMIF('ТУР6'!visitor,AF5,'ТУР6'!homescore)} -> 36 | AM5: =AK5-AL5 -> 7 | AN5: {=AH5*Options!$B$2+AI5*Options!$B$3+AJ5*Options!$B$4+VLOOKUP(AF5,$E$4:$F$8,2,0)} -> 43 | AO5: =AK5+AM5*10000+AN5*100000000 -> 4300070043
C6: Вильдан А. | D6: Германия | E6: AVTOMAT | U6: {=INDEX($AF$3:$AF$5,MATCH(LARGE($AO$3:$AO$5-ROW($AO$3:$AO$5)/COUNT($AO$3:$AO$5),ROW(U6)-ROW(U$4)+1),$AO$3:$AO$5-ROW($AO$3:$AO$5)/COUNT($AO$3:$AO$5),0))} -> Handzus | V6: {=VLOOKUP($U6,$AF$3:$AN$5,2,0)} -> 28 | W6: {=VLOOKUP($U6,$AF$3:$AN$5,3,0)} -> 8 | X6: {=VLOOKUP($U6,$AF$3:$AN$5,4,0)} -> 8 | Y6: {=VLOOKUP($U6,$AF$3:$AN$5,5,0)} -> 12 | Z6: {=VLOOKUP($U6,$AF$3:$AN$5,6,0)} -> 35 | AA6: {=VLOOKUP($U6,$AF$3:$AN$5,7,0)} -> 45 | AB6: {=VLOOKUP($U6,$AF$3:$AN$5,8,0)} -> -10 | AC6: {=VLOOKUP($U6,$AF$3:$AN$5,9,0)} -> 32
B10: Старт
C11: Команда | D11: Команда | E11: Дом | F11: Гость | G11: Результат | K11: Cчет | N11: PS | S11: PS | T11: № матча | U11: Матч | V11: Счет
B12: 0.95833333 | C12: =TRIM($D$4) -> Финляндия | D12: =TRIM($D$5) -> Чехия | E12: =$E$4 -> Handzus | F12: =$E$5 -> YOSEN | G12: =SUM(K12) -> 2 | I12: =SUM(L12) -> 1 | K12: 2 | L12: 1 | T12: 328 | U12: =TEXT(B12,"h:mm")&" "&($C$1)&" ("&C12&") "&E12&" "&" - ("&D12&") "&F12&"" -> 23:00 Bullet shot Cup (Финляндия) Handzus - (Чехия) YOSEN | V12: =TEXT(G12,"0")&":"&TEXT(I12,"0") -> 2:1
B13: 0.96111111 | C13: =TRIM($D$4) -> Финляндия | D13: =TRIM($D$5) -> Чехия | E13: =$E$4 -> Handzus | F13: =$E$5 -> YOSEN | G13: =SUM(K13) -> 3 | I13: =SUM(L13) -> 1 | K13: 3 | L13: 1 | T13: 329 | U13: =TEXT(B13,"h:mm")&" "&($C$1)&" ("&C13&") "&E13&" "&" - ("&D13&") "&F13&"" -> 23:04 Bullet shot Cup (Финляндия) Handzus - (Чехия) YOSEN | V13: =TEXT(G13,"0")&":"&TEXT(I13,"0") -> 3:1
B14: 0.96388889 | C14: =TRIM($D$4) -> Финляндия | D14: =TRIM($D$5) -> Чехия | E14: =$E$4 -> Handzus | F14: =$E$5 -> YOSEN | G14: =SUM(K14) -> 2 | I14: =SUM(L14) -> 1 | K14: 2 | L14: 1 | T14: 330 | U14: =TEXT(B14,"h:mm")&" "&($C$1)&" ("&C14&") "&E14&" "&" - ("&D14&") "&F14&"" -> 23:08 Bullet shot Cup (Финляндия) Handzus - (Чехия) YOSEN | V14: =TEXT(G14,"0")&":"&TEXT(I14,"0") -> 2:1
B15: 0.96666667 | C15: =TRIM($D$6) -> Германия | D15: =TRIM($D$5) -> Чехия | E15: =$E$6 -> AVTOMAT | F15: =$E$5 -> YOSEN | G15: =SUM(K15) -> 0 | I15: =SUM(L15) -> 1 | K15: 0 | L15: 1 | T15: 331 | U15: =TEXT(B15,"h:mm")&" "&($C$1)&" ("&C15&") "&E15&" "&" - ("&D15&") "&F15&"" -> 23:12 Bullet shot Cup (Германия) AVTOMAT - (Чехия) YOSEN | V15: =TEXT(G15,"0")&":"&TEXT(I15,"0") -> 0:1
B16: 0.96944444 | C16: =TRIM($D$6) -> Германия | D16: =TRIM($D$5) -> Чехия | E16: =$E$6 -> AVTOMAT | F16: =$E$5 -> YOSEN | G16: =SUM(K16) -> 2 | I16: =SUM(L16) -> 2 | K16: 2 | L16: 2 | T16: 332 | U16: =TEXT(B16,"h:mm")&" "&($C$1)&" ("&C16&") "&E16&" "&" - ("&D16&") "&F16&"" -> 23:16 Bullet shot Cup (Германия) AVTOMAT - (Чехия) YOSEN | V16: =TEXT(G16,"0")&":"&TEXT(I16,"0") -> 2:2
B17: 0.97222222 | C17: =TRIM($D$6) -> Германия | D17: =TRIM($D$5) -> Чехия | E17: =$E$6 -> AVTOMAT | F17: =$E$5 -> YOSEN | G17: =SUM(K17) -> 1 | I17: =SUM(L17) -> 0 | K17: 1 | L17: 0 | T17: 333 | U17: =TEXT(B17,"h:mm")&" "&($C$1)&" ("&C17&") "&E17&" "&" - ("&D17&") "&F17&"" -> 23:20 Bullet shot Cup (Германия) AVTOMAT - (Чехия) YOSEN | V17: =TEXT(G17,"0")&":"&TEXT(I17,"0") -> 1:0
B18: 0.975 | C18: =TRIM($D$6) -> Германия | D18: =TRIM($D$4) -> Финляндия | E18: =$E$6 -> AVTOMAT | F18: =$E$4 -> Handzus | G18: =SUM(K18) -> 2 | I18: =SUM(L18) -> 1 | K18: 2 | L18: 1 | T18: 334 | U18: =TEXT(B18,"h:mm")&" "&($C$1)&" ("&C18&") "&E18&" "&" - ("&D18&") "&F18&"" -> 23:24 Bullet shot Cup (Германия) AVTOMAT - (Финляндия) Handzus | V18: =TEXT(G18,"0")&":"&TEXT(I18,"0") -> 2:1
B19: 0.97777778 | C19: =TRIM($D$6) -> Германия | D19: =TRIM($D$4) -> Финляндия | E19: =$E$6 -> AVTOMAT | F19: =$E$4 -> Handzus | G19: =SUM(K19) -> 3 | I19: =SUM(L19,O19) -> 1 | K19: 3 | L19: 1 | T19: 335 | U19: =TEXT(B19,"h:mm")&" "&($C$1)&" ("&C19&") "&E19&" "&" - ("&D19&") "&F19&"" -> 23:28 Bullet shot Cup (Германия) AVTOMAT - (Финляндия) Handzus | V19: =TEXT(G19,"0")&":"&TEXT(I19,"0") -> 3:1
B20: 0.98055556 | C20: =TRIM($D$6) -> Германия | D20: =TRIM($D$4) -> Финляндия | E20: =$E$6 -> AVTOMAT | F20: =$E$4 -> Handzus | G20: =SUM(K20) -> 1 | I20: =SUM(L20,O20) -> 1 | K20: 1 | L20: 1 | T20: 336 | U20: =TEXT(B20,"h:mm")&" "&($C$1)&" ("&C20&") "&E20&" "&" - ("&D20&") "&F20&"" -> 23:32 Bullet shot Cup (Германия) AVTOMAT - (Финляндия) Handzus | V20: =TEXT(G20,"0")&":"&TEXT(I20,"0") -> 1:1
B21: 0.98333333 | C21: =TRIM($D$5) -> Чехия | D21: =TRIM($D$4) -> Финляндия | E21: =$E$5 -> YOSEN | F21: =$E$4 -> Handzus | G21: =SUM(K21) -> 2 | I21: =SUM(L21,O21) -> 1 | K21: 2 | L21: 1 | T21: 337 | U21: =TEXT(B21,"h:mm")&" "&($C$1)&" ("&C21&") "&E21&" "&" - ("&D21&") "&F21&"" -> 23:36 Bullet shot Cup (Чехия) YOSEN - (Финляндия) Handzus | V21: =TEXT(G21,"0")&":"&TEXT(I21,"0") -> 2:1
B22: 0.98611111 | C22: =TRIM($D$5) -> Чехия | D22: =TRIM($D$4) -> Финляндия | E22: =$E$5 -> YOSEN | F22: =$E$4 -> Handzus | G22: =SUM(K22) -> 2 | I22: =SUM(L22,O22) -> 1 | K22: 2 | L22: 1 | T22: 338 | U22: =TEXT(B22,"h:mm")&" "&($C$1)&" ("&C22&") "&E22&" "&" - ("&D22&") "&F22&"" -> 23:40 Bullet shot Cup (Чехия) YOSEN - (Финляндия) Handzus | V22: =TEXT(G22,"0")&":"&TEXT(I22,"0") -> 2:1
B23: 0.98888889 | C23: =TRIM($D$5) -> Чехия | D23: =TRIM($D$4) -> Финляндия | E23: =$E$5 -> YOSEN | F23: =$E$4 -> Handzus | G23: =SUM(K23) -> 2 | I23: =SUM(L23,O23) -> 3 | K23: 2 | L23: 3 | T23: 339 | U23: =TEXT(B23,"h:mm")&" "&($C$1)&" ("&C23&") "&E23&" "&" - ("&D23&") "&F23&"" -> 23:44 Bullet shot Cup (Чехия) YOSEN - (Финляндия) Handzus | V23: =TEXT(G23,"0")&":"&TEXT(I23,"0") -> 2:3
B24: 0.99166667 | C24: =TRIM($D$5) -> Чехия | D24: =TRIM($D$6) -> Германия | E24: =$E$5 -> YOSEN | F24: =$E$6 -> AVTOMAT | G24: =SUM(K24) -> 1 | I24: =SUM(L24) -> 2 | K24: 1 | L24: 2 | T24: 340 | U24: =TEXT(B24,"h:mm")&" "&($C$1)&" ("&C24&") "&E24&" "&" - ("&D24&") "&F24&"" -> 23:48 Bullet shot Cup (Чехия) YOSEN - (Германия) AVTOMAT | V24: =TEXT(G24,"0")&":"&TEXT(I24,"0") -> 1:2
B25: 0.99444444 | C25: =TRIM($D$5) -> Чехия | D25: =TRIM($D$6) -> Германия | E25: =$E$5 -> YOSEN | F25: =$E$6 -> AVTOMAT | G25: =SUM(K25) -> 1 | I25: =SUM(L25) -> 2 | K25: 1 | L25: 2 | T25: 341 | U25: =TEXT(B25,"h:mm")&" "&($C$1)&" ("&C25&") "&E25&" "&" - ("&D25&") "&F25&"" -> 23:52 Bullet shot Cup (Чехия) YOSEN - (Германия) AVTOMAT | V25: =TEXT(G25,"0")&":"&TEXT(I25,"0") -> 1:2
B26: 0.99722222 | C26: =TRIM($D$5) -> Чехия | D26: =TRIM($D$6) -> Германия | E26: =$E$5 -> YOSEN | F26: =$E$6 -> AVTOMAT | G26: =SUM(K26) -> 2 | I26: =SUM(L26) -> 2 | K26: 2 | L26: 2 | T26: 342 | U26: =TEXT(B26,"h:mm")&" "&($C$1)&" ("&C26&") "&E26&" "&" - ("&D26&") "&F26&"" -> 23:56 Bullet shot Cup (Чехия) YOSEN - (Германия) AVTOMAT | V26: =TEXT(G26,"0")&":"&TEXT(I26,"0") -> 2:2
B27: 1 | C27: =TRIM($D$4) -> Финляндия | D27: =TRIM($D$6) -> Германия | E27: =$E$4 -> Handzus | F27: =$E$6 -> AVTOMAT | G27: =SUM(K27) -> 1 | I27: =SUM(L27) -> 0 | K27: 1 | L27: 0 | T27: 1 | U27: =TEXT(B27,"h:mm")&" "&($C$1)&" ("&C27&") "&E27&" "&" - ("&D27&") "&F27&"" -> 0:00 Bullet shot Cup (Финляндия) Handzus - (Германия) AVTOMAT | V27: =TEXT(G27,"0")&":"&TEXT(I27,"0") -> 1:0
B28: 1.0027778 | C28: =TRIM($D$4) -> Финляндия | D28: =TRIM($D$6) -> Германия | E28: =$E$4 -> Handzus | F28: =$E$6 -> AVTOMAT | G28: =SUM(K28) -> 0 | I28: =SUM(L28) -> 2 | K28: 0 | L28: 2 | T28: 2 | U28: =TEXT(B28,"h:mm")&" "&($C$1)&" ("&C28&") "&E28&" "&" - ("&D28&") "&F28&"" -> 0:04 Bullet shot Cup (Финляндия) Handzus - (Германия) AVTOMAT | V28: =TEXT(G28,"0")&":"&TEXT(I28,"0") -> 0:2
B29: 1.0055556 | C29: =TRIM($D$4) -> Финляндия | D29: =TRIM($D$6) -> Германия | E29: =$E$4 -> Handzus | F29: =$E$6 -> AVTOMAT | G29: =SUM(K29) -> 1 | I29: =SUM(L29) -> 1 | K29: 1 | L29: 1 | T29: 3 | U29: =TEXT(B29,"h:mm")&" "&($C$1)&" ("&C29&") "&E29&" "&" - ("&D29&") "&F29&"" -> 0:08 Bullet shot Cup (Финляндия) Handzus - (Германия) AVTOMAT | V29: =TEXT(G29,"0")&":"&TEXT(I29,"0") -> 1:1
B30: 1.0083333 | C30: =TRIM($D$4) -> Финляндия | D30: =TRIM($D$5) -> Чехия | E30: =$E$4 -> Handzus | F30: =$E$5 -> YOSEN | G30: =SUM(K30) -> 2 | I30: =SUM(L30) -> 2 | K30: 2 | L30: 2 | T30: 4 | U30: =TEXT(B30,"h:mm")&" "&($C$1)&" ("&C30&") "&E30&" "&" - ("&D30&") "&F30&"" -> 0:12 Bullet shot Cup (Финляндия) Handzus - (Чехия) YOSEN | V30: =TEXT(G30,"0")&":"&TEXT(I30,"0") -> 2:2
B31: 1.0111111 | C31: =TRIM($D$4) -> Финляндия | D31: =TRIM($D$5) -> Чехия | E31: =$E$4 -> Handzus | F31: =$E$5 -> YOSEN | G31: =SUM(K31) -> 1 | I31: =SUM(L31,O31) -> 1 | K31: 1 | L31: 1 | T31: 5 | U31: =TEXT(B31,"h:mm")&" "&($C$1)&" ("&C31&") "&E31&" "&" - ("&D31&") "&F31&"" -> 0:16 Bullet shot Cup (Финляндия) Handzus - (Чехия) YOSEN | V31: =TEXT(G31,"0")&":"&TEXT(I31,"0") -> 1:1
B32: 1.0138889 | C32: =TRIM($D$4) -> Финляндия | D32: =TRIM($D$5) -> Чехия | E32: =$E$4 -> Handzus | F32: =$E$5 -> YOSEN | G32: =SUM(K32) -> 0 | I32: =SUM(L32,O32) -> 2 | K32: 0 | L32: 2 | T32: 6 | U32: =TEXT(B32,"h:mm")&" "&($C$1)&" ("&C32&") "&E32&" "&" - ("&D32&") "&F32&"" -> 0:20 Bullet shot Cup (Финляндия) Handzus - (Чехия) YOSEN | V32: =TEXT(G32,"0")&":"&TEXT(I32,"0") -> 0:2
B33: 1.0166667 | C33: =TRIM($D$6) -> Германия | D33: =TRIM($D$5) -> Чехия | E33: =$E$6 -> AVTOMAT | F33: =$E$5 -> YOSEN | G33: =SUM(K33) -> 3 | I33: =SUM(L33,O33) -> 3 | K33: 3 | L33: 3 | T33: 7 | U33: =TEXT(B33,"h:mm")&" "&($C$1)&" ("&C33&") "&E33&" "&" - ("&D33&") "&F33&"" -> 0:24 Bullet shot Cup (Германия) AVTOMAT - (Чехия) YOSEN | V33: =TEXT(G33,"0")&":"&TEXT(I33,"0") -> 3:3
B34: 1.0194444 | C34: =TRIM($D$6) -> Германия | D34: =TRIM($D$5) -> Чехия | E34: =$E$6 -> AVTOMAT | F34: =$E$5 -> YOSEN | G34: =SUM(K34) -> 2 | I34: =SUM(L34,O34) -> 2 | K34: 2 | L34: 2 | T34: 8 | U34: =TEXT(B34,"h:mm")&" "&($C$1)&" ("&C34&") "&E34&" "&" - ("&D34&") "&F34&"" -> 0:28 Bullet shot Cup (Германия) AVTOMAT - (Чехия) YOSEN | V34: =TEXT(G34,"0")&":"&TEXT(I34,"0") -> 2:2
B35: 1.0222222 | C35: =TRIM($D$6) -> Германия | D35: =TRIM($D$5) -> Чехия | E35: =$E$6 -> AVTOMAT | F35: =$E$5 -> YOSEN | G35: =SUM(K35) -> 2 | I35: =SUM(L35,O35) -> 0 | K35: 2 | L35: 0 | T35: 9 | U35: =TEXT(B35,"h:mm")&" "&($C$1)&" ("&C35&") "&E35&" "&" - ("&D35&") "&F35&"" -> 0:32 Bullet shot Cup (Германия) AVTOMAT - (Чехия) YOSEN | V35: =TEXT(G35,"0")&":"&TEXT(I35,"0") -> 2:0
B36: 1.025 | C36: =TRIM($D$6) -> Германия | D36: =TRIM($D$4) -> Финляндия | E36: =$E$6 -> AVTOMAT | F36: =$E$4 -> Handzus | G36: =SUM(K36) -> 2 | I36: =SUM(L36) -> 1 | K36: 2 | L36: 1 | T36: 10 | U36: =TEXT(B36,"h:mm")&" "&($C$1)&" ("&C36&") "&E36&" "&" - ("&D36&") "&F36&"" -> 0:36 Bullet shot Cup (Германия) AVTOMAT - (Финляндия) Handzus | V36: =TEXT(G36,"0")&":"&TEXT(I36,"0") -> 2:1
B37: 1.0277778 | C37: =TRIM($D$6) -> Германия | D37: =TRIM($D$4) -> Финляндия | E37: =$E$6 -> AVTOMAT | F37: =$E$4 -> Handzus | G37: =SUM(K37) -> 2 | I37: =SUM(L37) -> 1 | K37: 2 | L37: 1 | T37: 11 | U37: =TEXT(B37,"h:mm")&" "&($C$1)&" ("&C37&") "&E37&" "&" - ("&D37&") "&F37&"" -> 0:40 Bullet shot Cup (Германия) AVTOMAT - (Финляндия) Handzus | V37: =TEXT(G37,"0")&":"&TEXT(I37,"0") -> 2:1
B38: 1.0305556 | C38: =TRIM($D$6) -> Германия | D38: =TRIM($D$4) -> Финляндия | E38: =$E$6 -> AVTOMAT | F38: =$E$4 -> Handzus | G38: =SUM(K38) -> 2 | I38: =SUM(L38) -> 2 | K38: 2 | L38: 2 | T38: 12 | U38: =TEXT(B38,"h:mm")&" "&($C$1)&" ("&C38&") "&E38&" "&" - ("&D38&") "&F38&"" -> 0:44 Bullet shot Cup (Германия) AVTOMAT - (Финляндия) Handzus | V38: =TEXT(G38,"0")&":"&TEXT(I38,"0") -> 2:2
B39: 1.0333333 | C39: =TRIM($D$5) -> Чехия | D39: =TRIM($D$4) -> Финляндия | E39: =$E$5 -> YOSEN | F39: =$E$4 -> Handzus | G39: =SUM(K39) -> 3 | I39: =SUM(L39) -> 1 | K39: 3 | L39: 1 | T39: 13 | U39: =TEXT(B39,"h:mm")&" "&($C$1)&" ("&C39&") "&E39&" "&" - ("&D39&") "&F39&"" -> 0:48 Bullet shot Cup (Чехия) YOSEN - (Финляндия) Handzus | V39: =TEXT(G39,"0")&":"&TEXT(I39,"0") -> 3:1
B40: 1.0361111 | C40: =TRIM($D$5) -> Чехия | D40: =TRIM($D$4) -> Финляндия | E40: =$E$5 -> YOSEN | F40: =$E$4 -> Handzus | G40: =SUM(K40) -> 2 | I40: =SUM(L40) -> 2 | K40: 2 | L40: 2 | T40: 14 | U40: =TEXT(B40,"h:mm")&" "&($C$1)&" ("&C40&") "&E40&" "&" - ("&D40&") "&F40&"" -> 0:52 Bullet shot Cup (Чехия) YOSEN - (Финляндия) Handzus | V40: =TEXT(G40,"0")&":"&TEXT(I40,"0") -> 2:2
B41: 1.0388889 | C41: =TRIM($D$5) -> Чехия | D41: =TRIM($D$4) -> Финляндия | E41: =$E$5 -> YOSEN | F41: =$E$4 -> Handzus | G41: =SUM(K41) -> 2 | I41: =SUM(L41) -> 0 | K41: 2 | L41: 0 | T41: 15 | U41: =TEXT(B41,"h:mm")&" "&($C$1)&" ("&C41&") "&E41&" "&" - ("&D41&") "&F41&"" -> 0:56 Bullet shot Cup (Чехия) YOSEN - (Финляндия) Handzus | V41: =TEXT(G41,"0")&":"&TEXT(I41,"0") -> 2:0
B42: 1.0416667 | C42: =TRIM($D$5) -> Чехия | D42: =TRIM($D$6) -> Германия | E42: =$E$5 -> YOSEN | F42: =$E$6 -> AVTOMAT | G42: =SUM(K42) -> 1 | I42: =SUM(L42) -> 1 | K42: 1 | L42: 1 | T42: 16 | U42: =TEXT(B42,"h:mm")&" "&($C$1)&" ("&C42&") "&E42&" "&" - ("&D42&") "&F42&"" -> 1:00 Bullet shot Cup (Чехия) YOSEN - (Германия) AVTOMAT | V42: =TEXT(G42,"0")&":"&TEXT(I42,"0") -> 1:1
B43: 1.0444444 | C43: =TRIM($D$5) -> Чехия | D43: =TRIM($D$6) -> Германия | E43: =$E$5 -> YOSEN | F43: =$E$6 -> AVTOMAT | G43: =SUM(K43) -> 2 | I43: =SUM(L43,O43) -> 0 | K43: 2 | L43: 0 | T43: 17 | U43: =TEXT(B43,"h:mm")&" "&($C$1)&" ("&C43&") "&E43&" "&" - ("&D43&") "&F43&"" -> 1:04 Bullet shot Cup (Чехия) YOSEN - (Германия) AVTOMAT | V43: =TEXT(G43,"0")&":"&TEXT(I43,"0") -> 2:0
B44: 1.0472222 | C44: =TRIM($D$5) -> Чехия | D44: =TRIM($D$6) -> Германия | E44: =$E$5 -> YOSEN | F44: =$E$6 -> AVTOMAT | G44: =SUM(K44) -> 3 | I44: =SUM(L44,O44) -> 1 | K44: 3 | L44: 1 | T44: 18 | U44: =TEXT(B44,"h:mm")&" "&($C$1)&" ("&C44&") "&E44&" "&" - ("&D44&") "&F44&"" -> 1:08 Bullet shot Cup (Чехия) YOSEN - (Германия) AVTOMAT | V44: =TEXT(G44,"0")&":"&TEXT(I44,"0") -> 3:1
B45: 1.05 | C45: =TRIM($D$4) -> Финляндия | D45: =TRIM($D$6) -> Германия | E45: =$E$4 -> Handzus | F45: =$E$6 -> AVTOMAT | G45: =SUM(K45) -> 1 | I45: =SUM(L45,O45) -> 1 | K45: 1 | L45: 1 | T45: 19 | U45: =TEXT(B45,"h:mm")&" "&($C$1)&" ("&C45&") "&E45&" "&" - ("&D45&") "&F45&"" -> 1:12 Bullet shot Cup (Финляндия) Handzus - (Германия) AVTOMAT | V45: =TEXT(G45,"0")&":"&TEXT(I45,"0") -> 1:1
B46: 1.0527778 | C46: =TRIM($D$4) -> Финляндия | D46: =TRIM($D$6) -> Германия | E46: =$E$4 -> Handzus | F46: =$E$6 -> AVTOMAT | G46: =SUM(K46) -> 0 | I46: =SUM(L46,O46) -> 2 | K46: 0 | L46: 2 | T46: 20 | U46: =TEXT(B46,"h:mm")&" "&($C$1)&" ("&C46&") "&E46&" "&" - ("&D46&") "&F46&"" -> 1:16 Bullet shot Cup (Финляндия) Handzus - (Германия) AVTOMAT | V46: =TEXT(G46,"0")&":"&TEXT(I46,"0") -> 0:2
B47: 1.0555556 | C47: =TRIM($D$4) -> Финляндия | D47: =TRIM($D$6) -> Германия | E47: =$E$4 -> Handzus | F47: =$E$6 -> AVTOMAT | G47: =SUM(K47) -> 2 | I47: =SUM(L47,O47) -> 2 | K47: 2 | L47: 2 | T47: 21 | U47: =TEXT(B47,"h:mm")&" "&($C$1)&" ("&C47&") "&E47&" "&" - ("&D47&") "&F47&"" -> 1:20 Bullet shot Cup (Финляндия) Handzus - (Германия) AVTOMAT | V47: =TEXT(G47,"0")&":"&TEXT(I47,"0") -> 2:2
B48: 1.0583333 | C48: =TRIM($D$4) -> Финляндия | D48: =TRIM($D$5) -> Чехия | E48: =$E$4 -> Handzus | F48: =$E$5 -> YOSEN | G48: =SUM(K48) -> 2 | I48: =SUM(L48) -> 1 | K48: 2 | L48: 1 | T48: 22 | U48: =TEXT(B48,"h:mm")&" "&($C$1)&" ("&C48&") "&E48&" "&" - ("&D48&") "&F48&"" -> 1:24 Bullet shot Cup (Финляндия) Handzus - (Чехия) YOSEN | V48: =TEXT(G48,"0")&":"&TEXT(I48,"0") -> 2:1
B49: 1.0611111 | C49: =TRIM($D$4) -> Финляндия | D49: =TRIM($D$5) -> Чехия | E49: =$E$4 -> Handzus | F49: =$E$5 -> YOSEN | G49: =SUM(K49) -> 1 | I49: =SUM(L49,O49) -> 0 | K49: 1 | L49: 0 | T49: 23 | U49: =TEXT(B49,"h:mm")&" "&($C$1)&" ("&C49&") "&E49&" "&" - ("&D49&") "&F49&"" -> 1:28 Bullet shot Cup (Финляндия) Handzus - (Чехия) YOSEN | V49: =TEXT(G49,"0")&":"&TEXT(I49,"0") -> 1:0
B50: 1.0638889 | C50: =TRIM($D$6) -> Германия | D50: =TRIM($D$5) -> Чехия | E50: =$E$6 -> AVTOMAT | F50: =$E$5 -> YOSEN | G50: =SUM(K50) -> 2 | I50: =SUM(L50,O50) -> 3 | K50: 2 | L50: 3 | T50: 24 | U50: =TEXT(B50,"h:mm")&" "&($C$1)&" ("&C50&") "&E50&" "&" - ("&D50&") "&F50&"" -> 1:32 Bullet shot Cup (Германия) AVTOMAT - (Чехия) YOSEN | V50: =TEXT(G50,"0")&":"&TEXT(I50,"0") -> 2:3
B51: 1.0666667 | C51: =TRIM($D$6) -> Германия | D51: =TRIM($D$5) -> Чехия | E51: =$E$6 -> AVTOMAT | F51: =$E$5 -> YOSEN | G51: =SUM(K51) -> 0 | I51: =SUM(L51,O51) -> 1 | K51: 0 | L51: 1 | T51: 25 | U51: =TEXT(B51,"h:mm")&" "&($C$1)&" ("&C51&") "&E51&" "&" - ("&D51&") "&F51&"" -> 1:36 Bullet shot Cup (Германия) AVTOMAT - (Чехия) YOSEN | V51: =TEXT(G51,"0")&":"&TEXT(I51,"0") -> 0:1
B52: 1.0694444 | C52: =TRIM($D$6) -> Германия | D52: =TRIM($D$4) -> Финляндия | E52: =$E$6 -> AVTOMAT | F52: =$E$4 -> Handzus | G52: =SUM(K52) -> 2 | I52: =SUM(L52,O52) -> 0 | K52: 2 | L52: 0 | T52: 26 | U52: =TEXT(B52,"h:mm")&" "&($C$1)&" ("&C52&") "&E52&" "&" - ("&D52&") "&F52&"" -> 1:40 Bullet shot Cup (Германия) AVTOMAT - (Финляндия) Handzus | V52: =TEXT(G52,"0")&":"&TEXT(I52,"0") -> 2:0
B53: 1.0722222 | C53: =TRIM($D$6) -> Германия | D53: =TRIM($D$4) -> Финляндия | E53: =$E$6 -> AVTOMAT | F53: =$E$4 -> Handzus | G53: =SUM(K53) -> 1 | I53: =SUM(L53,O53) -> 2 | K53: 1 | L53: 2 | T53: 27 | U53: =TEXT(B53,"h:mm")&" "&($C$1)&" ("&C53&") "&E53&" "&" - ("&D53&") "&F53&"" -> 1:44 Bullet shot Cup (Германия) AVTOMAT - (Финляндия) Handzus | V53: =TEXT(G53,"0")&":"&TEXT(I53,"0") -> 1:2
C55: Гл.Судья - | F55: Ст.Судья -

Sheet ТУР7
C1: ='ТУР1'!$C$1 -> Bullet shot Cup | E1: ТУР7 | F1: ='ТУР1'!$F$1 -> 45697
U2: =C1 -> Bullet shot Cup | V2: =E1 -> ТУР7 | AA2: =$F$1 -> 45697 | AG2: GP | AH2: W | AI2: D | AJ2: L | AK2: GF | AL2: GA | AM2: GD | AN2: PTS | AO2: rank
C3: Участник | D3: Команда | E3: Никнейм | U3: Никнейм | V3: М | W3: В | X3: Н | Y3: П | Z3: ЗГ | AA3: ПГ | AB3: РГ | AC3: Очки | AF3: =E4 -> Handzus | AG3: {=SUM(($E$12:$E$54=AF3)*(ISNUMBER($G$12:$G$54)),($F$12:$F$54=AF3)*(ISNUMBER($I$12:$I$54)))} -> 28 | AH3: {=SUM(('ТУР7'!home=AF3)*('ТУР7'!homescore>'ТУР7'!visitorscore),('ТУР7'!visitor=AF3)*('ТУР7'!visitorscore>'ТУР7'!homescore))} -> 6 | AI3: {=SUM(('ТУР7'!home=AF3)*('ТУР7'!homescore='ТУР7'!visitorscore)*ISNUMBER('ТУР7'!visitorscore),('ТУР7'!visitor=AF3)*('ТУР7'!visitorscore='ТУР7'!homescore)*ISNUMBER('ТУР7'!homescore))} -> 10 | AJ3: {=SUM(('ТУР7'!home=AF3)*('ТУР7'!homescore<'ТУР7'!visitorscore),('ТУР7'!visitor=AF3)*('ТУР7'!visitorscore<'ТУР7'!homescore))} -> 12 | AK3: {=SUMIF('ТУР7'!home,AF3,'ТУР7'!homescore)+SUMIF('ТУР7'!visitor,AF3,'ТУР7'!visitorscore)} -> 30 | AL3: {=SUMIF('ТУР7'!home,AF3,'ТУР7'!visitorscore)+SUMIF('ТУР7'!visitor,AF3,'ТУР7'!homescore)} -> 39 | AM3: =AK3-AL3 -> -9 | AN3: {=AH3*Options!$B$2+AI3*Options!$B$3+AJ3*Options!$B$4+VLOOKUP(AF3,$E$4:$F$8,2,0)} -> 28 | AO3: =AK3+AM3*10000+AN3*100000000 -> 2799910030
C4: ='ТУР6'!$C$4 -> Евгений Б. | D4: Швейцария | E4: ='ТУР6'!$E$4 -> Handzus | U4: {=INDEX($AF$3:$AF$5,MATCH(LARGE($AO$3:$AO$5-ROW($AO$3:$AO$5)/COUNT($AO$3:$AO$5),ROW(U4)-ROW(U$4)+1),$AO$3:$AO$5-ROW($AO$3:$AO$5)/COUNT($AO$3:$AO$5),0))} -> AVTOMAT | V4: {=VLOOKUP($U4,$AF$3:$AN$5,2,0)} -> 28 | W4: {=VLOOKUP($U4,$AF$3:$AN$5,3,0)} -> 15 | X4: {=VLOOKUP($U4,$AF$3:$AN$5,4,0)} -> 7 | Y4: {=VLOOKUP($U4,$AF$3:$AN$5,5,0)} -> 6 | Z4: {=VLOOKUP($U4,$AF$3:$AN$5,6,0)} -> 42 | AA4: {=VLOOKUP($U4,$AF$3:$AN$5,7,0)} -> 27 | AB4: {=VLOOKUP($U4,$AF$3:$AN$5,8,0)} -> 15 | AC4: {=VLOOKUP($U4,$AF$3:$AN$5,9,0)} -> 52 | AF4: =E5 -> YOSEN | AG4: {=SUM(($E$12:$E$54=AF4)*(ISNUMBER($G$12:$G$54)),($F$12:$F$54=AF4)*(ISNUMBER($I$12:$I$54)))} -> 28 | AH4: {=SUM(('ТУР7'!home=AF4)*('ТУР7'!homescore>'ТУР7'!visitorscore),('ТУР7'!visitor=AF4)*('ТУР7'!visitorscore>'ТУР7'!homescore))} -> 8 | AI4: {=SUM(('ТУР7'!home=AF4)*('ТУР7'!homescore='ТУР7'!visitorscore)*ISNUMBER('ТУР7'!visitorscore),('ТУР7'!visitor=AF4)*('ТУР7'!visitorscore='ТУР7'!homescore)*ISNUMBER('ТУР7'!homescore))} -> 9 | AJ4: {=SUM(('ТУР7'!home=AF4)*('ТУР7'!homescore<'ТУР7'!visitorscore),('ТУР7'!visitor=AF4)*('ТУР7'!visitorscore<'ТУР7'!homescore))} -> 11 | AK4: {=SUMIF('ТУР7'!home,AF4,'ТУР7'!homescore)+SUMIF('ТУР7'!visitor,AF4,'ТУР7'!visitorscore)} -> 31 | AL4: {=SUMIF('ТУР7'!home,AF4,'ТУР7'!visitorscore)+SUMIF('ТУР7'!visitor,AF4,'ТУР7'!homescore)} -> 37 | AM4: =AK4-AL4 -> -6 | AN4: {=AH4*Options!$B$2+AI4*Options!$B$3+AJ4*Options!$B$4+VLOOKUP(AF4,$E$4:$F$8,2,0)} -> 33 | AO4: =AK4+AM4*10000+AN4*100000000 -> 3299940031
C5: ='ТУР6'!$C$5 -> Михаил Ж. | D5: Канада | E5: ='ТУР6'!$E$5 -> YOSEN | U5: {=INDEX($AF$3:$AF$5,MATCH(LARGE($AO$3:$AO$5-ROW($AO$3:$AO$5)/COUNT($AO$3:$AO$5),ROW(U5)-ROW(U$4)+1),$AO$3:$AO$5-ROW($AO$3:$AO$5)/COUNT($AO$3:$AO$5),0))} -> YOSEN | V5: {=VLOOKUP($U5,$AF$3:$AN$5,2,0)} -> 28 | W5: {=VLOOKUP($U5,$AF$3:$AN$5,3,0)} -> 8 | X5: {=VLOOKUP($U5,$AF$3:$AN$5,4,0)} -> 9 | Y5: {=VLOOKUP($U5,$AF$3:$AN$5,5,0)} -> 11 | Z5: {=VLOOKUP($U5,$AF$3:$AN$5,6,0)} -> 31 | AA5: {=VLOOKUP($U5,$AF$3:$AN$5,7,0)} -> 37 | AB5: {=VLOOKUP($U5,$AF$3:$AN$5,8,0)} -> -6 | AC5: {=VLOOKUP($U5,$AF$3:$AN$5,9,0)} -> 33 | AF5: =E6 -> AVTOMAT | AG5: {=SUM(($E$12:$E$54=AF5)*(ISNUMBER($G$12:$G$54)),($F$12:$F$54=AF5)*(ISNUMBER($I$12:$I$54)))} -> 28 | AH5: {=SUM(('ТУР7'!home=AF5)*('ТУР7'!homescore>'ТУР7'!visitorscore),('ТУР7'!visitor=AF5)*('ТУР7'!visitorscore>'ТУР7'!homescore))} -> 15 | AI5: {=SUM(('ТУР7'!home=AF5)*('ТУР7'!homescore='ТУР7'!visitorscore)*ISNUMBER('ТУР7'!visitorscore),('ТУР7'!visitor=AF5)*('ТУР7'!visitorscore='ТУР7'!homescore)*ISNUMBER('ТУР7'!homescore))} -> 7 | AJ5: {=SUM(('ТУР7'!home=AF5)*('ТУР7'!homescore<'ТУР7'!visitorscore),('ТУР7'!visitor=AF5)*('ТУР7'!visitorscore<'ТУР7'!homescore))} -> 6 | AK5: {=SUMIF('ТУР7'!home,AF5,'ТУР7'!homescore)+SUMIF('ТУР7'!visitor,AF5,'ТУР7'!visitorscore)} -> 42 | AL5: {=SUMIF('ТУР7'!home,AF5,'ТУР7'!visitorscore)+SUMIF('ТУР7'!visitor,AF5,'ТУР7'!homescore)} -> 27 | AM5: =AK5-AL5 -> 15 | AN5: {=AH5*Options!$B$2+AI5*Options!$B$3+AJ5*Options!$B$4+VLOOKUP(AF5,$E$4:$F$8,2,0)} -> 52 | AO5: =AK5+AM5*10000+AN5*100000000 -> 5200150042
C6: ='ТУР6'!$C$6 -> Вильдан А. | D6: США | E6: ='ТУР6'!$E$6 -> AVTOMAT | U6: {=INDEX($AF$3:$AF$5,MATCH(LARGE($AO$3:$AO$5-ROW($AO$3:$AO$5)/COUNT($AO$3:$AO$5),ROW(U6)-ROW(U$4)+1),$AO$3:$AO$5-ROW($AO$3:$AO$5)/COUNT($AO$3:$AO$5),0))} -> Handzus | V6: {=VLOOKUP($U6,$AF$3:$AN$5,2,0)} -> 28 | W6: {=VLOOKUP($U6,$AF$3:$AN$5,3,0)} -> 6 | X6: {=VLOOKUP($U6,$AF$3:$AN$5,4,0)} -> 10 | Y6: {=VLOOKUP($U6,$AF$3:$AN$5,5,0)} -> 12 | Z6: {=VLOOKUP($U6,$AF$3:$AN$5,6,0)} -> 30 | AA6: {=VLOOKUP($U6,$AF$3:$AN$5,7,0)} -> 39 | AB6: {=VLOOKUP($U6,$AF$3:$AN$5,8,0)} -> -9 | AC6: {=VLOOKUP($U6,$AF$3:$AN$5,9,0)} -> 28
B10: Старт
C11: Команда | D11: Команда | E11: Дом | F11: Гость | G11: Результат | K11: Cчет | N11: PS | S11: PS | T11: № матча | U11: Матч | V11: Счет
B12: 0.083333333 | C12: =TRIM($D$4) -> Швейцария | D12: =TRIM($D$5) -> Канада | E12: =$E$4 -> Handzus | F12: =$E$5 -> YOSEN | G12: =SUM(K12) -> 1 | I12: =SUM(L12) -> 2 | K12: 1 | L12: 2 | T12: 28 | U12: =TEXT(B12,"h:mm")&" "&($C$1)&" ("&C12&") "&E12&" "&" - ("&D12&") "&F12&"" -> 2:00 Bullet shot Cup (Швейцария) Handzus - (Канада) YOSEN | V12: =TEXT(G12,"0")&":"&TEXT(I12,"0") -> 1:2
B13: 0.086111111 | C13: =TRIM($D$4) -> Швейцария | D13: =TRIM($D$5) -> Канада | E13: =$E$4 -> Handzus | F13: =$E$5 -> YOSEN | G13: =SUM(K13) -> 2 | I13: =SUM(L13) -> 2 | K13: 2 | L13: 2 | T13: 29 | U13: =TEXT(B13,"h:mm")&" "&($C$1)&" ("&C13&") "&E13&" "&" - ("&D13&") "&F13&"" -> 2:04 Bullet shot Cup (Швейцария) Handzus - (Канада) YOSEN | V13: =TEXT(G13,"0")&":"&TEXT(I13,"0") -> 2:2
B14: 0.088888889 | C14: =TRIM($D$4) -> Швейцария | D14: =TRIM($D$5) -> Канада | E14: =$E$4 -> Handzus | F14: =$E$5 -> YOSEN | G14: =SUM(K14) -> 0 | I14: =SUM(L14) -> 2 | K14: 0 | L14: 2 | T14: 30 | U14: =TEXT(B14,"h:mm")&" "&($C$1)&" ("&C14&") "&E14&" "&" - ("&D14&") "&F14&"" -> 2:08 Bullet shot Cup (Швейцария) Handzus - (Канада) YOSEN | V14: =TEXT(G14,"0")&":"&TEXT(I14,"0") -> 0:2
B15: 0.091666667 | C15: =TRIM($D$6) -> США | D15: =TRIM($D$5) -> Канада | E15: =$E$6 -> AVTOMAT | F15: =$E$5 -> YOSEN | G15: =SUM(K15) -> 2 | I15: =SUM(L15) -> 1 | K15: 2 | L15: 1 | T15: 31 | U15: =TEXT(B15,"h:mm")&" "&($C$1)&" ("&C15&") "&E15&" "&" - ("&D15&") "&F15&"" -> 2:12 Bullet shot Cup (США) AVTOMAT - (Канада) YOSEN | V15: =TEXT(G15,"0")&":"&TEXT(I15,"0") -> 2:1
B16: 0.094444444 | C16: =TRIM($D$6) -> США | D16: =TRIM($D$5) -> Канада | E16: =$E$6 -> AVTOMAT | F16: =$E$5 -> YOSEN | G16: =SUM(K16) -> 2 | I16: =SUM(L16) -> 0 | K16: 2 | L16: 0 | T16: 32 | U16: =TEXT(B16,"h:mm")&" "&($C$1)&" ("&C16&") "&E16&" "&" - ("&D16&") "&F16&"" -> 2:16 Bullet shot Cup (США) AVTOMAT - (Канада) YOSEN | V16: =TEXT(G16,"0")&":"&TEXT(I16,"0") -> 2:0
B17: 0.097222222 | C17: =TRIM($D$6) -> США | D17: =TRIM($D$5) -> Канада | E17: =$E$6 -> AVTOMAT | F17: =$E$5 -> YOSEN | G17: =SUM(K17) -> 2 | I17: =SUM(L17) -> 0 | K17: 2 | L17: 0 | T17: 33 | U17: =TEXT(B17,"h:mm")&" "&($C$1)&" ("&C17&") "&E17&" "&" - ("&D17&") "&F17&"" -> 2:20 Bullet shot Cup (США) AVTOMAT - (Канада) YOSEN | V17: =TEXT(G17,"0")&":"&TEXT(I17,"0") -> 2:0
B18: 0.1 | C18: =TRIM($D$6) -> США | D18: =TRIM($D$4) -> Швейцария | E18: =$E$6 -> AVTOMAT | F18: =$E$4 -> Handzus | G18: =SUM(K18) -> 1 | I18: =SUM(L18) -> 0 | K18: 1 | L18: 0 | T18: 34 | U18: =TEXT(B18,"h:mm")&" "&($C$1)&" ("&C18&") "&E18&" "&" - ("&D18&") "&F18&"" -> 2:24 Bullet shot Cup (США) AVTOMAT - (Швейцария) Handzus | V18: =TEXT(G18,"0")&":"&TEXT(I18,"0") -> 1:0
B19: 0.10277778 | C19: =TRIM($D$6) -> США | D19: =TRIM($D$4) -> Швейцария | E19: =$E$6 -> AVTOMAT | F19: =$E$4 -> Handzus | G19: =SUM(K19) -> 2 | I19: =SUM(L19,O19) -> 2 | K19: 2 | L19: 2 | T19: 35 | U19: =TEXT(B19,"h:mm")&" "&($C$1)&" ("&C19&") "&E19&" "&" - ("&D19&") "&F19&"" -> 2:28 Bullet shot Cup (США) AVTOMAT - (Швейцария) Handzus | V19: =TEXT(G19,"0")&":"&TEXT(I19,"0") -> 2:2
B20: 0.10555556 | C20: =TRIM($D$6) -> США | D20: =TRIM($D$4) -> Швейцария | E20: =$E$6 -> AVTOMAT | F20: =$E$4 -> Handzus | G20: =SUM(K20) -> 1 | I20: =SUM(L20,O20) -> 2 | K20: 1 | L20: 2 | T20: 36 | U20: =TEXT(B20,"h:mm")&" "&($C$1)&" ("&C20&") "&E20&" "&" - ("&D20&") "&F20&"" -> 2:32 Bullet shot Cup (США) AVTOMAT - (Швейцария) Handzus | V20: =TEXT(G20,"0")&":"&TEXT(I20,"0") -> 1:2
B21: 0.10833333 | C21: =TRIM($D$5) -> Канада | D21: =TRIM($D$4) -> Швейцария | E21: =$E$5 -> YOSEN | F21: =$E$4 -> Handzus | G21: =SUM(K21) -> 1 | I21: =SUM(L21,O21) -> 1 | K21: 1 | L21: 1 | T21: 37 | U21: =TEXT(B21,"h:mm")&" "&($C$1)&" ("&C21&") "&E21&" "&" - ("&D21&") "&F21&"" -> 2:36 Bullet shot Cup (Канада) YOSEN - (Швейцария) Handzus | V21: =TEXT(G21,"0")&":"&TEXT(I21,"0") -> 1:1
B22: 0.11111111 | C22: =TRIM($D$5) -> Канада | D22: =TRIM($D$4) -> Швейцария | E22: =$E$5 -> YOSEN | F22: =$E$4 -> Handzus | G22: =SUM(K22) -> 1 | I22: =SUM(L22,O22) -> 1 | K22: 1 | L22: 1 | T22: 38 | U22: =TEXT(B22,"h:mm")&" "&($C$1)&" ("&C22&") "&E22&" "&" - ("&D22&") "&F22&"" -> 2:40 Bullet shot Cup (Канада) YOSEN - (Швейцария) Handzus | V22: =TEXT(G22,"0")&":"&TEXT(I22,"0") -> 1:1
B23: 0.11388889 | C23: =TRIM($D$5) -> Канада | D23: =TRIM($D$4) -> Швейцария | E23: =$E$5 -> YOSEN | F23: =$E$4 -> Handzus | G23: =SUM(K23) -> 0 | I23: =SUM(L23,O23) -> 1 | K23: 0 | L23: 1 | T23: 39 | U23: =TEXT(B23,"h:mm")&" "&($C$1)&" ("&C23&") "&E23&" "&" - ("&D23&") "&F23&"" -> 2:44 Bullet shot Cup (Канада) YOSEN - (Швейцария) Handzus | V23: =TEXT(G23,"0")&":"&TEXT(I23,"0") -> 0:1
B24: 0.11666667 | C24: =TRIM($D$5) -> Канада | D24: =TRIM($D$6) -> США | E24: =$E$5 -> YOSEN | F24: =$E$6 -> AVTOMAT | G24: =SUM(K24) -> 0 | I24: =SUM(L24) -> 1 | K24: 0 | L24: 1 | T24: 40 | U24: =TEXT(B24,"h:mm")&" "&($C$1)&" ("&C24&") "&E24&" "&" - ("&D24&") "&F24&"" -> 2:48 Bullet shot Cup (Канада) YOSEN - (США) AVTOMAT | V24: =TEXT(G24,"0")&":"&TEXT(I24,"0") -> 0:1
B25: 0.11944444 | C25: =TRIM($D$5) -> Канада | D25: =TRIM($D$6) -> США | E25: =$E$5 -> YOSEN | F25: =$E$6 -> AVTOMAT | G25: =SUM(K25) -> 3 | I25: =SUM(L25) -> 1 | K25: 3 | L25: 1 | T25: 41 | U25: =TEXT(B25,"h:mm")&" "&($C$1)&" ("&C25&") "&E25&" "&" - ("&D25&") "&F25&"" -> 2:52 Bullet shot Cup (Канада) YOSEN - (США) AVTOMAT | V25: =TEXT(G25,"0")&":"&TEXT(I25,"0") -> 3:1
B26: 0.12222222 | C26: =TRIM($D$5) -> Канада | D26: =TRIM($D$6) -> США | E26: =$E$5 -> YOSEN | F26: =$E$6 -> AVTOMAT | G26: =SUM(K26) -> 2 | I26: =SUM(L26) -> 0 | K26: 2 | L26: 0 | T26: 42 | U26: =TEXT(B26,"h:mm")&" "&($C$1)&" ("&C26&") "&E26&" "&" - ("&D26&") "&F26&"" -> 2:56 Bullet shot Cup (Канада) YOSEN - (США) AVTOMAT | V26: =TEXT(G26,"0")&":"&TEXT(I26,"0") -> 2:0
B27: 0.125 | C27: =TRIM($D$4) -> Швейцария | D27: =TRIM($D$6) -> США | E27: =$E$4 -> Handzus | F27: =$E$6 -> AVTOMAT | G27: =SUM(K27) -> 0 | I27: =SUM(L27) -> 2 | K27: 0 | L27: 2 | T27: 43 | U27: =TEXT(B27,"h:mm")&" "&($C$1)&" ("&C27&") "&E27&" "&" - ("&D27&") "&F27&"" -> 3:00 Bullet shot Cup (Швейцария) Handzus - (США) AVTOMAT | V27: =TEXT(G27,"0")&":"&TEXT(I27,"0") -> 0:2
B28: 0.12777778 | C28: =TRIM($D$4) -> Швейцария | D28: =TRIM($D$6) -> США | E28: =$E$4 -> Handzus | F28: =$E$6 -> AVTOMAT | G28: =SUM(K28) -> 0 | I28: =SUM(L28) -> 1 | K28: 0 | L28: 1 | T28: 44 | U28: =TEXT(B28,"h:mm")&" "&($C$1)&" ("&C28&") "&E28&" "&" - ("&D28&") "&F28&"" -> 3:04 Bullet shot Cup (Швейцария) Handzus - (США) AVTOMAT | V28: =TEXT(G28,"0")&":"&TEXT(I28,"0") -> 0:1
B29: 0.13055556 | C29: =TRIM($D$4) -> Швейцария | D29: =TRIM($D$6) -> США | E29: =$E$4 -> Handzus | F29: =$E$6 -> AVTOMAT | G29: =SUM(K29) -> 2 | I29: =SUM(L29) -> 3 | K29: 2 | L29: 3 | T29: 45 | U29: =TEXT(B29,"h:mm")&" "&($C$1)&" ("&C29&") "&E29&" "&" - ("&D29&") "&F29&"" -> 3:08 Bullet shot Cup (Швейцария) Handzus - (США) AVTOMAT | V29: =TEXT(G29,"0")&":"&TEXT(I29,"0") -> 2:3
B30: 0.13333333 | C30: =TRIM($D$4) -> Швейцария | D30: =TRIM($D$5) -> Канада | E30: =$E$4 -> Handzus | F30: =$E$5 -> YOSEN | G30: =SUM(K30) -> 1 | I30: =SUM(L30) -> 1 | K30: 1 | L30: 1 | T30: 46 | U30: =TEXT(B30,"h:mm")&" "&($C$1)&" ("&C30&") "&E30&" "&" - ("&D30&") "&F30&"" -> 3:12 Bullet shot Cup (Швейцария) Handzus - (Канада) YOSEN | V30: =TEXT(G30,"0")&":"&TEXT(I30,"0") -> 1:1
B31: 0.13611111 | C31: =TRIM($D$4) -> Швейцария | D31: =TRIM($D$5) -> Канада | E31: =$E$4 -> Handzus | F31: =$E$5 -> YOSEN | G31: =SUM(K31) -> 2 | I31: =SUM(L31,O31) -> 1 | K31: 2 | L31: 1 | T31: 47 | U31: =TEXT(B31,"h:mm")&" "&($C$1)&" ("&C31&") "&E31&" "&" - ("&D31&") "&F31&"" -> 3:16 Bullet shot Cup (Швейцария) Handzus - (Канада) YOSEN | V31: =TEXT(G31,"0")&":"&TEXT(I31,"0") -> 2:1
B32: 0.13888889 | C32: =TRIM($D$4) -> Швейцария | D32: =TRIM($D$5) -> Канада | E32: =$E$4 -> Handzus | F32: =$E$5 -> YOSEN | G32: =SUM(K32) -> 2 | I32: =SUM(L32,O32) -> 1 | K32: 2 | L32: 1 | T32: 48 | U32: =TEXT(B32,"h:mm")&" "&($C$1)&" ("&C32&") "&E32&" "&" - ("&D32&") "&F32&"" -> 3:20 Bullet shot Cup (Швейцария) Handzus - (Канада) YOSEN | V32: =TEXT(G32,"0")&":"&TEXT(I32,"0") -> 2:1
B33: 0.14166667 | C33: =TRIM($D$6) -> США | D33: =TRIM($D$5) -> Канада | E33: =$E$6 -> AVTOMAT | F33: =$E$5 -> YOSEN | G33: =SUM(K33) -> 2 | I33: =SUM(L33,O33) -> 2 | K33: 2 | L33: 2 | T33: 49 | U33: =TEXT(B33,"h:mm")&" "&($C$1)&" ("&C33&") "&E33&" "&" - ("&D33&") "&F33&"" -> 3:24 Bullet shot Cup (США) AVTOMAT - (Канада) YOSEN | V33: =TEXT(G33,"0")&":"&TEXT(I33,"0") -> 2:2
B34: 0.14444444 | C34: =TRIM($D$6) -> США | D34: =TRIM($D$5) -> Канада | E34: =$E$6 -> AVTOMAT | F34: =$E$5 -> YOSEN | G34: =SUM(K34) -> 2 | I34: =SUM(L34,O34) -> 0 | K34: 2 | L34: 0 | T34: 50 | U34: =TEXT(B34,"h:mm")&" "&($C$1)&" ("&C34&") "&E34&" "&" - ("&D34&") "&F34&"" -> 3:28 Bullet shot Cup (США) AVTOMAT - (Канада) YOSEN | V34: =TEXT(G34,"0")&":"&TEXT(I34,"0") -> 2:0
B35: 0.14722222 | C35: =TRIM($D$6) -> США | D35: =TRIM($D$5) -> Канада | E35: =$E$6 -> AVTOMAT | F35: =$E$5 -> YOSEN | G35: =SUM(K35) -> 2 | I35: =SUM(L35,O35) -> 0 | K35: 2 | L35: 0 | T35: 51 | U35: =TEXT(B35,"h:mm")&" "&($C$1)&" ("&C35&") "&E35&" "&" - ("&D35&") "&F35&"" -> 3:32 Bullet shot Cup (США) AVTOMAT - (Канада) YOSEN | V35: =TEXT(G35,"0")&":"&TEXT(I35,"0") -> 2:0
B36: 0.15 | C36: =TRIM($D$6) -> США | D36: =TRIM($D$4) -> Швейцария | E36: =$E$6 -> AVTOMAT | F36: =$E$4 -> Handzus | G36: =SUM(K36) -> 2 | I36: =SUM(L36) -> 0 | K36: 2 | L36: 0 | T36: 52 | U36: =TEXT(B36,"h:mm")&" "&($C$1)&" ("&C36&") "&E36&" "&" - ("&D36&") "&F36&"" -> 3:36 Bullet shot Cup (США) AVTOMAT - (Швейцария) Handzus | V36: =TEXT(G36,"0")&":"&TEXT(I36,"0") -> 2:0
B37: 0.15277778 | C37: =TRIM($D$6) -> США | D37: =TRIM($D$4) -> Швейцария | E37: =$E$6 -> AVTOMAT | F37: =$E$4 -> Handzus | G37: =SUM(K37) -> 2 | I37: =SUM(L37) -> 2 | K37: 2 | L37: 2 | T37: 53 | U37: =TEXT(B37,"h:mm")&" "&($C$1)&" ("&C37&") "&E37&" "&" - ("&D37&") "&F37&"" -> 3:40 Bullet shot Cup (США) AVTOMAT - (Швейцария) Handzus | V37: =TEXT(G37,"0")&":"&TEXT(I37,"0") -> 2:2
B38: 0.15555556 | C38: =TRIM($D$6) -> США | D38: =TRIM($D$4) -> Швейцария | E38: =$E$6 -> AVTOMAT | F38: =$E$4 -> Handzus | G38: =SUM(K38) -> 2 | I38: =SUM(L38) -> 1 | K38: 2 | L38: 1 | T38: 54 | U38: =TEXT(B38,"h:mm")&" "&($C$1)&" ("&C38&") "&E38&" "&" - ("&D38&") "&F38&"" -> 3:44 Bullet shot Cup (США) AVTOMAT - (Швейцария) Handzus | V38: =TEXT(G38,"0")&":"&TEXT(I38,"0") -> 2:1
B39: 0.15833333 | C39: =TRIM($D$5) -> Канада | D39: =TRIM($D$4) -> Швейцария | E39: =$E$5 -> YOSEN | F39: =$E$4 -> Handzus | G39: =SUM(K39) -> 1 | I39: =SUM(L39) -> 1 | K39: 1 | L39: 1 | T39: 55 | U39: =TEXT(B39,"h:mm")&" "&($C$1)&" ("&C39&") "&E39&" "&" - ("&D39&") "&F39&"" -> 3:48 Bullet shot Cup (Канада) YOSEN - (Швейцария) Handzus | V39: =TEXT(G39,"0")&":"&TEXT(I39,"0") -> 1:1
B40: 0.16111111 | C40: =TRIM($D$5) -> Канада | D40: =TRIM($D$4) -> Швейцария | E40: =$E$5 -> YOSEN | F40: =$E$4 -> Handzus | G40: =SUM(K40) -> 1 | I40: =SUM(L40) -> 1 | K40: 1 | L40: 1 | T40: 56 | U40: =TEXT(B40,"h:mm")&" "&($C$1)&" ("&C40&") "&E40&" "&" - ("&D40&") "&F40&"" -> 3:52 Bullet shot Cup (Канада) YOSEN - (Швейцария) Handzus | V40: =TEXT(G40,"0")&":"&TEXT(I40,"0") -> 1:1
B41: 0.16388889 | C41: =TRIM($D$5) -> Канада | D41: =TRIM($D$4) -> Швейцария | E41: =$E$5 -> YOSEN | F41: =$E$4 -> Handzus | G41: =SUM(K41) -> 2 | I41: =SUM(L41) -> 1 | K41: 2 | L41: 1 | T41: 57 | U41: =TEXT(B41,"h:mm")&" "&($C$1)&" ("&C41&") "&E41&" "&" - ("&D41&") "&F41&"" -> 3:56 Bullet shot Cup (Канада) YOSEN - (Швейцария) Handzus | V41: =TEXT(G41,"0")&":"&TEXT(I41,"0") -> 2:1
B42: 0.16666667 | C42: =TRIM($D$5) -> Канада | D42: =TRIM($D$6) -> США | E42: =$E$5 -> YOSEN | F42: =$E$6 -> AVTOMAT | G42: =SUM(K42) -> 1 | I42: =SUM(L42) -> 0 | K42: 1 | L42: 0 | T42: 58 | U42: =TEXT(B42,"h:mm")&" "&($C$1)&" ("&C42&") "&E42&" "&" - ("&D42&") "&F42&"" -> 4:00 Bullet shot Cup (Канада) YOSEN - (США) AVTOMAT | V42: =TEXT(G42,"0")&":"&TEXT(I42,"0") -> 1:0
B43: 0.16944444 | C43: =TRIM($D$5) -> Канада | D43: =TRIM($D$6) -> США | E43: =$E$5 -> YOSEN | F43: =$E$6 -> AVTOMAT | G43: =SUM(K43) -> 2 | I43: =SUM(L43,O43) -> 2 | K43: 2 | L43: 2 | T43: 59 | U43: =TEXT(B43,"h:mm")&" "&($C$1)&" ("&C43&") "&E43&" "&" - ("&D43&") "&F43&"" -> 4:04 Bullet shot Cup (Канада) YOSEN - (США) AVTOMAT | V43: =TEXT(G43,"0")&":"&TEXT(I43,"0") -> 2:2
B44: 0.17222222 | C44: =TRIM($D$5) -> Канада | D44: =TRIM($D$6) -> США | E44: =$E$5 -> YOSEN | F44: =$E$6 -> AVTOMAT | G44: =SUM(K44) -> 2 | I44: =SUM(L44,O44) -> 2 | K44: 2 | L44: 2 | T44: 60 | U44: =TEXT(B44,"h:mm")&" "&($C$1)&" ("&C44&") "&E44&" "&" - ("&D44&") "&F44&"" -> 4:08 Bullet shot Cup (Канада) YOSEN - (США) AVTOMAT | V44: =TEXT(G44,"0")&":"&TEXT(I44,"0") -> 2:2
B45: 0.175 | C45: =TRIM($D$4) -> Швейцария | D45: =TRIM($D$6) -> США | E45: =$E$4 -> Handzus | F45: =$E$6 -> AVTOMAT | G45: =SUM(K45) -> 1 | I45: =SUM(L45,O45) -> 0 | K45: 1 | L45: 0 | T45: 61 | U45: =TEXT(B45,"h:mm")&" "&($C$1)&" ("&C45&") "&E45&" "&" - ("&D45&") "&F45&"" -> 4:12 Bullet shot Cup (Швейцария) Handzus - (США) AVTOMAT | V45: =TEXT(G45,"0")&":"&TEXT(I45,"0") -> 1:0
B46: 0.17777778 | C46: =TRIM($D$4) -> Швейцария | D46: =TRIM($D$6) -> США | E46: =$E$4 -> Handzus | F46: =$E$6 -> AVTOMAT | G46: =SUM(K46) -> 1 | I46: =SUM(L46,O46) -> 1 | K46: 1 | L46: 1 | T46: 62 | U46: =TEXT(B46,"h:mm")&" "&($C$1)&" ("&C46&") "&E46&" "&" - ("&D46&") "&F46&"" -> 4:16 Bullet shot Cup (Швейцария) Handzus - (США) AVTOMAT | V46: =TEXT(G46,"0")&":"&TEXT(I46,"0") -> 1:1
B47: 0.18055556 | C47: =TRIM($D$4) -> Швейцария | D47: =TRIM($D$6) -> США | E47: =$E$4 -> Handzus | F47: =$E$6 -> AVTOMAT | G47: =SUM(K47) -> 1 | I47: =SUM(L47,O47) -> 1 | K47: 1 | L47: 1 | T47: 63 | U47: =TEXT(B47,"h:mm")&" "&($C$1)&" ("&C47&") "&E47&" "&" - ("&D47&") "&F47&"" -> 4:20 Bullet shot Cup (Швейцария) Handzus - (США) AVTOMAT | V47: =TEXT(G47,"0")&":"&TEXT(I47,"0") -> 1:1
B48: 0.18333333 | C48: =TRIM($D$4) -> Швейцария | D48: =TRIM($D$5) -> Канада | E48: =$E$4 -> Handzus | F48: =$E$5 -> YOSEN | G48: =SUM(K48) -> 2 | I48: =SUM(L48) -> 0 | K48: 2 | L48: 0 | T48: 64 | U48: =TEXT(B48,"h:mm")&" "&($C$1)&" ("&C48&") "&E48&" "&" - ("&D48&") "&F48&"" -> 4:24 Bullet shot Cup (Швейцария) Handzus - (Канада) YOSEN | V48: =TEXT(G48,"0")&":"&TEXT(I48,"0") -> 2:0
B49: 0.18611111 | C49: =TRIM($D$4) -> Швейцария | D49: =TRIM($D$5) -> Канада | E49: =$E$4 -> Handzus | F49: =$E$5 -> YOSEN | G49: =SUM(K49) -> 1 | I49: =SUM(L49,O49) -> 2 | K49: 1 | L49: 2 | T49: 65 | U49: =TEXT(B49,"h:mm")&" "&($C$1)&" ("&C49&") "&E49&" "&" - ("&D49&") "&F49&"" -> 4:28 Bullet shot Cup (Швейцария) Handzus - (Канада) YOSEN | V49: =TEXT(G49,"0")&":"&TEXT(I49,"0") -> 1:2
B50: 0.18888889 | C50: =TRIM($D$6) -> США | D50: =TRIM($D$5) -> Канада | E50: =$E$6 -> AVTOMAT | F50: =$E$5 -> YOSEN | G50: =SUM(K50) -> 2 | I50: =SUM(L50,O50) -> 0 | K50: 2 | L50: 0 | T50: 66 | U50: =TEXT(B50,"h:mm")&" "&($C$1)&" ("&C50&") "&E50&" "&" - ("&D50&") "&F50&"" -> 4:32 Bullet shot Cup (США) AVTOMAT - (Канада) YOSEN | V50: =TEXT(G50,"0")&":"&TEXT(I50,"0") -> 2:0
B51: 0.19166667 | C51: =TRIM($D$6) -> США | D51: =TRIM($D$5) -> Канада | E51: =$E$6 -> AVTOMAT | F51: =$E$5 -> YOSEN | G51: =SUM(K51) -> 0 | I51: =SUM(L51,O51) -> 1 | K51: 0 | L51: 1 | T51: 67 | U51: =TEXT(B51,"h:mm")&" "&($C$1)&" ("&C51&") "&E51&" "&" - ("&D51&") "&F51&"" -> 4:36 Bullet shot Cup (США) AVTOMAT - (Канада) YOSEN | V51: =TEXT(G51,"0")&":"&TEXT(I51,"0") -> 0:1
B52: 0.19444444 | C52: =TRIM($D$6) -> США | D52: =TRIM($D$4) -> Швейцария | E52: =$E$6 -> AVTOMAT | F52: =$E$4 -> Handzus | G52: =SUM(K52) -> 2 | I52: =SUM(L52,O52) -> 1 | K52: 2 | L52: 1 | T52: 68 | U52: =TEXT(B52,"h:mm")&" "&($C$1)&" ("&C52&") "&E52&" "&" - ("&D52&") "&F52&"" -> 4:40 Bullet shot Cup (США) AVTOMAT - (Швейцария) Handzus | V52: =TEXT(G52,"0")&":"&TEXT(I52,"0") -> 2:1
B53: 0.19722222 | C53: =TRIM($D$6) -> США | D53: =TRIM($D$4) -> Швейцария | E53: =$E$6 -> AVTOMAT | F53: =$E$4 -> Handzus | G53: =SUM(K53) -> 2 | I53: =SUM(L53,O53) -> 0 | K53: 2 | L53: 0 | T53: 69 | U53: =TEXT(B53,"h:mm")&" "&($C$1)&" ("&C53&") "&E53&" "&" - ("&D53&") "&F53&"" -> 4:44 Bullet shot Cup (США) AVTOMAT - (Швейцария) Handzus | V53: =TEXT(G53,"0")&":"&TEXT(I53,"0") -> 2:0
C55: Гл.Судья - | F55: Ст.Судья -

Sheet ТУР8
C1: ='ТУР1'!$C$1 -> Bullet shot Cup | E1: ТУР8 | F1: ='ТУР1'!$F$1 -> 45697
U2: =C1 -> Bullet shot Cup | V2: =E1 -> ТУР8 | AA2: =$F$1 -> 45697 | AG2: GP | AH2: W | AI2: D | AJ2: L | AK2: GF | AL2: GA | AM2: GD | AN2: PTS | AO2: rank
C3: Участник | D3: Команда | E3: Никнейм | U3: Никнейм | V3: М | W3: В | X3: Н | Y3: П | Z3: ЗГ | AA3: ПГ | AB3: РГ | AC3: Очки | AF3: =E4 -> Handzus | AG3: {=SUM(($E$12:$E$56=AF3)*(ISNUMBER($G$12:$G$56)),($F$12:$F$56=AF3)*(ISNUMBER($I$12:$I$56)))} -> 30 | AH3: {=SUM(('ТУР8'!home=AF3)*('ТУР8'!homescore>'ТУР8'!visitorscore),('ТУР8'!visitor=AF3)*('ТУР8'!visitorscore>'ТУР8'!homescore))} -> 16 | AI3: {=SUM(('ТУР8'!home=AF3)*('ТУР8'!homescore='ТУР8'!visitorscore)*ISNUMBER('ТУР8'!visitorscore),('ТУР8'!visitor=AF3)*('ТУР8'!visitorscore='ТУР8'!homescore)*ISNUMBER('ТУР8'!homescore))} -> 10 | AJ3: {=SUM(('ТУР8'!home=AF3)*('ТУР8'!homescore<'ТУР8'!visitorscore),('ТУР8'!visitor=AF3)*('ТУР8'!visitorscore<'ТУР8'!homescore))} -> 4 | AK3: {=SUMIF('ТУР8'!home,AF3,'ТУР8'!homescore)+SUMIF('ТУР8'!visitor,AF3,'ТУР8'!visitorscore)} -> 52 | AL3: {=SUMIF('ТУР8'!home,AF3,'ТУР8'!visitorscore)+SUMIF('ТУР8'!visitor,AF3,'ТУР8'!homescore)} -> 34 | AM3: =AK3-AL3 -> 18 | AN3: {=AH3*Options!$B$2+AI3*Options!$B$3+AJ3*Options!$B$4+VLOOKUP(AF3,$E$4:$F$8,2,0)} -> 58 | AO3: =AK3+AM3*10000+AN3*100000000 -> 5800180052
C4: ='ТУР6'!$C$4 -> Евгений Б. | D4: Швеция | E4: ='ТУР6'!$E$4 -> Handzus | U4: {=INDEX($AF$3:$AF$5,MATCH(LARGE($AO$3:$AO$5-ROW($AO$3:$AO$5)/COUNT($AO$3:$AO$5),ROW(U4)-ROW(U$4)+1),$AO$3:$AO$5-ROW($AO$3:$AO$5)/COUNT($AO$3:$AO$5),0))} -> Handzus | V4: {=VLOOKUP($U4,$AF$3:$AN$5,2,0)} -> 30 | W4: {=VLOOKUP($U4,$AF$3:$AN$5,3,0)} -> 16 | X4: {=VLOOKUP($U4,$AF$3:$AN$5,4,0)} -> 10 | Y4: {=VLOOKUP($U4,$AF$3:$AN$5,5,0)} -> 4 | Z4: {=VLOOKUP($U4,$AF$3:$AN$5,6,0)} -> 52 | AA4: {=VLOOKUP($U4,$AF$3:$AN$5,7,0)} -> 34 | AB4: {=VLOOKUP($U4,$AF$3:$AN$5,8,0)} -> 18 | AC4: {=VLOOKUP($U4,$AF$3:$AN$5,9,0)} -> 58 | AF4: =E5 -> YOSEN | AG4: {=SUM(($E$12:$E$56=AF4)*(ISNUMBER($G$12:$G$56)),($F$12:$F$56=AF4)*(ISNUMBER($I$12:$I$56)))} -> 30 | AH4: {=SUM(('ТУР8'!home=AF4)*('ТУР8'!homescore>'ТУР8'!visitorscore),('ТУР8'!visitor=AF4)*('ТУР8'!visitorscore>'ТУР8'!homescore))} -> 10 | AI4: {=SUM(('ТУР8'!home=AF4)*('ТУР8'!homescore='ТУР8'!visitorscore)*ISNUMBER('ТУР8'!visitorscore),('ТУР8'!visitor=AF4)*('ТУР8'!visitorscore='ТУР8'!homescore)*ISNUMBER('ТУР8'!homescore))} -> 12 | AJ4: {=SUM(('ТУР8'!home=AF4)*('ТУР8'!homescore<'ТУР8'!visitorscore),('ТУР8'!visitor=AF4)*('ТУР8'!visitorscore<'ТУР8'!homescore))} -> 8 | AK4: {=SUMIF('ТУР8'!home,AF4,'ТУР8'!homescore)+SUMIF('ТУР8'!visitor,AF4,'ТУР8'!visitorscore)} -> 44 | AL4: {=SUMIF('ТУР8'!home,AF4,'ТУР8'!visitorscore)+SUMIF('ТУР8'!visitor,AF4,'ТУР8'!homescore)} -> 45 | AM4: =AK4-AL4 -> -1 | AN4: {=AH4*Options!$B$2+AI4*Options!$B$3+AJ4*Options!$B$4+VLOOKUP(AF4,$E$4:$F$8,2,0)} -> 42 | AO4: =AK4+AM4*10000+AN4*100000000 -> 4199990044
C5: ='ТУР6'!$C$5 -> Михаил Ж. | D5: Финляндия | E5: ='ТУР6'!$E$5 -> YOSEN | U5: {=INDEX($AF$3:$AF$5,MATCH(LARGE($AO$3:$AO$5-ROW($AO$3:$AO$5)/COUNT($AO$3:$AO$5),ROW(U5)-ROW(U$4)+1),$AO$3:$AO$5-ROW($AO$3:$AO$5)/COUNT($AO$3:$AO$5),0))} -> YOSEN | V5: {=VLOOKUP($U5,$AF$3:$AN$5,2,0)} -> 30 | W5: {=VLOOKUP($U5,$AF$3:$AN$5,3,0)} -> 10 | X5: {=VLOOKUP($U5,$AF$3:$AN$5,4,0)} -> 12 | Y5: {=VLOOKUP($U5,$AF$3:$AN$5,5,0)} -> 8 | Z5: {=VLOOKUP($U5,$AF$3:$AN$5,6,0)} -> 44 | AA5: {=VLOOKUP($U5,$AF$3:$AN$5,7,0)} -> 45 | AB5: {=VLOOKUP($U5,$AF$3:$AN$5,8,0)} -> -1 | AC5: {=VLOOKUP($U5,$AF$3:$AN$5,9,0)} -> 42 | AF5: =E6 -> AVTOMAT | AG5: {=SUM(($E$12:$E$56=AF5)*(ISNUMBER($G$12:$G$56)),($F$12:$F$56=AF5)*(ISNUMBER($I$12:$I$56)))} -> 30 | AH5: {=SUM(('ТУР8'!home=AF5)*('ТУР8'!homescore>'ТУР8'!visitorscore),('ТУР8'!visitor=AF5)*('ТУР8'!visitorscore>'ТУР8'!homescore))} -> 3 | AI5: {=SUM(('ТУР8'!home=AF5)*('ТУР8'!homescore='ТУР8'!visitorscore)*ISNUMBER('ТУР8'!visitorscore),('ТУР8'!visitor=AF5)*('ТУР8'!visitorscore='ТУР8'!homescore)*ISNUMBER('ТУР8'!homescore))} -> 10 | AJ5: {=SUM(('ТУР8'!home=AF5)*('ТУР8'!homescore<'ТУР8'!visitorscore),('ТУР8'!visitor=AF5)*('ТУР8'!visitorscore<'ТУР8'!homescore))} -> 17 | AK5: {=SUMIF('ТУР8'!home,AF5,'ТУР8'!homescore)+SUMIF('ТУР8'!visitor,AF5,'ТУР8'!visitorscore)} -> 36 | AL5: {=SUMIF('ТУР8'!home,AF5,'ТУР8'!visitorscore)+SUMIF('ТУР8'!visitor,AF5,'ТУР8'!homescore)} -> 53 | AM5: =AK5-AL5 -> -17 | AN5: {=AH5*Options!$B$2+AI5*Options!$B$3+AJ5*Options!$B$4+VLOOKUP(AF5,$E$4:$F$8,2,0)} -> 19 | AO5: =AK5+AM5*10000+AN5*100000000 -> 1899830036
C6: ='ТУР6'!$C$6 -> Вильдан А. | D6: Чехия | E6: ='ТУР6'!$E$6 -> AVTOMAT | U6: {=INDEX($AF$3:$AF$5,MATCH(LARGE($AO$3:$AO$5-ROW($AO$3:$AO$5)/COUNT($AO$3:$AO$5),ROW(U6)-ROW(U$4)+1),$AO$3:$AO$5-ROW($AO$3:$AO$5)/COUNT($AO$3:$AO$5),0))} -> AVTOMAT | V6: {=VLOOKUP($U6,$AF$3:$AN$5,2,0)} -> 30 | W6: {=VLOOKUP($U6,$AF$3:$AN$5,3,0)} -> 3 | X6: {=VLOOKUP($U6,$AF$3:$AN$5,4,0)} -> 10 | Y6: {=VLOOKUP($U6,$AF$3:$AN$5,5,0)} -> 17 | Z6: {=VLOOKUP($U6,$AF$3:$AN$5,6,0)} -> 36 | AA6: {=VLOOKUP($U6,$AF$3:$AN$5,7,0)} -> 53 | AB6: {=VLOOKUP($U6,$AF$3:$AN$5,8,0)} -> -17 | AC6: {=VLOOKUP($U6,$AF$3:$AN$5,9,0)} -> 19
B10: Старт
C11: Команда | D11: Команда | E11: Дом | F11: Гость | G11: Результат | K11: Cчет | N11: PS | S11: PS | T11: № матча | U11: Матч | V11: Счет
B12: 0.20833333 | C12: =TRIM($D$4) -> Швеция | D12: =TRIM($D$5) -> Финляндия | E12: =$E$4 -> Handzus | F12: =$E$5 -> YOSEN | G12: =SUM(K12) -> 1 | I12: =SUM(L12) -> 1 | K12: 1 | L12: 1 | T12: 70 | U12: =TEXT(B12,"h:mm")&" "&($C$1)&" ("&C12&") "&E12&" "&" - ("&D12&") "&F12&"" -> 5:00 Bullet shot Cup (Швеция) Handzus - (Финляндия) YOSEN | V12: =TEXT(G12,"0")&":"&TEXT(I12,"0") -> 1:1
B13: 0.21111111 | C13: =TRIM($D$4) -> Швеция | D13: =TRIM($D$5) -> Финляндия | E13: =$E$4 -> Handzus | F13: =$E$5 -> YOSEN | G13: =SUM(K13) -> 1 | I13: =SUM(L13) -> 1 | K13: 1 | L13: 1 | T13: 71 | U13: =TEXT(B13,"h:mm")&" "&($C$1)&" ("&C13&") "&E13&" "&" - ("&D13&") "&F13&"" -> 5:04 Bullet shot Cup (Швеция) Handzus - (Финляндия) YOSEN | V13: =TEXT(G13,"0")&":"&TEXT(I13,"0") -> 1:1
B14: 0.21388889 | C14: =TRIM($D$4) -> Швеция | D14: =TRIM($D$5) -> Финляндия | E14: =$E$4 -> Handzus | F14: =$E$5 -> YOSEN | G14: =SUM(K14) -> 2 | I14: =SUM(L14) -> 1 | K14: 2 | L14: 1 | T14: 72 | U14: =TEXT(B14,"h:mm")&" "&($C$1)&" ("&C14&") "&E14&" "&" - ("&D14&") "&F14&"" -> 5:08 Bullet shot Cup (Швеция) Handzus - (Финляндия) YOSEN | V14: =TEXT(G14,"0")&":"&TEXT(I14,"0") -> 2:1
B15: 0.21666667 | C15: =TRIM($D$6) -> Чехия | D15: =TRIM($D$5) -> Финляндия | E15: =$E$6 -> AVTOMAT | F15: =$E$5 -> YOSEN | G15: =SUM(K15) -> 1 | I15: =SUM(L15) -> 1 | K15: 1 | L15: 1 | T15: 73 | U15: =TEXT(B15,"h:mm")&" "&($C$1)&" ("&C15&") "&E15&" "&" - ("&D15&") "&F15&"" -> 5:12 Bullet shot Cup (Чехия) AVTOMAT - (Финляндия) YOSEN | V15: =TEXT(G15,"0")&":"&TEXT(I15,"0") -> 1:1
B16: 0.21944444 | C16: =TRIM($D$6) -> Чехия | D16: =TRIM($D$5) -> Финляндия | E16: =$E$6 -> AVTOMAT | F16: =$E$5 -> YOSEN | G16: =SUM(K16) -> 2 | I16: =SUM(L16) -> 0 | K16: 2 | L16: 0 | T16: 74 | U16: =TEXT(B16,"h:mm")&" "&($C$1)&" ("&C16&") "&E16&" "&" - ("&D16&") "&F16&"" -> 5:16 Bullet shot Cup (Чехия) AVTOMAT - (Финляндия) YOSEN | V16: =TEXT(G16,"0")&":"&TEXT(I16,"0") -> 2:0
B17: 0.22222222 | C17: =TRIM($D$6) -> Чехия | D17: =TRIM($D$5) -> Финляндия | E17: =$E$6 -> AVTOMAT | F17: =$E$5 -> YOSEN | G17: =SUM(K17) -> 1 | I17: =SUM(L17) -> 1 | K17: 1 | L17: 1 | T17: 75 | U17: =TEXT(B17,"h:mm")&" "&($C$1)&" ("&C17&") "&E17&" "&" - ("&D17&") "&F17&"" -> 5:20 Bullet shot Cup (Чехия) AVTOMAT - (Финляндия) YOSEN | V17: =TEXT(G17,"0")&":"&TEXT(I17,"0") -> 1:1
B18: 0.225 | C18: =TRIM($D$6) -> Чехия | D18: =TRIM($D$4) -> Швеция | E18: =$E$6 -> AVTOMAT | F18: =$E$4 -> Handzus | G18: =SUM(K18) -> 0 | I18: =SUM(L18) -> 0 | K18: 0 | L18: 0 | T18: 76 | U18: =TEXT(B18,"h:mm")&" "&($C$1)&" ("&C18&") "&E18&" "&" - ("&D18&") "&F18&"" -> 5:24 Bullet shot Cup (Чехия) AVTOMAT - (Швеция) Handzus | V18: =TEXT(G18,"0")&":"&TEXT(I18,"0") -> 0:0
B19: 0.22777778 | C19: =TRIM($D$6) -> Чехия | D19: =TRIM($D$4) -> Швеция | E19: =$E$6 -> AVTOMAT | F19: =$E$4 -> Handzus | G19: =SUM(K19) -> 0 | I19: =SUM(L19,O19) -> 2 | K19: 0 | L19: 2 | T19: 77 | U19: =TEXT(B19,"h:mm")&" "&($C$1)&" ("&C19&") "&E19&" "&" - ("&D19&") "&F19&"" -> 5:28 Bullet shot Cup (Чехия) AVTOMAT - (Швеция) Handzus | V19: =TEXT(G19,"0")&":"&TEXT(I19,"0") -> 0:2
B20: 0.23055556 | C20: =TRIM($D$6) -> Чехия | D20: =TRIM($D$4) -> Швеция | E20: =$E$6 -> AVTOMAT | F20: =$E$4 -> Handzus | G20: =SUM(K20) -> 2 | I20: =SUM(L20,O20) -> 3 | K20: 2 | L20: 3 | T20: 78 | U20: =TEXT(B20,"h:mm")&" "&($C$1)&" ("&C20&") "&E20&" "&" - ("&D20&") "&F20&"" -> 5:32 Bullet shot Cup (Чехия) AVTOMAT - (Швеция) Handzus | V20: =TEXT(G20,"0")&":"&TEXT(I20,"0") -> 2:3
B21: 0.23333333 | C21: =TRIM($D$5) -> Финляндия | D21: =TRIM($D$4) -> Швеция | E21: =$E$5 -> YOSEN | F21: =$E$4 -> Handzus | G21: =SUM(K21) -> 1 | I21: =SUM(L21,O21) -> 1 | K21: 1 | L21: 1 | T21: 79 | U21: =TEXT(B21,"h:mm")&" "&($C$1)&" ("&C21&") "&E21&" "&" - ("&D21&") "&F21&"" -> 5:36 Bullet shot Cup (Финляндия) YOSEN - (Швеция) Handzus | V21: =TEXT(G21,"0")&":"&TEXT(I21,"0") -> 1:1
B22: 0.23611111 | C22: =TRIM($D$5) -> Финляндия | D22: =TRIM($D$4) -> Швеция | E22: =$E$5 -> YOSEN | F22: =$E$4 -> Handzus | G22: =SUM(K22) -> 2 | I22: =SUM(L22,O22) -> 1 | K22: 2 | L22: 1 | T22: 80 | U22: =TEXT(B22,"h:mm")&" "&($C$1)&" ("&C22&") "&E22&" "&" - ("&D22&") "&F22&"" -> 5:40 Bullet shot Cup (Финляндия) YOSEN - (Швеция) Handzus | V22: =TEXT(G22,"0")&":"&TEXT(I22,"0") -> 2:1
B23: 0.23888889 | C23: =TRIM($D$5) -> Финляндия | D23: =TRIM($D$4) -> Швеция | E23: =$E$5 -> YOSEN | F23: =$E$4 -> Handzus | G23: =SUM(K23) -> 1 | I23: =SUM(L23,O23) -> 1 | K23: 1 | L23: 1 | T23: 81 | U23: =TEXT(B23,"h:mm")&" "&($C$1)&" ("&C23&") "&E23&" "&" - ("&D23&") "&F23&"" -> 5:44 Bullet shot Cup (Финляндия) YOSEN - (Швеция) Handzus | V23: =TEXT(G23,"0")&":"&TEXT(I23,"0") -> 1:1
B24: 0.24166667 | C24: =TRIM($D$5) -> Финляндия | D24: =TRIM($D$6) -> Чехия | E24: =$E$5 -> YOSEN | F24: =$E$6 -> AVTOMAT | G24: =SUM(K24) -> 3 | I24: =SUM(L24) -> 1 | K24: 3 | L24: 1 | T24: 82 | U24: =TEXT(B24,"h:mm")&" "&($C$1)&" ("&C24&") "&E24&" "&" - ("&D24&") "&F24&"" -> 5:48 Bullet shot Cup (Финляндия) YOSEN - (Чехия) AVTOMAT | V24: =TEXT(G24,"0")&":"&TEXT(I24,"0") -> 3:1
B25: 0.24444444 | C25: =TRIM($D$5) -> Финляндия | D25: =TRIM($D$6) -> Чехия | E25: =$E$5 -> YOSEN | F25: =$E$6 -> AVTOMAT | G25: =SUM(K25) -> 2 | I25: =SUM(L25) -> 1 | K25: 2 | L25: 1 | T25: 83 | U25: =TEXT(B25,"h:mm")&" "&($C$1)&" ("&C25&") "&E25&" "&" - ("&D25&") "&F25&"" -> 5:52 Bullet shot Cup (Финляндия) YOSEN - (Чехия) AVTOMAT | V25: =TEXT(G25,"0")&":"&TEXT(I25,"0") -> 2:1
B26: 0.24722222 | C26: =TRIM($D$5) -> Финляндия | D26: =TRIM($D$6) -> Чехия | E26: =$E$5 -> YOSEN | F26: =$E$6 -> AVTOMAT | G26: =SUM(K26) -> 2 | I26: =SUM(L26) -> 1 | K26: 2 | L26: 1 | T26: 84 | U26: =TEXT(B26,"h:mm")&" "&($C$1)&" ("&C26&") "&E26&" "&" - ("&D26&") "&F26&"" -> 5:56 Bullet shot Cup (Финляндия) YOSEN - (Чехия) AVTOMAT | V26: =TEXT(G26,"0")&":"&TEXT(I26,"0") -> 2:1
B27: 0.25 | C27: =TRIM($D$4) -> Швеция | D27: =TRIM($D$6) -> Чехия | E27: =$E$4 -> Handzus | F27: =$E$6 -> AVTOMAT | G27: =SUM(K27) -> 2 | I27: =SUM(L27) -> 1 | K27: 2 | L27: 1 | T27: 85 | U27: =TEXT(B27,"h:mm")&" "&($C$1)&" ("&C27&") "&E27&" "&" - ("&D27&") "&F27&"" -> 6:00 Bullet shot Cup (Швеция) Handzus - (Чехия) AVTOMAT | V27: =TEXT(G27,"0")&":"&TEXT(I27,"0") -> 2:1
B28: 0.25277778 | C28: =TRIM($D$4) -> Швеция | D28: =TRIM($D$6) -> Чехия | E28: =$E$4 -> Handzus | F28: =$E$6 -> AVTOMAT | G28: =SUM(K28) -> 2 | I28: =SUM(L28) -> 1 | K28: 2 | L28: 1 | T28: 86 | U28: =TEXT(B28,"h:mm")&" "&($C$1)&" ("&C28&") "&E28&" "&" - ("&D28&") "&F28&"" -> 6:04 Bullet shot Cup (Швеция) Handzus - (Чехия) AVTOMAT | V28: =TEXT(G28,"0")&":"&TEXT(I28,"0") -> 2:1
B29: 0.25555556 | C29: =TRIM($D$4) -> Швеция | D29: =TRIM($D$6) -> Чехия | E29: =$E$4 -> Handzus | F29: =$E$6 -> AVTOMAT | G29: =SUM(K29) -> 2 | I29: =SUM(L29) -> 0 | K29: 2 | L29: 0 | T29: 87 | U29: =TEXT(B29,"h:mm")&" "&($C$1)&" ("&C29&") "&E29&" "&" - ("&D29&") "&F29&"" -> 6:08 Bullet shot Cup (Швеция) Handzus - (Чехия) AVTOMAT | V29: =TEXT(G29,"0")&":"&TEXT(I29,"0") -> 2:0
B30: 0.25833333 | C30: =TRIM($D$4) -> Швеция | D30: =TRIM($D$5) -> Финляндия | E30: =$E$4 -> Handzus | F30: =$E$5 -> YOSEN | G30: =SUM(K30) -> 2 | I30: =SUM(L30) -> 1 | K30: 2 | L30: 1 | T30: 88 | U30: =TEXT(B30,"h:mm")&" "&($C$1)&" ("&C30&") "&E30&" "&" - ("&D30&") "&F30&"" -> 6:12 Bullet shot Cup (Швеция) Handzus - (Финляндия) YOSEN | V30: =TEXT(G30,"0")&":"&TEXT(I30,"0") -> 2:1
B31: 0.26111111 | C31: =TRIM($D$4) -> Швеция | D31: =TRIM($D$5) -> Финляндия | E31: =$E$4 -> Handzus | F31: =$E$5 -> YOSEN | G31: =SUM(K31) -> 2 | I31: =SUM(L31,O31) -> 3 | K31: 2 | L31: 3 | T31: 89 | U31: =TEXT(B31,"h:mm")&" "&($C$1)&" ("&C31&") "&E31&" "&" - ("&D31&") "&F31&"" -> 6:16 Bullet shot Cup (Швеция) Handzus - (Финляндия) YOSEN | V31: =TEXT(G31,"0")&":"&TEXT(I31,"0") -> 2:3
B32: 0.26388889 | C32: =TRIM($D$4) -> Швеция | D32: =TRIM($D$5) -> Финляндия | E32: =$E$4 -> Handzus | F32: =$E$5 -> YOSEN | G32: =SUM(K32) -> 1 | I32: =SUM(L32,O32) -> 2 | K32: 1 | L32: 2 | T32: 90 | U32: =TEXT(B32,"h:mm")&" "&($C$1)&" ("&C32&") "&E32&" "&" - ("&D32&") "&F32&"" -> 6:20 Bullet shot Cup (Швеция) Handzus - (Финляндия) YOSEN | V32: =TEXT(G32,"0")&":"&TEXT(I32,"0") -> 1:2
B33: 0.26666667 | C33: =TRIM($D$6) -> Чехия | D33: =TRIM($D$5) -> Финляндия | E33: =$E$6 -> AVTOMAT | F33: =$E$5 -> YOSEN | G33: =SUM(K33) -> 1 | I33: =SUM(L33,O33) -> 2 | K33: 1 | L33: 2 | T33: 91 | U33: =TEXT(B33,"h:mm")&" "&($C$1)&" ("&C33&") "&E33&" "&" - ("&D33&") "&F33&"" -> 6:24 Bullet shot Cup (Чехия) AVTOMAT - (Финляндия) YOSEN | V33: =TEXT(G33,"0")&":"&TEXT(I33,"0") -> 1:2
B34: 0.26944444 | C34: =TRIM($D$6) -> Чехия | D34: =TRIM($D$5) -> Финляндия | E34: =$E$6 -> AVTOMAT | F34: =$E$5 -> YOSEN | G34: =SUM(K34) -> 1 | I34: =SUM(L34,O34) -> 2 | K34: 1 | L34: 2 | T34: 92 | U34: =TEXT(B34,"h:mm")&" "&($C$1)&" ("&C34&") "&E34&" "&" - ("&D34&") "&F34&"" -> 6:28 Bullet shot Cup (Чехия) AVTOMAT - (Финляндия) YOSEN | V34: =TEXT(G34,"0")&":"&TEXT(I34,"0") -> 1:2
B35: 0.27222222 | C35: =TRIM($D$6) -> Чехия | D35: =TRIM($D$5) -> Финляндия | E35: =$E$6 -> AVTOMAT | F35: =$E$5 -> YOSEN | G35: =SUM(K35) -> 3 | I35: =SUM(L35,O35) -> 3 | K35: 3 | L35: 3 | T35: 93 | U35: =TEXT(B35,"h:mm")&" "&($C$1)&" ("&C35&") "&E35&" "&" - ("&D35&") "&F35&"" -> 6:32 Bullet shot Cup (Чехия) AVTOMAT - (Финляндия) YOSEN | V35: =TEXT(G35,"0")&":"&TEXT(I35,"0") -> 3:3
B36: 0.275 | C36: =TRIM($D$6) -> Чехия | D36: =TRIM($D$4) -> Швеция | E36: =$E$6 -> AVTOMAT | F36: =$E$4 -> Handzus | G36: =SUM(K36) -> 2 | I36: =SUM(L36) -> 3 | K36: 2 | L36: 3 | T36: 94 | U36: =TEXT(B36,"h:mm")&" "&($C$1)&" ("&C36&") "&E36&" "&" - ("&D36&") "&F36&"" -> 6:36 Bullet shot Cup (Чехия) AVTOMAT - (Швеция) Handzus | V36: =TEXT(G36,"0")&":"&TEXT(I36,"0") -> 2:3
B37: 0.27777778 | C37: =TRIM($D$6) -> Чехия | D37: =TRIM($D$4) -> Швеция | E37: =$E$6 -> AVTOMAT | F37: =$E$4 -> Handzus | G37: =SUM(K37) -> 2 | I37: =SUM(L37) -> 3 | K37: 2 | L37: 3 | T37: 95 | U37: =TEXT(B37,"h:mm")&" "&($C$1)&" ("&C37&") "&E37&" "&" - ("&D37&") "&F37&"" -> 6:40 Bullet shot Cup (Чехия) AVTOMAT - (Швеция) Handzus | V37: =TEXT(G37,"0")&":"&TEXT(I37,"0") -> 2:3
B38: 0.28055556 | C38: =TRIM($D$6) -> Чехия | D38: =TRIM($D$4) -> Швеция | E38: =$E$6 -> AVTOMAT | F38: =$E$4 -> Handzus | G38: =SUM(K38) -> 1 | I38: =SUM(L38) -> 2 | K38: 1 | L38: 2 | T38: 96 | U38: =TEXT(B38,"h:mm")&" "&($C$1)&" ("&C38&") "&E38&" "&" - ("&D38&") "&F38&"" -> 6:44 Bullet shot Cup (Чехия) AVTOMAT - (Швеция) Handzus | V38: =TEXT(G38,"0")&":"&TEXT(I38,"0") -> 1:2
B39: 0.28333333 | C39: =TRIM($D$5) -> Финляндия | D39: =TRIM($D$4) -> Швеция | E39: =$E$5 -> YOSEN | F39: =$E$4 -> Handzus | G39: =SUM(K39) -> 3 | I39: =SUM(L39) -> 2 | K39: 3 | L39: 2 | T39: 97 | U39: =TEXT(B39,"h:mm")&" "&($C$1)&" ("&C39&") "&E39&" "&" - ("&D39&") "&F39&"" -> 6:48 Bullet shot Cup (Финляндия) YOSEN - (Швеция) Handzus | V39: =TEXT(G39,"0")&":"&TEXT(I39,"0") -> 3:2
B40: 0.28611111 | C40: =TRIM($D$5) -> Финляндия | D40: =TRIM($D$4) -> Швеция | E40: =$E$5 -> YOSEN | F40: =$E$4 -> Handzus | G40: =SUM(K40) -> 0 | I40: =SUM(L40) -> 2 | K40: 0 | L40: 2 | T40: 98 | U40: =TEXT(B40,"h:mm")&" "&($C$1)&" ("&C40&") "&E40&" "&" - ("&D40&") "&F40&"" -> 6:52 Bullet shot Cup (Финляндия) YOSEN - (Швеция) Handzus | V40: =TEXT(G40,"0")&":"&TEXT(I40,"0") -> 0:2
B41: 0.28888889 | C41: =TRIM($D$5) -> Финляндия | D41: =TRIM($D$4) -> Швеция | E41: =$E$5 -> YOSEN | F41: =$E$4 -> Handzus | G41: =SUM(K41) -> 1 | I41: =SUM(L41) -> 2 | K41: 1 | L41: 2 | T41: 99 | U41: =TEXT(B41,"h:mm")&" "&($C$1)&" ("&C41&") "&E41&" "&" - ("&D41&") "&F41&"" -> 6:56 Bullet shot Cup (Финляндия) YOSEN - (Швеция) Handzus | V41: =TEXT(G41,"0")&":"&TEXT(I41,"0") -> 1:2
B42: 0.29166667 | C42: =TRIM($D$5) -> Финляндия | D42: =TRIM($D$6) -> Чехия | E42: =$E$5 -> YOSEN | F42: =$E$6 -> AVTOMAT | G42: =SUM(K42) -> 2 | I42: =SUM(L42) -> 2 | K42: 2 | L42: 2 | T42: 100 | U42: =TEXT(B42,"h:mm")&" "&($C$1)&" ("&C42&") "&E42&" "&" - ("&D42&") "&F42&"" -> 7:00 Bullet shot Cup (Финляндия) YOSEN - (Чехия) AVTOMAT | V42: =TEXT(G42,"0")&":"&TEXT(I42,"0") -> 2:2
B43: 0.29444444 | C43: =TRIM($D$5) -> Финляндия | D43: =TRIM($D$6) -> Чехия | E43: =$E$5 -> YOSEN | F43: =$E$6 -> AVTOMAT | G43: =SUM(K43) -> 2 | I43: =SUM(L43,O43) -> 2 | K43: 2 | L43: 2 | T43: 101 | U43: =TEXT(B43,"h:mm")&" "&($C$1)&" ("&C43&") "&E43&" "&" - ("&D43&") "&F43&"" -> 7:04 Bullet shot Cup (Финляндия) YOSEN - (Чехия) AVTOMAT | V43: =TEXT(G43,"0")&":"&TEXT(I43,"0") -> 2:2
B44: 0.29722222 | C44: =TRIM($D$5) -> Финляндия | D44: =TRIM($D$6) -> Чехия | E44: =$E$5 -> YOSEN | F44: =$E$6 -> AVTOMAT | G44: =SUM(K44) -> 1 | I44: =SUM(L44,O44) -> 2 | K44: 1 | L44: 2 | T44: 102 | U44: =TEXT(B44,"h:mm")&" "&($C$1)&" ("&C44&") "&E44&" "&" - ("&D44&") "&F44&"" -> 7:08 Bullet shot Cup (Финляндия) YOSEN - (Чехия) AVTOMAT | V44: =TEXT(G44,"0")&":"&TEXT(I44,"0") -> 1:2
B45: 0.3 | C45: =TRIM($D$4) -> Швеция | D45: =TRIM($D$6) -> Чехия | E45: =$E$4 -> Handzus | F45: =$E$6 -> AVTOMAT | G45: =SUM(K45) -> 2 | I45: =SUM(L45,O45) -> 2 | K45: 2 | L45: 2 | T45: 103 | U45: =TEXT(B45,"h:mm")&" "&($C$1)&" ("&C45&") "&E45&" "&" - ("&D45&") "&F45&"" -> 7:12 Bullet shot Cup (Швеция) Handzus - (Чехия) AVTOMAT | V45: =TEXT(G45,"0")&":"&TEXT(I45,"0") -> 2:2
B46: 0.30277778 | C46: =TRIM($D$4) -> Швеция | D46: =TRIM($D$6) -> Чехия | E46: =$E$4 -> Handzus | F46: =$E$6 -> AVTOMAT | G46: =SUM(K46) -> 1 | I46: =SUM(L46,O46) -> 1 | K46: 1 | L46: 1 | T46: 104 | U46: =TEXT(B46,"h:mm")&" "&($C$1)&" ("&C46&") "&E46&" "&" - ("&D46&") "&F46&"" -> 7:16 Bullet shot Cup (Швеция) Handzus - (Чехия) AVTOMAT | V46: =TEXT(G46,"0")&":"&TEXT(I46,"0") -> 1:1
B47: 0.30555556 | C47: =TRIM($D$4) -> Швеция | D47: =TRIM($D$6) -> Чехия | E47: =$E$4 -> Handzus | F47: =$E$6 -> AVTOMAT | G47: =SUM(K47) -> 3 | I47: =SUM(L47,O47) -> 1 | K47: 3 | L47: 1 | T47: 105 | U47: =TEXT(B47,"h:mm")&" "&($C$1)&" ("&C47&") "&E47&" "&" - ("&D47&") "&F47&"" -> 7:20 Bullet shot Cup (Швеция) Handzus - (Чехия) AVTOMAT | V47: =TEXT(G47,"0")&":"&TEXT(I47,"0") -> 3:1
B48: 0.30833333 | C48: =TRIM($D$4) -> Швеция | D48: =TRIM($D$5) -> Финляндия | E48: =$E$4 -> Handzus | F48: =$E$5 -> YOSEN | G48: =SUM(K48) -> 2 | I48: =SUM(L48) -> 2 | K48: 2 | L48: 2 | T48: 106 | U48: =TEXT(B48,"h:mm")&" "&($C$1)&" ("&C48&") "&E48&" "&" - ("&D48&") "&F48&"" -> 7:24 Bullet shot Cup (Швеция) Handzus - (Финляндия) YOSEN | V48: =TEXT(G48,"0")&":"&TEXT(I48,"0") -> 2:2
B49: 0.31111111 | C49: =TRIM($D$4) -> Швеция | D49: =TRIM($D$5) -> Финляндия | E49: =$E$4 -> Handzus | F49: =$E$5 -> YOSEN | G49: =SUM(K49) -> 2 | I49: =SUM(L49,O49) -> 0 | K49: 2 | L49: 0 | T49: 107 | U49: =TEXT(B49,"h:mm")&" "&($C$1)&" ("&C49&") "&E49&" "&" - ("&D49&") "&F49&"" -> 7:28 Bullet shot Cup (Швеция) Handzus - (Финляндия) YOSEN | V49: =TEXT(G49,"0")&":"&TEXT(I49,"0") -> 2:0
B50: 0.31388889 | C50: =TRIM($D$4) -> Швеция | D50: =TRIM($D$5) -> Финляндия | E50: =$E$4 -> Handzus | F50: =$E$5 -> YOSEN | G50: =SUM(K50) -> 1 | I50: =SUM(L50,O50) -> 1 | K50: 1 | L50: 1 | T50: 108 | U50: =TEXT(B50,"h:mm")&" "&($C$1)&" ("&C50&") "&E50&" "&" - ("&D50&") "&F50&"" -> 7:32 Bullet shot Cup (Швеция) Handzus - (Финляндия) YOSEN | V50: =TEXT(G50,"0")&":"&TEXT(I50,"0") -> 1:1
B51: 0.31666667 | C51: =TRIM($D$6) -> Чехия | D51: =TRIM($D$5) -> Финляндия | E51: =$E$6 -> AVTOMAT | F51: =$E$5 -> YOSEN | G51: =SUM(K51) -> 1 | I51: =SUM(L51,O51) -> 1 | K51: 1 | L51: 1 | T51: 109 | U51: =TEXT(B51,"h:mm")&" "&($C$1)&" ("&C51&") "&E51&" "&" - ("&D51&") "&F51&"" -> 7:36 Bullet shot Cup (Чехия) AVTOMAT - (Финляндия) YOSEN | V51: =TEXT(G51,"0")&":"&TEXT(I51,"0") -> 1:1
B52: 0.31944444 | C52: =TRIM($D$6) -> Чехия | D52: =TRIM($D$5) -> Финляндия | E52: =$E$6 -> AVTOMAT | F52: =$E$5 -> YOSEN | G52: =SUM(K52) -> 1 | I52: =SUM(L52,O52) -> 2 | K52: 1 | L52: 2 | T52: 110 | U52: =TEXT(B52,"h:mm")&" "&($C$1)&" ("&C52&") "&E52&" "&" - ("&D52&") "&F52&"" -> 7:40 Bullet shot Cup (Чехия) AVTOMAT - (Финляндия) YOSEN | V52: =TEXT(G52,"0")&":"&TEXT(I52,"0") -> 1:2
B53: 0.32222222 | C53: =TRIM($D$6) -> Чехия | D53: =TRIM($D$5) -> Финляндия | E53: =$E$6 -> AVTOMAT | F53: =$E$5 -> YOSEN | G53: =SUM(K53) -> 2 | I53: =SUM(L53,O53) -> 0 | K53: 2 | L53: 0 | T53: 111 | U53: =TEXT(B53,"h:mm")&" "&($C$1)&" ("&C53&") "&E53&" "&" - ("&D53&") "&F53&"" -> 7:44 Bullet shot Cup (Чехия) AVTOMAT - (Финляндия) YOSEN | V53: =TEXT(G53,"0")&":"&TEXT(I53,"0") -> 2:0
B54: 0.325 | C54: =TRIM($D$6) -> Чехия | D54: =TRIM($D$4) -> Швеция | E54: =$E$6 -> AVTOMAT | F54: =$E$4 -> Handzus | G54: =SUM(K54) -> 0 | I54: =SUM(L54) -> 2 | K54: 0 | L54: 2 | T54: 112 | U54: =TEXT(B54,"h:mm")&" "&($C$1)&" ("&C54&") "&E54&" "&" - ("&D54&") "&F54&"" -> 7:48 Bullet shot Cup (Чехия) AVTOMAT - (Швеция) Handzus | V54: =TEXT(G54,"0")&":"&TEXT(I54,"0") -> 0:2
B55: 0.32777778 | C55: =TRIM($D$6) -> Чехия | D55: =TRIM($D$4) -> Швеция | E55: =$E$6 -> AVTOMAT | F55: =$E$4 -> Handzus | G55: =SUM(K55) -> 0 | I55: =SUM(L55) -> 1 | K55: 0 | L55: 1 | T55: 113 | U55: =TEXT(B55,"h:mm")&" "&($C$1)&" ("&C55&") "&E55&" "&" - ("&D55&") "&F55&"" -> 7:52 Bullet shot Cup (Чехия) AVTOMAT - (Швеция) Handzus | V55: =TEXT(G55,"0")&":"&TEXT(I55,"0") -> 0:1
B56: 0.33055556 | C56: =TRIM($D$6) -> Чехия | D56: =TRIM($D$4) -> Швеция | E56: =$E$6 -> AVTOMAT | F56: =$E$4 -> Handzus | G56: =SUM(K56) -> 1 | I56: =SUM(L56) -> 1 | K56: 1 | L56: 1 | T56: 114 | U56: =TEXT(B56,"h:mm")&" "&($C$1)&" ("&C56&") "&E56&" "&" - ("&D56&") "&F56&"" -> 7:56 Bullet shot Cup (Чехия) AVTOMAT - (Швеция) Handzus | V56: =TEXT(G56,"0")&":"&TEXT(I56,"0") -> 1:1
C58: Гл.Судья - | F58: Ст.Судья -

Sheet АВТОМАТИЗАЦИЯ
D3: Bullet shot Cup | F3: ТУР1 | G3: ='ТУР1'!$F$1 -> 45697 | I3: Bullet shot Cup | K3: ТУР2 | L3: ='ТУР1'!$F$1 -> 45697
D5: Участник | E5: Команда | F5: Никнейм | I5: Участник | J5: Команда | K5: Никнейм
D6: ='ТУР1'!$C$4 -> Эмиль С. | E6: ='ТУР1'!$D$4 -> Канада | F6: ='ТУР1'!$E$4 -> Emqa | I6: ='ТУР2'!$C$4 -> Эмиль С. | J6: ='ТУР2'!$D$4 -> Финляндия | K6: ='ТУР2'!$E$4 -> Emqa
D7: ='ТУР1'!$C$5 -> Адис А. | E7: ='ТУР1'!$D$5 -> США | F7: ='ТУР1'!$E$5 -> Adisey95 | I7: ='ТУР2'!$C$5 -> Адис А. | J7: ='ТУР2'!$D$5 -> Чехия | K7: ='ТУР2'!$E$5 -> Adisey95
D8: ='ТУР1'!$C$6 -> Ренат И. | E8: ='ТУР1'!$D$6 -> Швеция | F8: ='ТУР1'!$E$6 -> Slippers | I8: ='ТУР2'!$C$6 -> Ренат И. | J8: ='ТУР2'!$D$6 -> Германия | K8: ='ТУР2'!$E$6 -> Slippers
D12: Bullet shot Cup | F12: ТУР3 | G12: ='ТУР1'!$F$1 -> 45697 | I12: Bullet shot Cup | K12: ТУР4 | L12: ='ТУР1'!$F$1 -> 45697
D14: Участник | E14: Команда | F14: Никнейм | I14: Участник | J14: Команда | K14: Никнейм
D15: ='ТУР3'!$C$4 -> Руслан С. | E15: ='ТУР3'!$D$4 -> Швейцария | F15: ='ТУР3'!$E$4 -> rio2k | I15: ='ТУР4'!$C$4 -> Руслан С. | J15: ='ТУР4'!$D$4 -> Швеция | K15: ='ТУР4'!$E$4 -> rio2k
D16: ='ТУР3'!$C$5 -> Дмитрий П. | E16: ='ТУР3'!$D$5 -> Канада | F16: ='ТУР3'!$E$5 -> MBK | I16: ='ТУР4'!$C$5 -> Дмитрий П. | J16: ='ТУР4'!$D$5 -> Финляндия | K16: ='ТУР4'!$E$5 -> MBK
D17: ='ТУР3'!$C$6 -> Илья Я. | E17: ='ТУР3'!$D$6 -> США | F17: ='ТУР3'!$E$6 -> Deqim | I17: ='ТУР4'!$C$6 -> Илья Я. | J17: ='ТУР4'!$D$6 -> Чехия | K17: ='ТУР4'!$E$6 -> Deqim
D21: Bullet shot Cup | F21: ТУР5 | G21: ='ТУР1'!$F$1 -> 45697 | I21: Bullet shot Cup | K21: ТУР6 | L21: ='ТУР1'!$F$1 -> 45697
D23: Участник | E23: Команда | F23: Никнейм | I23: Участник | J23: Команда | K23: Никнейм
D24: ='ТУР5'!$C$4 -> Руслан С. | E24: ='ТУР5'!$D$4 -> Канада | F24: ='ТУР5'!$E$4 -> rio2k | I24: ='ТУР6'!$C$4 -> Евгений Б. | J24: ='ТУР6'!$D$4 -> Финляндия | K24: ='ТУР6'!$E$4 -> Handzus
D25: ='ТУР5'!$C$5 -> Дмитрий П. | E25: ='ТУР5'!$D$5 -> США | F25: ='ТУР5'!$E$5 -> MBK | I25: ='ТУР6'!$C$5 -> Михаил Ж. | J25: ='ТУР6'!$D$5 -> Чехия | K25: ='ТУР6'!$E$5 -> YOSEN
D26: ='ТУР5'!$C$6 -> Илья Я. | E26: ='ТУР5'!$D$6 -> Швеция | F26: ='ТУР5'!$E$6 -> Deqim | I26: ='ТУР6'!$C$6 -> Вильдан А. | J26: ='ТУР6'!$D$6 -> Германия | K26: ='ТУР6'!$E$6 -> AVTOMAT
D30: Bullet shot Cup | F30: ТУР7 | G30: ='ТУР1'!$F$1 -> 45697 | I30: Bullet shot Cup | K30: ТУР8 | L30: ='ТУР1'!$F$1 -> 45697
D32: Участник | E32: Команда | F32: Никнейм | I32: Участник | J32: Команда | K32: Никнейм
D33: ='ТУР7'!$C$4 -> Евгений Б. | E33: ='ТУР7'!$D$4 -> Швейцария | F33: ='ТУР7'!$E$4 -> Handzus | I33: ='ТУР8'!$C$4 -> Евгений Б. | J33: ='ТУР8'!$D$4 -> Швеция | K33: ='ТУР8'!$E$4 -> Handzus
D34: ='ТУР7'!$C$5 -> Михаил Ж. | E34: ='ТУР7'!$D$5 -> Канада | F34: ='ТУР7'!$E$5 -> YOSEN | I34: ='ТУР8'!$C$5 -> Михаил Ж. | J34: ='ТУР8'!$D$5 -> Финляндия | K34: ='ТУР8'!$E$5 -> YOSEN
D35: ='ТУР7'!$C$6 -> Вильдан А. | E35: ='ТУР7'!$D$6 -> США | F35: ='ТУР7'!$E$6 -> AVTOMAT | I35: ='ТУР8'!$C$6 -> Вильдан А. | J35: ='ТУР8'!$D$6 -> Чехия | K35: ='ТУР8'!$E$6 -> AVTOMAT

Sheet Options
A1: Points
A2: points for a win | B2: 3
A3: points for a draw | B3: 1
A4: points for a loss | B4: 0
